BEGIN:VCALENDAR
VERSION:2.0
PRODID:-//SoCalPulse - ECPv6.15.20//NONSGML v1.0//EN
CALSCALE:GREGORIAN
METHOD:PUBLISH
X-ORIGINAL-URL:https://socalpulse.com
X-WR-CALDESC:Events for SoCalPulse
REFRESH-INTERVAL;VALUE=DURATION:PT1H
X-Robots-Tag:noindex
X-PUBLISHED-TTL:PT1H
BEGIN:VTIMEZONE
TZID:America/Los_Angeles
BEGIN:DAYLIGHT
TZOFFSETFROM:-0800
TZOFFSETTO:-0700
TZNAME:PDT
DTSTART:20240310T100000
END:DAYLIGHT
BEGIN:STANDARD
TZOFFSETFROM:-0700
TZOFFSETTO:-0800
TZNAME:PST
DTSTART:20241103T090000
END:STANDARD
BEGIN:DAYLIGHT
TZOFFSETFROM:-0800
TZOFFSETTO:-0700
TZNAME:PDT
DTSTART:20250309T100000
END:DAYLIGHT
BEGIN:STANDARD
TZOFFSETFROM:-0700
TZOFFSETTO:-0800
TZNAME:PST
DTSTART:20251102T090000
END:STANDARD
BEGIN:DAYLIGHT
TZOFFSETFROM:-0800
TZOFFSETTO:-0700
TZNAME:PDT
DTSTART:20260308T100000
END:DAYLIGHT
BEGIN:STANDARD
TZOFFSETFROM:-0700
TZOFFSETTO:-0800
TZNAME:PST
DTSTART:20261101T090000
END:STANDARD
END:VTIMEZONE
BEGIN:VEVENT
DTSTART;TZID=America/Los_Angeles:20250211T200000
DTEND;TZID=America/Los_Angeles:20250211T220000
DTSTAMP:20260421T100246
CREATED:20250126T061603Z
LAST-MODIFIED:20250126T061603Z
UID:205474-1739304000-1739311200@socalpulse.com
SUMMARY:Seong-Jin Cho\, A Colburn Celebrity Recital
DESCRIPTION:Seong-Jin Cho\, a pianist beloved by audiences worldwide\, returns to the Walt Disney Concert Hall for a highly anticipated recital of music by Maurice Ravel\, showcasing his tender yet assertive technique
URL:https://socalpulse.com/event/seong-jin-cho-a-colburn-celebrity-recital/
LOCATION:Walt Disney Concert Hall\, 111 S Grand Ave\, Los Angeles\, CA\, 90012\, United States
CATEGORIES:Los Angeles
ATTACH;FMTTYPE=image/png:https://socalpulse.com/wp-content/uploads/2025/01/Seong-Jin-Cho-Colburn-Celebrity-Recital.png
END:VEVENT
BEGIN:VEVENT
DTSTART;VALUE=DATE:20250213
DTEND;VALUE=DATE:20250217
DTSTAMP:20260421T100246
CREATED:20250126T062951Z
LAST-MODIFIED:20250126T062951Z
UID:205483-1739404800-1739750399@socalpulse.com
SUMMARY:Ravel & Brahms
DESCRIPTION:South Korean pianist Seong-Jin Cho returns to join the LA Philharmonic for Ravel’s joyful Concerto in G\, and Grammy award-winning conductor Paavo Järvi leads a Brahms quartet lovingly orchestrated by Schoenberg.
URL:https://socalpulse.com/event/ravel-brahms/
LOCATION:Walt Disney Concert Hall\, 111 S Grand Ave\, Los Angeles\, CA\, 90012\, United States
CATEGORIES:Los Angeles
ATTACH;FMTTYPE=image/png:https://socalpulse.com/wp-content/uploads/2025/01/Seong-Jin-Cho-Colburn-Celebrity-Recital.png
END:VEVENT
END:VCALENDAR