BEGIN:VCALENDAR
VERSION:2.0
PRODID:-//SoCalPulse - ECPv6.15.20//NONSGML v1.0//EN
CALSCALE:GREGORIAN
METHOD:PUBLISH
X-WR-CALNAME:SoCalPulse
X-ORIGINAL-URL:https://socalpulse.com
X-WR-CALDESC:Events for SoCalPulse
REFRESH-INTERVAL;VALUE=DURATION:PT1H
X-Robots-Tag:noindex
X-PUBLISHED-TTL:PT1H
BEGIN:VTIMEZONE
TZID:America/Los_Angeles
BEGIN:DAYLIGHT
TZOFFSETFROM:-0800
TZOFFSETTO:-0700
TZNAME:PDT
DTSTART:20240310T100000
END:DAYLIGHT
BEGIN:STANDARD
TZOFFSETFROM:-0700
TZOFFSETTO:-0800
TZNAME:PST
DTSTART:20241103T090000
END:STANDARD
BEGIN:DAYLIGHT
TZOFFSETFROM:-0800
TZOFFSETTO:-0700
TZNAME:PDT
DTSTART:20250309T100000
END:DAYLIGHT
BEGIN:STANDARD
TZOFFSETFROM:-0700
TZOFFSETTO:-0800
TZNAME:PST
DTSTART:20251102T090000
END:STANDARD
BEGIN:DAYLIGHT
TZOFFSETFROM:-0800
TZOFFSETTO:-0700
TZNAME:PDT
DTSTART:20260308T100000
END:DAYLIGHT
BEGIN:STANDARD
TZOFFSETFROM:-0700
TZOFFSETTO:-0800
TZNAME:PST
DTSTART:20261101T090000
END:STANDARD
END:VTIMEZONE
BEGIN:VTIMEZONE
TZID:America/Los_Angeles
BEGIN:DAYLIGHT
TZOFFSETFROM:-0800
TZOFFSETTO:-0700
TZNAME:PDT
DTSTART:20240310T100000
END:DAYLIGHT
BEGIN:STANDARD
TZOFFSETFROM:-0700
TZOFFSETTO:-0800
TZNAME:PST
DTSTART:20241103T090000
END:STANDARD
BEGIN:DAYLIGHT
TZOFFSETFROM:-0800
TZOFFSETTO:-0700
TZNAME:PDT
DTSTART:20250309T100000
END:DAYLIGHT
BEGIN:STANDARD
TZOFFSETFROM:-0700
TZOFFSETTO:-0800
TZNAME:PST
DTSTART:20251102T090000
END:STANDARD
BEGIN:DAYLIGHT
TZOFFSETFROM:-0800
TZOFFSETTO:-0700
TZNAME:PDT
DTSTART:20260308T100000
END:DAYLIGHT
BEGIN:STANDARD
TZOFFSETFROM:-0700
TZOFFSETTO:-0800
TZNAME:PST
DTSTART:20261101T090000
END:STANDARD
END:VTIMEZONE
BEGIN:VEVENT
DTSTART;VALUE=DATE:20251001
DTEND;VALUE=DATE:20251110
DTSTAMP:20260423T031622
CREATED:20250912T172343Z
LAST-MODIFIED:20250912T172343Z
UID:210237-1759276800-1762732799@socalpulse.com
SUMMARY:Jaja’s African Hair Braiding
DESCRIPTION:Step into Jaja’s African Hair Braiding in Harlem\, where West African immigrant braiders work their magic on locals’ locks. Beneath the surface of this riotous comedy lies a current of uncertainty\, pushing this close-knit community to confront challenges of being outsiders in their own neighborhood.
URL:https://socalpulse.com/event/jajas-african-hair-braiding/
LOCATION:Mark Taper Forum\, 135 N. Grand Avenue\, Los Angeles\, 90012\, United States
CATEGORIES:Los Angeles
ATTACH;FMTTYPE=image/jpeg:https://socalpulse.com/wp-content/uploads/2025/09/1.jpg
END:VEVENT
BEGIN:VEVENT
DTSTART;TZID=America/Los_Angeles:20251004T000000
DTEND;TZID=America/Los_Angeles:20251201T220000
DTSTAMP:20260423T031622
CREATED:20250905T032513Z
LAST-MODIFIED:20260203T224937Z
UID:210127-1759536000-1764626400@socalpulse.com
SUMMARY:Featured: Martha Graham Dance Company's 100th Anniversary
DESCRIPTION:The Martha Graham Dance Company’s centennial continues with three monumental pieces: Graham’s 1947 Night Journey\, a rarely seen work based on Oedipus; We the People\, with a folk score by Rhiannon Giddens\, a 2024 creation inspired by Graham’s longstanding sociopolitical critique; and a world premiere entitled En Masse that extends The Soraya’s commitment to Graham’s collaborations with composers. This new commission\, choreographed by Hope Boykin\, is a first-ever pairing of Graham and Leonard Bernstein. Their posthumous partnership\, inspired by a musical excerpt discovered in their correspondence\, headlines Graham’s worldwide centennial. Wild Up performs Christopher Rountree’s new arrangement of Bernstein\, as well as William Schuman’s score for Night Journey.
URL:https://socalpulse.com/event/test-martha-graham-dance-company-100th-anniversary/
LOCATION:The Soraya\, 18111 Nordhoff Street\, Northridge\, CA\, 91330\, United States
CATEGORIES:Los Angeles
ATTACH;FMTTYPE=image/jpeg:https://socalpulse.com/wp-content/uploads/2025/09/Test_Ad-1.jpg
END:VEVENT
BEGIN:VEVENT
DTSTART;VALUE=DATE:20251012
DTEND;VALUE=DATE:20251110
DTSTAMP:20260423T031622
CREATED:20250915T180207Z
LAST-MODIFIED:20250915T180207Z
UID:210289-1760227200-1762732799@socalpulse.com
SUMMARY:Joe Turner’s Come and Gone
DESCRIPTION:A powerful and poetic play set in a Pittsburgh boarding house in 1911 that follows a group of men and women searching for lost family\, identity\, and purpose in the aftermath of slavery and during the Great Migration. With rich characters and lyrical dialogue\, the play explores themes of freedom\, self-discovery\, and the enduring power of community and spiritual healing.
URL:https://socalpulse.com/event/joe-turners-come-and-gone/
LOCATION:A Noise Within\, 3352 E. Foothill Blvd.\, Pasadena\, CA\, 91107\, United States
CATEGORIES:Los Angeles
ATTACH;FMTTYPE=image/jpeg:https://socalpulse.com/wp-content/uploads/2025/09/16.jpg
END:VEVENT
BEGIN:VEVENT
DTSTART;VALUE=DATE:20251014
DTEND;VALUE=DATE:20251103
DTSTAMP:20260423T031622
CREATED:20250915T180802Z
LAST-MODIFIED:20250915T180802Z
UID:210294-1760400000-1762127999@socalpulse.com
SUMMARY:Guac
DESCRIPTION:A fearless\, funny and deeply moving story about a father turned activist. Seven years after his son was killed in the Parkland shooting\, Manuel Oliver channels his love\, loss and rage into a powerful force for change.
URL:https://socalpulse.com/event/guac/
LOCATION:Kirk Douglas Theatre\, 9820 Washington Blvd\, Culver City\, CA\, 90232\, United States
CATEGORIES:Los Angeles
ATTACH;FMTTYPE=image/jpeg:https://socalpulse.com/wp-content/uploads/2025/09/Guac.jpg
END:VEVENT
BEGIN:VEVENT
DTSTART;VALUE=DATE:20251021
DTEND;VALUE=DATE:20251103
DTSTAMP:20260423T031622
CREATED:20251021T215420Z
LAST-MODIFIED:20251021T215420Z
UID:211241-1761004800-1762127999@socalpulse.com
SUMMARY:Musical Theatre West Presents Hello\, Dolly!
DESCRIPTION:Only two weekends left to experience Hello\, Dolly! in Long Beach at the Carpenter Performing Arts Center! Don’t miss your chance to see Dolly Levi’s charm\, wit\, and unforgettable songs come to life on stage. From the sparkling “Put On Your Sunday Clothes” to the heartwarming “Before the Parade Passes By\,” this Broadway classic is bursting with joy\, music\, and magic. Seats are going fast\, reserve yours today!
URL:https://socalpulse.com/event/musical-theatre-west-presents-hello-dolly/
LOCATION:Carpenter Performing Arts Center\, 6200 E. Atherton St.\, LONG BEACH\, CA\, 90840\, United States
CATEGORIES:Los Angeles
ATTACH;FMTTYPE=image/jpeg:https://socalpulse.com/wp-content/uploads/2025/10/HelloDolly.jpg
END:VEVENT
BEGIN:VEVENT
DTSTART;VALUE=DATE:20251026
DTEND;VALUE=DATE:20251127
DTSTAMP:20260423T031622
CREATED:20250915T181500Z
LAST-MODIFIED:20250915T181500Z
UID:210301-1761436800-1764201599@socalpulse.com
SUMMARY:The Heart Sellers
DESCRIPTION:Set eight years after the Hart-Cellar Act overhauled U.S. immigration policy\, this heartwarming comedy follows two immigrant women who bond over life in America.
URL:https://socalpulse.com/event/the-heart-sellers-2/
LOCATION:Segerstrom Center for the Arts\, 600 Town Center Drive\, Costa Mesa\, CA\, 92626\, United States
CATEGORIES:Orange County
ATTACH;FMTTYPE=image/jpeg:https://socalpulse.com/wp-content/uploads/2025/09/18.jpg
END:VEVENT
BEGIN:VEVENT
DTSTART;VALUE=DATE:20251028
DTEND;VALUE=DATE:20251103
DTSTAMP:20260423T031622
CREATED:20250916T014405Z
LAST-MODIFIED:20250916T014405Z
UID:210343-1761609600-1762127999@socalpulse.com
SUMMARY:Moulin Rouge! The Musical
DESCRIPTION:Enter a world of splendor and romance\, where bohemians and aristocrats rub elbows in this 10-time Tony Award-winning musical.
URL:https://socalpulse.com/event/moulin-rouge-the-musical/
LOCATION:Segerstrom Center for the Arts\, 600 Town Center Drive\, Costa Mesa\, CA\, 92626\, United States
CATEGORIES:Orange County
ATTACH;FMTTYPE=image/jpeg:https://socalpulse.com/wp-content/uploads/2025/09/27.jpg
END:VEVENT
BEGIN:VEVENT
DTSTART;VALUE=DATE:20251031
DTEND;VALUE=DATE:20251124
DTSTAMP:20260423T031622
CREATED:20250916T014956Z
LAST-MODIFIED:20250916T014956Z
UID:210350-1761868800-1763942399@socalpulse.com
SUMMARY:Peter Pan Goes Wrong
DESCRIPTION:The team behind the hilarious hit\, The Play That Goes Wrong\, bring their trademark comic mayhem to the J. M. Barrie classic Peter Pan. The much-loved members of The Cornley Drama Society once again battle against technical hitches\, flying mishaps and cast disputes on their way to Neverland with hilarious and (of course) disastrous results.
URL:https://socalpulse.com/event/peter-pan-goes-wrong-2/
LOCATION:La Mirada Theatre\, 14900 La Mirada Blvd\, La Mirada\, 90638\, United States
CATEGORIES:Los Angeles
ATTACH;FMTTYPE=image/jpeg:https://socalpulse.com/wp-content/uploads/2025/09/peterpan.jpg
END:VEVENT
BEGIN:VEVENT
DTSTART;TZID=America/Los_Angeles:20251101T193000
DTEND;TZID=America/Los_Angeles:20251101T193000
DTSTAMP:20260423T031622
CREATED:20250922T172230Z
LAST-MODIFIED:20250922T172230Z
UID:210469-1762025400-1762025400@socalpulse.com
SUMMARY:A Night of Comedy with Kevin Nealon
DESCRIPTION:Best known for his nine-year stint on NBCs Saturday Night Live  and his leading role on Showtime’s hit series Weeds\, Kevin Nealon makes his BroadStage debut for a night of comedy.
URL:https://socalpulse.com/event/a-night-of-comedy-with-kevin-nealon/
LOCATION:broadstage\, 1310 11TH STREET\, Santa Monica\, CA\, 90401\, United States
CATEGORIES:Los Angeles
ATTACH;FMTTYPE=image/jpeg:https://socalpulse.com/wp-content/uploads/2025/09/Kevin.jpg
END:VEVENT
BEGIN:VEVENT
DTSTART;TZID=America/Los_Angeles:20251103T150000
DTEND;TZID=America/Los_Angeles:20251103T170000
DTSTAMP:20260423T031622
CREATED:20250922T172541Z
LAST-MODIFIED:20250922T172541Z
UID:210472-1762182000-1762189200@socalpulse.com
SUMMARY:Nobuyuki Tsujii\, piano
DESCRIPTION:Despite being blind from birth\, Japanese pianist Nobuyuki Tsujii (Nobu)’s breathtaking artistry and expressive power have earned him a place among the greatest musicians of his generation.
URL:https://socalpulse.com/event/nobuyuki-tsujii-piano/
LOCATION:Segerstrom Center for the Arts\, 600 Town Center Drive\, Costa Mesa\, CA\, 92626\, United States
CATEGORIES:Los Angeles
ATTACH;FMTTYPE=image/jpeg:https://socalpulse.com/wp-content/uploads/2025/09/2-1.jpg
END:VEVENT
BEGIN:VEVENT
DTSTART;TZID=America/Los_Angeles:20251107T193000
DTEND;TZID=America/Los_Angeles:20251107T213000
DTSTAMP:20260423T031622
CREATED:20250926T171808Z
LAST-MODIFIED:20250926T171808Z
UID:210586-1762543800-1762551000@socalpulse.com
SUMMARY:Where the Shining Trumpets Blow: Payare Leads Bruckner No. 4
DESCRIPTION:Bruckner’s spacious symphonies are filled with images of the countryside and high mountains of his native Austria; his Symphony No. 4 “Romantic” is especially loved for its magnificent writing for the horns\, using these instruments to suggest wild huntsmen riding across a landscape.
URL:https://socalpulse.com/event/where-the-shining-trumpets-blow-payare-leads-bruckner-no-4/
LOCATION:Jacobs Music Center\, 1245 Seventh Avenue\, San Diego\, California\, 92101
CATEGORIES:San Diego
ATTACH;FMTTYPE=image/jpeg:https://socalpulse.com/wp-content/uploads/2025/09/2-2.jpg
END:VEVENT
BEGIN:VEVENT
DTSTART;VALUE=DATE:20251108
DTEND;VALUE=DATE:20251109
DTSTAMP:20260423T031622
CREATED:20250926T172122Z
LAST-MODIFIED:20250926T172122Z
UID:210589-1762560000-1762646399@socalpulse.com
SUMMARY:Symphonie Fantastique!
DESCRIPTION:Pianist Orion Weiss headlines in a performance that features Berlioz’ Symphonie Fantastique as well as Ravel’s Piano Concerto in G Major and Jim Self’s Tour de Force.
URL:https://socalpulse.com/event/symphonie-fantastique/
LOCATION:Ambassador Auditorium\, 131 S St. John Avenue\, Pasadena\, CA\, 91105\, United States
CATEGORIES:Los Angeles
ATTACH;FMTTYPE=image/jpeg:https://socalpulse.com/wp-content/uploads/2025/09/3-1.jpg
END:VEVENT
BEGIN:VEVENT
DTSTART;TZID=America/Los_Angeles:20251108T200000
DTEND;TZID=America/Los_Angeles:20251108T213000
DTSTAMP:20260423T031622
CREATED:20251007T222757Z
LAST-MODIFIED:20251007T222840Z
UID:210870-1762632000-1762637400@socalpulse.com
SUMMARY:Alonzo King LINES Ballet
DESCRIPTION:Celebrated contemporary dance company Alonzo King LINES Ballet perform at the Carpenter Center in Long Beach on November 8 at 8 p.m. One of L.A. Times top-10 dance picks\, the program features two recent works by visionary choreographer Alonzo King. Mesmerized by Coltrane’s music from an early age\, King honors the legendary spiritual leader\, composer\, pianist\, and harpist in “Ode to Alice Coltrane\,” while “Ma mère l’Oye” (Mother Goose) unearths the allegorical meanings beneath the fairy tales in Ravel’s enchanting 1912 suite.
URL:https://socalpulse.com/event/alonzo-king-lines-ballet/
LOCATION:Carpenter Performing Arts Center\, 6200 E. Atherton St.\, LONG BEACH\, CA\, 90840\, United States
CATEGORIES:Los Angeles
ATTACH;FMTTYPE=image/jpeg:https://socalpulse.com/wp-content/uploads/2025/10/1aa.jpg
END:VEVENT
BEGIN:VEVENT
DTSTART;TZID=America/Los_Angeles:20251109T180000
DTEND;TZID=America/Los_Angeles:20251109T200000
DTSTAMP:20260423T031622
CREATED:20250926T172457Z
LAST-MODIFIED:20250926T172457Z
UID:210592-1762711200-1762718400@socalpulse.com
SUMMARY:LA Sings! What A Beautiful City
DESCRIPTION:LA Master Chorale\, with MUSE/IQUE\, comes together for a mega sing-along that transforms the audience into one big choir.
URL:https://socalpulse.com/event/la-sings-what-a-beautiful-city/
LOCATION:Walt Disney Concert Hall\, 111 S Grand Ave\, Los Angeles\, CA\, 90012\, United States
CATEGORIES:Los Angeles
ATTACH;FMTTYPE=image/jpeg:https://socalpulse.com/wp-content/uploads/2025/09/5.jpg
END:VEVENT
BEGIN:VEVENT
DTSTART;VALUE=DATE:20251111
DTEND;VALUE=DATE:20251124
DTSTAMP:20260423T031622
CREATED:20250926T173220Z
LAST-MODIFIED:20250926T173220Z
UID:210598-1762819200-1763942399@socalpulse.com
SUMMARY:Shucked
DESCRIPTION:Shucked is a Tony Award-winning musical comedy featuring a book by Tony Award-winner Robert Horn (Tootsie). This corn-fed\, corn-bred American musical is sure to satisfy your appetite for great musical theater.
URL:https://socalpulse.com/event/shucked/
LOCATION:Segerstrom Center for the Arts\, 600 Town Center Drive\, Costa Mesa\, CA\, 92626\, United States
CATEGORIES:Orange County
ATTACH;FMTTYPE=image/jpeg:https://socalpulse.com/wp-content/uploads/2025/09/7.jpg
END:VEVENT
BEGIN:VEVENT
DTSTART;TZID=America/Los_Angeles:20251111T200000
DTEND;TZID=America/Los_Angeles:20251111T220000
DTSTAMP:20260423T031622
CREATED:20250926T172704Z
LAST-MODIFIED:20250926T172704Z
UID:210595-1762891200-1762898400@socalpulse.com
SUMMARY:Angélica Negrón & Lido Pimienta
DESCRIPTION:Puerto Rican and Colombian composers come together for an empowering program with the LA Phil New Music Group.
URL:https://socalpulse.com/event/angelica-negron-lido-pimienta/
LOCATION:Walt Disney Concert Hall\, 111 S Grand Ave\, Los Angeles\, CA\, 90012\, United States
CATEGORIES:Los Angeles
ATTACH;FMTTYPE=image/jpeg:https://socalpulse.com/wp-content/uploads/2025/09/6-1.jpg
END:VEVENT
BEGIN:VEVENT
DTSTART;VALUE=DATE:20251113
DTEND;VALUE=DATE:20251208
DTSTAMP:20260423T031622
CREATED:20250926T174346Z
LAST-MODIFIED:20251007T222251Z
UID:210604-1762992000-1765151999@socalpulse.com
SUMMARY:Paranormal Activity
DESCRIPTION:An original story set in the world of the terrifying Paranormal Activity film franchise\, this world premiere play will haunt you long after the lights go out
URL:https://socalpulse.com/event/paranormal-activity/
LOCATION:Ahmanson Theatre\, 135 N Grand Ave\, Los Angeles\, CA\, 90012\, United States
CATEGORIES:Los Angeles
ATTACH;FMTTYPE=image/jpeg:https://socalpulse.com/wp-content/uploads/2025/09/9.jpg
END:VEVENT
BEGIN:VEVENT
DTSTART;TZID=America/Los_Angeles:20251113T193000
DTEND;TZID=America/Los_Angeles:20251113T213000
DTSTAMP:20260423T031622
CREATED:20250926T173453Z
LAST-MODIFIED:20250926T173453Z
UID:210601-1763062200-1763069400@socalpulse.com
SUMMARY:Adventure for Change
DESCRIPTION:Follow a series of adventures with National Geographic Explorer Gregg Treinish and his team as they collect raw data that could change our understanding of the world around us.
URL:https://socalpulse.com/event/adventure-for-change/
LOCATION:broadstage\, 1310 11TH STREET\, Santa Monica\, CA\, 90401\, United States
CATEGORIES:Los Angeles
ATTACH;FMTTYPE=image/jpeg:https://socalpulse.com/wp-content/uploads/2025/09/8.jpg
END:VEVENT
BEGIN:VEVENT
DTSTART;VALUE=DATE:20251114
DTEND;VALUE=DATE:20251116
DTSTAMP:20260423T031622
CREATED:20250926T174629Z
LAST-MODIFIED:20250926T174629Z
UID:210607-1763078400-1763251199@socalpulse.com
SUMMARY:Tales of Enchantment: Hadelich Plays Sibelius
DESCRIPTION:From Schubert in the early 19th century to Sibelius 100 years later\, the Romantic composers were fascinated by the strange and the exotic\, by the unfamiliar and the otherworldly.
URL:https://socalpulse.com/event/tales-of-enchantment-hadelich-plays-sibelius/
LOCATION:Jacobs Music Center\, 1245 Seventh Avenue\, San Diego\, California\, 92101
CATEGORIES:San Diego
ATTACH;FMTTYPE=image/jpeg:https://socalpulse.com/wp-content/uploads/2025/09/10-1.jpg
END:VEVENT
BEGIN:VEVENT
DTSTART;VALUE=DATE:20251114
DTEND;VALUE=DATE:20251116
DTSTAMP:20260423T031622
CREATED:20250926T174842Z
LAST-MODIFIED:20250926T174842Z
UID:210610-1763078400-1763251199@socalpulse.com
SUMMARY:Dolly Parton’s Threads: My Songs in Symphony
DESCRIPTION:Dolly Parton’s most treasured works reimagined with cinematic sweep and personal depth with the Pacific Symphony led by Enrico Lopez-Yañez.
URL:https://socalpulse.com/event/dolly-partons-threads-my-songs-in-symphony/
LOCATION:Segerstrom Center for the Arts\, 600 Town Center Drive\, Costa Mesa\, CA\, 92626\, United States
CATEGORIES:Orange County
ATTACH;FMTTYPE=image/jpeg:https://socalpulse.com/wp-content/uploads/2025/09/11-1.jpg
END:VEVENT
BEGIN:VEVENT
DTSTART;VALUE=DATE:20251115
DTEND;VALUE=DATE:20251123
DTSTAMP:20260423T031622
CREATED:20251021T215152Z
LAST-MODIFIED:20251021T215519Z
UID:211238-1763164800-1763855999@socalpulse.com
SUMMARY:Celebrate Storytelling Through Dance This Fall at The Soraya
DESCRIPTION:The Soraya presents two extraordinary dance performances this November that showcase the power of movement and imagination. On Saturday\, November 15 at 8 p.m.\, Ballet BC returns with Bolero X\, a reimagining of Ravel’s iconic masterpiece by Israeli choreographer Shahar Binyamini. Featuring Ballet BC’s acclaimed company alongside dancers from the USC Glorya Kaufman School of Dance\, the work amplifies the rhythmic pulse and emotional sweep of Bolero into a breathtaking celebration of joy. \nA week later\, on Saturday\, November 22 at 3 p.m.\, MOMIX brings Alice to life—Moses Pendleton’s mesmerizing take on Alice in Wonderland. With eight versatile dancers transforming through inventive costumes\, vivid projections\, and imaginative props\, this surreal journey transcends Lewis Carroll’s tale\, blending illusion\, athleticism\, and artistry into a visual feast for all ages.
URL:https://socalpulse.com/event/celebrate-storytelling-through-dance-this-fall-at-the-soraya/
LOCATION:The Soraya\, 18111 Nordhoff Street\, Northridge\, CA\, 91330\, United States
CATEGORIES:Los Angeles
ATTACH;FMTTYPE=image/jpeg:https://socalpulse.com/wp-content/uploads/2025/10/momix.jpg
END:VEVENT
BEGIN:VEVENT
DTSTART;TZID=America/Los_Angeles:20251115T180000
DTEND;TZID=America/Los_Angeles:20251115T200000
DTSTAMP:20260423T031622
CREATED:20250926T175150Z
LAST-MODIFIED:20250926T175150Z
UID:210613-1763229600-1763236800@socalpulse.com
SUMMARY:Lea Salonga: Stage\, Screen & Everything in Between
DESCRIPTION:Musical theatre royalty and official Disney Legend Lea Salonga is bringing her acclaimed Stage\, Screen & Everything In Between tour to the Rady Shell. Lea will perform songs from her iconic roles from Miss Saigon\, Les Misérables\, Aladdin and Mulan.
URL:https://socalpulse.com/event/lea-salonga-stage-screen-everything-in-between-2/
LOCATION:The Rady Shell at Jacob Parks\, 222 Marina Park Way\, San Diego\, CA\, 92101\, United States
CATEGORIES:San Diego
ATTACH;FMTTYPE=image/jpeg:https://socalpulse.com/wp-content/uploads/2025/09/lea.jpg
END:VEVENT
BEGIN:VEVENT
DTSTART;TZID=America/Los_Angeles:20251116T160000
DTEND;TZID=America/Los_Angeles:20251116T180000
DTSTAMP:20260423T031622
CREATED:20250926T175709Z
LAST-MODIFIED:20250926T175709Z
UID:210619-1763308800-1763316000@socalpulse.com
SUMMARY:Takàcs Quartet
DESCRIPTION:Grammy Award winning Takács Quartet returns to BroadStage with a captivating program of classical masterpieces and a bold new work proudly co-commissioned by BroadStage.
URL:https://socalpulse.com/event/takacs-quartet-2/
LOCATION:broadstage\, 1310 11TH STREET\, Santa Monica\, CA\, 90401\, United States
CATEGORIES:Los Angeles
ATTACH;FMTTYPE=image/jpeg:https://socalpulse.com/wp-content/uploads/2025/09/takacs.jpg
END:VEVENT
BEGIN:VEVENT
DTSTART;TZID=America/Los_Angeles:20251116T180000
DTEND;TZID=America/Los_Angeles:20251116T200000
DTSTAMP:20260423T031622
CREATED:20250926T175415Z
LAST-MODIFIED:20250926T175415Z
UID:210616-1763316000-1763323200@socalpulse.com
SUMMARY:Davina and The Vagabonds
DESCRIPTION:Davina Sowers and the Vagabonds have created a stir on the national music scene with their high-energy live shows\, level A musicianship\, sharp-dressed professionalism\, and Sowers’ commanding stage presence.
URL:https://socalpulse.com/event/davina-and-the-vagabonds/
LOCATION:Jacobs Music Center\, 1245 Seventh Avenue\, San Diego\, California\, 92101
CATEGORIES:San Diego
ATTACH;FMTTYPE=image/jpeg:https://socalpulse.com/wp-content/uploads/2025/09/Davina.jpg
END:VEVENT
BEGIN:VEVENT
DTSTART;TZID=America/Los_Angeles:20251116T193000
DTEND;TZID=America/Los_Angeles:20251116T213000
DTSTAMP:20260423T031622
CREATED:20250926T180328Z
LAST-MODIFIED:20250926T180328Z
UID:210622-1763321400-1763328600@socalpulse.com
SUMMARY:before and after nature
DESCRIPTION:Composer David Lang’s meditation on the natural world—both before and after human existence—explores how we define and understand nature in the wake of human impact.
URL:https://socalpulse.com/event/before-and-after-nature/
LOCATION:Walt Disney Concert Hall\, 111 S Grand Ave\, Los Angeles\, CA\, 90012\, United States
CATEGORIES:Los Angeles
ATTACH;FMTTYPE=image/jpeg:https://socalpulse.com/wp-content/uploads/2025/09/befor-and-after.jpg
END:VEVENT
BEGIN:VEVENT
DTSTART;TZID=America/Los_Angeles:20251120T193000
DTEND;TZID=America/Los_Angeles:20251120T213000
DTSTAMP:20260423T031622
CREATED:20250926T180744Z
LAST-MODIFIED:20250926T180824Z
UID:210625-1763667000-1763674200@socalpulse.com
SUMMARY:Lonnie Holley & Moor Mother
DESCRIPTION:Multidisciplinary artist Lonnie Holley\, an improviser of raw spirit and sound\, meets poet Moor Mother\, a seismic voice of haunted histories and imagined freedoms. Together\, they speak tenderness\, grief\, and resistance.
URL:https://socalpulse.com/event/lonnie-holley-moor-mother/
LOCATION:The Wallis\, 9390 N. Santa Monica Blvd\, Beverly Hills\, CA\, 92010\, United States
CATEGORIES:Los Angeles
ATTACH;FMTTYPE=image/jpeg:https://socalpulse.com/wp-content/uploads/2025/09/15-1.jpg
END:VEVENT
END:VCALENDAR