BEGIN:VCALENDAR
VERSION:2.0
PRODID:-//SoCalPulse - ECPv6.15.20//NONSGML v1.0//EN
CALSCALE:GREGORIAN
METHOD:PUBLISH
X-ORIGINAL-URL:https://socalpulse.com
X-WR-CALDESC:Events for SoCalPulse
REFRESH-INTERVAL;VALUE=DURATION:PT1H
X-Robots-Tag:noindex
X-PUBLISHED-TTL:PT1H
BEGIN:VTIMEZONE
TZID:America/Los_Angeles
BEGIN:DAYLIGHT
TZOFFSETFROM:-0800
TZOFFSETTO:-0700
TZNAME:PDT
DTSTART:20250309T100000
END:DAYLIGHT
BEGIN:STANDARD
TZOFFSETFROM:-0700
TZOFFSETTO:-0800
TZNAME:PST
DTSTART:20251102T090000
END:STANDARD
BEGIN:DAYLIGHT
TZOFFSETFROM:-0800
TZOFFSETTO:-0700
TZNAME:PDT
DTSTART:20260308T100000
END:DAYLIGHT
BEGIN:STANDARD
TZOFFSETFROM:-0700
TZOFFSETTO:-0800
TZNAME:PST
DTSTART:20261101T090000
END:STANDARD
BEGIN:DAYLIGHT
TZOFFSETFROM:-0800
TZOFFSETTO:-0700
TZNAME:PDT
DTSTART:20270314T100000
END:DAYLIGHT
BEGIN:STANDARD
TZOFFSETFROM:-0700
TZOFFSETTO:-0800
TZNAME:PST
DTSTART:20271107T090000
END:STANDARD
END:VTIMEZONE
BEGIN:VEVENT
DTSTART;TZID=America/Los_Angeles:20260528T193000
DTEND;TZID=America/Los_Angeles:20260528T213000
DTSTAMP:20260425T085055
CREATED:20260424T173534Z
LAST-MODIFIED:20260424T173534Z
UID:214906-1779996600-1780003800@socalpulse.com
SUMMARY:Pacific Jazz Orchestra: Miles Davis & John Coltrane at 100
DESCRIPTION:The Pacific Jazz Orchestra presents a powerful tribute to two of the most influential figures in jazz—Miles Davis and John Coltrane—as both artists would have turned 100 in 2026.
URL:https://socalpulse.com/event/pacific-jazz-orchestra-miles-davis-john-coltrane-at-100/
LOCATION:The Wallis\, 9390 N. Santa Monica Blvd\, Beverly Hills\, CA\, 92010\, United States
CATEGORIES:Los Angeles
ATTACH;FMTTYPE=image/jpeg:https://socalpulse.com/wp-content/uploads/2026/04/4-1.jpg
END:VEVENT
BEGIN:VEVENT
DTSTART;VALUE=DATE:20260529
DTEND;VALUE=DATE:20260601
DTSTAMP:20260425T085055
CREATED:20260424T174245Z
LAST-MODIFIED:20260424T174245Z
UID:214915-1780012800-1780271999@socalpulse.com
SUMMARY:Sierra and Strauss
DESCRIPTION:Gustavo Dudamel conducts the world premiere of Puerto Rican composer Roberto Sierra’s symphonic study after leading Strauss’ Ein Heldenleben  (“A Hero’s Life”) for the first time.
URL:https://socalpulse.com/event/sierra-and-strauss/
LOCATION:Walt Disney Concert Hall\, 111 S Grand Ave\, Los Angeles\, CA\, 90012\, United States
CATEGORIES:Los Angeles
ATTACH;FMTTYPE=image/jpeg:https://socalpulse.com/wp-content/uploads/2026/04/dudamel-1.jpg
END:VEVENT
BEGIN:VEVENT
DTSTART;VALUE=DATE:20260530
DTEND;VALUE=DATE:20260531
DTSTAMP:20260425T085055
CREATED:20260424T174601Z
LAST-MODIFIED:20260424T174601Z
UID:214918-1780099200-1780185599@socalpulse.com
SUMMARY:America @ 250
DESCRIPTION:Grammy-nominated pianist Joyce Yang captivates audiences with her virtuosity. She performs the West Coast Premiere of composer Johnathan Leshnoff’s Rhapsody on “America” as well as selections from John Williams American Journey—a celebration of American orchestral music.
URL:https://socalpulse.com/event/america-250/
LOCATION:Ambassador Auditorium\, 131 S St. John Avenue\, Pasadena\, CA\, 91105\, United States
CATEGORIES:Los Angeles
ATTACH;FMTTYPE=image/jpeg:https://socalpulse.com/wp-content/uploads/2026/04/Alec-Baldwin.jpg
END:VEVENT
BEGIN:VEVENT
DTSTART;VALUE=DATE:20260530
DTEND;VALUE=DATE:20260701
DTSTAMP:20260425T085055
CREATED:20260421T171557Z
LAST-MODIFIED:20260421T171557Z
UID:214791-1780099200-1782863999@socalpulse.com
SUMMARY:Primary Trust
DESCRIPTION:Kenneth\, a bookstore worker in a small town\, spends his evenings drinking at the local bar. When he is laid off\, Kenneth faces challenges he has long avoided. It is a story of new beginnings\, old friends\, and finding the courage to see the world for the first time.
URL:https://socalpulse.com/event/primary-trust-2/
LOCATION:Mark Taper Forum\, 135 N. Grand Avenue\, Los Angeles\, 90012\, United States
CATEGORIES:Los Angeles
ATTACH;FMTTYPE=image/jpeg:https://socalpulse.com/wp-content/uploads/2026/04/16.jpg
END:VEVENT
END:VCALENDAR