BEGIN:VCALENDAR
VERSION:2.0
PRODID:-//SoCalPulse - ECPv6.15.20//NONSGML v1.0//EN
CALSCALE:GREGORIAN
METHOD:PUBLISH
X-ORIGINAL-URL:https://socalpulse.com
X-WR-CALDESC:Events for SoCalPulse
REFRESH-INTERVAL;VALUE=DURATION:PT1H
X-Robots-Tag:noindex
X-PUBLISHED-TTL:PT1H
BEGIN:VTIMEZONE
TZID:America/Los_Angeles
BEGIN:DAYLIGHT
TZOFFSETFROM:-0800
TZOFFSETTO:-0700
TZNAME:PDT
DTSTART:20250309T100000
END:DAYLIGHT
BEGIN:STANDARD
TZOFFSETFROM:-0700
TZOFFSETTO:-0800
TZNAME:PST
DTSTART:20251102T090000
END:STANDARD
BEGIN:DAYLIGHT
TZOFFSETFROM:-0800
TZOFFSETTO:-0700
TZNAME:PDT
DTSTART:20260308T100000
END:DAYLIGHT
BEGIN:STANDARD
TZOFFSETFROM:-0700
TZOFFSETTO:-0800
TZNAME:PST
DTSTART:20261101T090000
END:STANDARD
BEGIN:DAYLIGHT
TZOFFSETFROM:-0800
TZOFFSETTO:-0700
TZNAME:PDT
DTSTART:20270314T100000
END:DAYLIGHT
BEGIN:STANDARD
TZOFFSETFROM:-0700
TZOFFSETTO:-0800
TZNAME:PST
DTSTART:20271107T090000
END:STANDARD
END:VTIMEZONE
BEGIN:VEVENT
DTSTART;VALUE=DATE:20260410
DTEND;VALUE=DATE:20260412
DTSTAMP:20260421T192739
CREATED:20260327T180303Z
LAST-MODIFIED:20260327T180303Z
UID:214212-1775779200-1775951999@socalpulse.com
SUMMARY:Journeys to California: Rachmaninoff Symphony No. 3
DESCRIPTION:A celebration of music by three composers\, all of whom came from elsewhere to live in California: Adam Schoenberg\, John Adams\, and Rachmaninoff. This delightful fanfare of an overture celebrates the life of P-22\, the world-famous mountain lion who lived for a decade in the hills above Los Angeles.
URL:https://socalpulse.com/event/journeys-to-california-rachmaninoff-symphony-no-3/
LOCATION:Jacobs Music Center\, 1245 Seventh Avenue\, San Diego\, California\, 92101
CATEGORIES:San Diego
ATTACH;FMTTYPE=image/jpeg:https://socalpulse.com/wp-content/uploads/2026/03/8.jpg
END:VEVENT
BEGIN:VEVENT
DTSTART;VALUE=DATE:20260417
DTEND;VALUE=DATE:20260504
DTSTAMP:20260421T192739
CREATED:20260417T170353Z
LAST-MODIFIED:20260417T170353Z
UID:214680-1776384000-1777852799@socalpulse.com
SUMMARY:August Wilson’s Fences
DESCRIPTION:Set in 1957\, this Pulitzer Prize and. Tony Award-winning play follows Troy Maxson\, a former Negro League baseball star\, now a sanitation worker. Grappling with the burden of his broken dreams\, Troy struggles to assert control over his family and his future.
URL:https://socalpulse.com/event/august-wilsons-fences-2/
LOCATION:The Old Globe\, 1363 Old Globe Way\, San Diego\, 92101\, United States
CATEGORIES:San Diego
ATTACH;FMTTYPE=image/jpeg:https://socalpulse.com/wp-content/uploads/2026/04/1-2.jpg
END:VEVENT
BEGIN:VEVENT
DTSTART;VALUE=DATE:20260417
DTEND;VALUE=DATE:20260511
DTSTAMP:20260421T192739
CREATED:20260417T171103Z
LAST-MODIFIED:20260417T171103Z
UID:214689-1776384000-1778457599@socalpulse.com
SUMMARY:Alien Girls
DESCRIPTION:Alien Girls is a heart-filled comedy about the tensions between creating art and creating life. It is a tale of best friends—one pregnant and the other failing to be happy for her. True feelings are revealed\, and the fallout may be irreparable.
URL:https://socalpulse.com/event/alien-girls-2/
LOCATION:The Old Globe\, 1363 Old Globe Way\, San Diego\, 92101\, United States
CATEGORIES:San Diego
ATTACH;FMTTYPE=image/jpeg:https://socalpulse.com/wp-content/uploads/2026/04/Aiens-Girl.jpg
END:VEVENT
BEGIN:VEVENT
DTSTART;TZID=America/Los_Angeles:20260417T193000
DTEND;TZID=America/Los_Angeles:20260417T213000
DTSTAMP:20260421T192739
CREATED:20260417T171404Z
LAST-MODIFIED:20260417T171404Z
UID:214692-1776454200-1776461400@socalpulse.com
SUMMARY:Star Wars\, a New Hope in Concert
DESCRIPTION:Embark on an epic journey to a galaxy\, far\, far away as you experience the iconic film with John Williams’ legendary Oscar-winning score live to film.
URL:https://socalpulse.com/event/star-wars-a-new-hope-in-concert-2/
LOCATION:The Rady Shell at Jacob Parks\, 222 Marina Park Way\, San Diego\, CA\, 92101\, United States
CATEGORIES:San Diego
ATTACH;FMTTYPE=image/jpeg:https://socalpulse.com/wp-content/uploads/2026/04/Starwarsnewconcert.jpg
END:VEVENT
BEGIN:VEVENT
DTSTART;VALUE=DATE:20260418
DTEND;VALUE=DATE:20260420
DTSTAMP:20260421T192739
CREATED:20260415T155009Z
LAST-MODIFIED:20260415T155009Z
UID:214536-1776470400-1776643199@socalpulse.com
SUMMARY:Fliter Plays Chopin
DESCRIPTION:At the center are Chopin’s Second Piano Concerto\, written when the great Polish composer and patriot was just 20 years old\, and Borodin’s brilliantly colorful and tuneful Second Symphony\, evoking the uproarious and warlike merrymaking of medieval knights-in-armor\, with their ancient bards and strange-sounding folk-instruments.
URL:https://socalpulse.com/event/fliter-plays-chopin/
LOCATION:Jacobs Music Center\, 1245 Seventh Avenue\, San Diego\, California\, 92101
CATEGORIES:San Diego
ATTACH;FMTTYPE=image/jpeg:https://socalpulse.com/wp-content/uploads/2026/04/FIlter-Chopin.jpg
END:VEVENT
BEGIN:VEVENT
DTSTART;VALUE=DATE:20260418
DTEND;VALUE=DATE:20260511
DTSTAMP:20260421T192739
CREATED:20260413T230034Z
LAST-MODIFIED:20260413T230034Z
UID:214522-1776470400-1778457599@socalpulse.com
SUMMARY:Alien Girls
DESCRIPTION:Alien Girls is a heart-filled comedy about the tensions between creating art and creating life. It is a tale of best friends—one pregnant and the other failing to be happy for her. True feelings are revealed\, and the fallout may be irreparable.
URL:https://socalpulse.com/event/alien-girls/
LOCATION:The Old Globe\, 1363 Old Globe Way\, San Diego\, 92101\, United States
CATEGORIES:San Diego
ATTACH;FMTTYPE=image/jpeg:https://socalpulse.com/wp-content/uploads/2026/04/Aiens-Girl.jpg
END:VEVENT
BEGIN:VEVENT
DTSTART;VALUE=DATE:20260424
DTEND;VALUE=DATE:20260426
DTSTAMP:20260421T192739
CREATED:20260415T161439Z
LAST-MODIFIED:20260415T161439Z
UID:214581-1776988800-1777161599@socalpulse.com
SUMMARY:A Feast of Beethoven
DESCRIPTION:Trevor Pinnock\, one of the great masters of Baroque and Classical music in our age\, and Alexandra Dovgan\, a young pianist already celebrated across the world for the majesty and beauty of her playing\, join the Orchestra together for the first time for a glorious all-Beethoven program\, filled with high drama\, hope\, and nobility.
URL:https://socalpulse.com/event/a-feast-of-beethoven/
LOCATION:Jacobs Music Center\, 1245 Seventh Avenue\, San Diego\, California\, 92101
CATEGORIES:San Diego
ATTACH;FMTTYPE=image/jpeg:https://socalpulse.com/wp-content/uploads/2026/04/Dogvan.jpg
END:VEVENT
BEGIN:VEVENT
DTSTART;TZID=America/Los_Angeles:20260502T180000
DTEND;TZID=America/Los_Angeles:20260502T200000
DTSTAMP:20260421T192739
CREATED:20260417T171826Z
LAST-MODIFIED:20260417T171826Z
UID:214698-1777744800-1777752000@socalpulse.com
SUMMARY:Gordon Goodwin’s Big Phat Band
DESCRIPTION:Gordon Goodwin’s Big Phat Band is an 18-piece jazz orchestra\, led by talented and creative pianist\, that combines the big band swing of the 1930s and 1940s with funk and jazz fusion. Fans will recognize the band from the Pixar film The Incredibles and in music from The Naked Gun.
URL:https://socalpulse.com/event/gordon-goodwins-big-phat-band/
LOCATION:Jacobs Music Center\, 1245 Seventh Avenue\, San Diego\, California\, 92101
CATEGORIES:San Diego
ATTACH;FMTTYPE=image/jpeg:https://socalpulse.com/wp-content/uploads/2026/04/Bigphatwedding.jpg
END:VEVENT
BEGIN:VEVENT
DTSTART;VALUE=DATE:20260509
DTEND;VALUE=DATE:20260511
DTSTAMP:20260421T192739
CREATED:20260420T220731Z
LAST-MODIFIED:20260420T220731Z
UID:214728-1778284800-1778457599@socalpulse.com
SUMMARY:From the Depths to the Heights
DESCRIPTION:Renowned Mexican composer Gabriela Ortiz writes music of visceral energy and melodic sweetness\, and the San Diego Symphony Orchestra is taking part in her new cello concerto Dzonot\, specially written for cellist Alisa Weilerstein. The program\, led by conductor Rafael Payare concluded with Prokofiev’s Symphony No. 5 written during World War II as a tribute to “the greatness of the human spirit.”
URL:https://socalpulse.com/event/from-the-depths-to-the-heights/
LOCATION:Jacobs Music Center\, 1245 Seventh Avenue\, San Diego\, California\, 92101
CATEGORIES:San Diego
ATTACH;FMTTYPE=image/jpeg:https://socalpulse.com/wp-content/uploads/2026/04/payare-1.jpg
END:VEVENT
BEGIN:VEVENT
DTSTART;VALUE=DATE:20260512
DTEND;VALUE=DATE:20260608
DTSTAMP:20260421T192739
CREATED:20260420T224029Z
LAST-MODIFIED:20260420T224029Z
UID:214738-1778544000-1780876799@socalpulse.com
SUMMARY:Purpose
DESCRIPTION:The most awarded play of 2025 makes its West Coast Premiere at La Jolla Playhouse. For decades\, the influential Jasper family of Chicago has been a pillar of Black American Politics: civil rights leaders\, celebrity pastors and congressmen. When the youngest son Nazareth returns home with an uninvited friend in tow\, the family is forced to reckon with decades of secrets and unresolved tensions that threaten to topple their empire.
URL:https://socalpulse.com/event/purpose/
LOCATION:La Jolla Playhouse\, 2910 La Jolla Village Drive\, La Jolla\, CA\, 92037\, United States
CATEGORIES:San Diego
ATTACH;FMTTYPE=image/jpeg:https://socalpulse.com/wp-content/uploads/2026/04/purpose.jpg
END:VEVENT
BEGIN:VEVENT
DTSTART;VALUE=DATE:20260515
DTEND;VALUE=DATE:20260615
DTSTAMP:20260421T192739
CREATED:20260420T232412Z
LAST-MODIFIED:20260420T232440Z
UID:214750-1778803200-1781481599@socalpulse.com
SUMMARY:Kim’s Convenience
DESCRIPTION:Heart and humor take the stage in this award-winning comedy that inspired the hit Netflix series. Korean-born Mr. Kim runs a Toronto convenience store while raising his Canadian children with traditional values. As generational tensions rise\, one family’s everyday struggles become a metaphor for a changing society.
URL:https://socalpulse.com/event/kims-convenience-2/
LOCATION:The Old Globe\, 1363 Old Globe Way\, San Diego\, 92101\, United States
CATEGORIES:San Diego
ATTACH;FMTTYPE=image/jpeg:https://socalpulse.com/wp-content/uploads/2026/04/kims-Convenience.jpg
END:VEVENT
BEGIN:VEVENT
DTSTART;TZID=America/Los_Angeles:20260515T080000
DTEND;TZID=America/Los_Angeles:20260516T170000
DTSTAMP:20260421T192739
CREATED:20260420T233103Z
LAST-MODIFIED:20260420T233103Z
UID:214757-1778832000-1778950800@socalpulse.com
SUMMARY:Folk Auras: Thayer and Mendelssohn’s “Scottish”
DESCRIPTION:Three works inspired in different ways by folk music and the mix of different cultures. Perú Negro (Black Peru)\, by San Diego Symphony’s Composer-in-Residence Jimmy López\, was composed in 2012; Alban Berg’s last completed work\, his mystical Violin Concert written in 1935; and Mendelssohn’s “Scottish” Symphony. Conductor Rafael Payare leads the San Diego Symphony Orchestra and violinist Jeff Thayer.
URL:https://socalpulse.com/event/folk-auras-thayer-and-mendelssohns-scottish/
LOCATION:Jacobs Music Center\, 1245 Seventh Avenue\, San Diego\, California\, 92101
CATEGORIES:San Diego
ATTACH;FMTTYPE=image/jpeg:https://socalpulse.com/wp-content/uploads/2026/04/THayer.jpg
END:VEVENT
BEGIN:VEVENT
DTSTART;VALUE=DATE:20260522
DTEND;VALUE=DATE:20260525
DTSTAMP:20260421T192739
CREATED:20260421T172217Z
LAST-MODIFIED:20260421T172217Z
UID:214797-1779408000-1779667199@socalpulse.com
SUMMARY:Also Sprach Zarathustra & Bluebeard’s Castle
DESCRIPTION:The season ends with two of the most spectacular scores from the late romantic period: Strauss’s epic tone-poem Also Sprach Zarathustra\, and Bartók’s dramatic Bluebeard’s Castle.  Both these magnificent works use extreme and glittering orchestral colors to represent the real colors of the world and the cosmos – dawn\, sunlight\, vast mountain views\, sunset\, and the darkest night.
URL:https://socalpulse.com/event/also-sprach-zarathustra-bluebeards-castle/
LOCATION:Jacobs Music Center\, 1245 Seventh Avenue\, San Diego\, California\, 92101
CATEGORIES:San Diego
ATTACH;FMTTYPE=image/jpeg:https://socalpulse.com/wp-content/uploads/2026/04/payare-2.jpg
END:VEVENT
END:VCALENDAR