BEGIN:VCALENDAR
VERSION:2.0
PRODID:-//SoCalPulse - ECPv6.15.20//NONSGML v1.0//EN
CALSCALE:GREGORIAN
METHOD:PUBLISH
X-ORIGINAL-URL:https://socalpulse.com
X-WR-CALDESC:Events for SoCalPulse
REFRESH-INTERVAL;VALUE=DURATION:PT1H
X-Robots-Tag:noindex
X-PUBLISHED-TTL:PT1H
BEGIN:VTIMEZONE
TZID:America/Los_Angeles
BEGIN:DAYLIGHT
TZOFFSETFROM:-0800
TZOFFSETTO:-0700
TZNAME:PDT
DTSTART:20250309T100000
END:DAYLIGHT
BEGIN:STANDARD
TZOFFSETFROM:-0700
TZOFFSETTO:-0800
TZNAME:PST
DTSTART:20251102T090000
END:STANDARD
BEGIN:DAYLIGHT
TZOFFSETFROM:-0800
TZOFFSETTO:-0700
TZNAME:PDT
DTSTART:20260308T100000
END:DAYLIGHT
BEGIN:STANDARD
TZOFFSETFROM:-0700
TZOFFSETTO:-0800
TZNAME:PST
DTSTART:20261101T090000
END:STANDARD
BEGIN:DAYLIGHT
TZOFFSETFROM:-0800
TZOFFSETTO:-0700
TZNAME:PDT
DTSTART:20270314T100000
END:DAYLIGHT
BEGIN:STANDARD
TZOFFSETFROM:-0700
TZOFFSETTO:-0800
TZNAME:PST
DTSTART:20271107T090000
END:STANDARD
END:VTIMEZONE
BEGIN:VEVENT
DTSTART;VALUE=DATE:20260515
DTEND;VALUE=DATE:20260615
DTSTAMP:20260423T050418
CREATED:20260420T232412Z
LAST-MODIFIED:20260420T232440Z
UID:214750-1778803200-1781481599@socalpulse.com
SUMMARY:Kim’s Convenience
DESCRIPTION:Heart and humor take the stage in this award-winning comedy that inspired the hit Netflix series. Korean-born Mr. Kim runs a Toronto convenience store while raising his Canadian children with traditional values. As generational tensions rise\, one family’s everyday struggles become a metaphor for a changing society.
URL:https://socalpulse.com/event/kims-convenience-2/
LOCATION:The Old Globe\, 1363 Old Globe Way\, San Diego\, 92101\, United States
CATEGORIES:San Diego
ATTACH;FMTTYPE=image/jpeg:https://socalpulse.com/wp-content/uploads/2026/04/kims-Convenience.jpg
END:VEVENT
BEGIN:VEVENT
DTSTART;TZID=America/Los_Angeles:20260515T080000
DTEND;TZID=America/Los_Angeles:20260516T170000
DTSTAMP:20260423T050418
CREATED:20260420T233103Z
LAST-MODIFIED:20260420T233103Z
UID:214757-1778832000-1778950800@socalpulse.com
SUMMARY:Folk Auras: Thayer and Mendelssohn’s “Scottish”
DESCRIPTION:Three works inspired in different ways by folk music and the mix of different cultures. Perú Negro (Black Peru)\, by San Diego Symphony’s Composer-in-Residence Jimmy López\, was composed in 2012; Alban Berg’s last completed work\, his mystical Violin Concert written in 1935; and Mendelssohn’s “Scottish” Symphony. Conductor Rafael Payare leads the San Diego Symphony Orchestra and violinist Jeff Thayer.
URL:https://socalpulse.com/event/folk-auras-thayer-and-mendelssohns-scottish/
LOCATION:Jacobs Music Center\, 1245 Seventh Avenue\, San Diego\, California\, 92101
CATEGORIES:San Diego
ATTACH;FMTTYPE=image/jpeg:https://socalpulse.com/wp-content/uploads/2026/04/THayer.jpg
END:VEVENT
BEGIN:VEVENT
DTSTART;VALUE=DATE:20260522
DTEND;VALUE=DATE:20260525
DTSTAMP:20260423T050418
CREATED:20260421T172217Z
LAST-MODIFIED:20260421T172217Z
UID:214797-1779408000-1779667199@socalpulse.com
SUMMARY:Also Sprach Zarathustra & Bluebeard’s Castle
DESCRIPTION:The season ends with two of the most spectacular scores from the late romantic period: Strauss’s epic tone-poem Also Sprach Zarathustra\, and Bartók’s dramatic Bluebeard’s Castle.  Both these magnificent works use extreme and glittering orchestral colors to represent the real colors of the world and the cosmos – dawn\, sunlight\, vast mountain views\, sunset\, and the darkest night.
URL:https://socalpulse.com/event/also-sprach-zarathustra-bluebeards-castle/
LOCATION:Jacobs Music Center\, 1245 Seventh Avenue\, San Diego\, California\, 92101
CATEGORIES:San Diego
ATTACH;FMTTYPE=image/jpeg:https://socalpulse.com/wp-content/uploads/2026/04/payare-2.jpg
END:VEVENT
END:VCALENDAR