BEGIN:VCALENDAR
VERSION:2.0
PRODID:-//SoCalPulse - ECPv6.15.20//NONSGML v1.0//EN
CALSCALE:GREGORIAN
METHOD:PUBLISH
X-WR-CALNAME:SoCalPulse
X-ORIGINAL-URL:https://socalpulse.com
X-WR-CALDESC:Events for SoCalPulse
REFRESH-INTERVAL;VALUE=DURATION:PT1H
X-Robots-Tag:noindex
X-PUBLISHED-TTL:PT1H
BEGIN:VTIMEZONE
TZID:America/Los_Angeles
BEGIN:DAYLIGHT
TZOFFSETFROM:-0800
TZOFFSETTO:-0700
TZNAME:PDT
DTSTART:20250309T100000
END:DAYLIGHT
BEGIN:STANDARD
TZOFFSETFROM:-0700
TZOFFSETTO:-0800
TZNAME:PST
DTSTART:20251102T090000
END:STANDARD
BEGIN:DAYLIGHT
TZOFFSETFROM:-0800
TZOFFSETTO:-0700
TZNAME:PDT
DTSTART:20260308T100000
END:DAYLIGHT
BEGIN:STANDARD
TZOFFSETFROM:-0700
TZOFFSETTO:-0800
TZNAME:PST
DTSTART:20261101T090000
END:STANDARD
BEGIN:DAYLIGHT
TZOFFSETFROM:-0800
TZOFFSETTO:-0700
TZNAME:PDT
DTSTART:20270314T100000
END:DAYLIGHT
BEGIN:STANDARD
TZOFFSETFROM:-0700
TZOFFSETTO:-0800
TZNAME:PST
DTSTART:20271107T090000
END:STANDARD
END:VTIMEZONE
BEGIN:VEVENT
DTSTART;VALUE=DATE:20260207
DTEND;VALUE=DATE:20260316
DTSTAMP:20260421T171826
CREATED:20260203T230426Z
LAST-MODIFIED:20260203T230426Z
UID:213144-1770422400-1773619199@socalpulse.com
SUMMARY:Henrik Ibsen’s Hedda Gabler
DESCRIPTION:Katie Holmes brings to life a landmark role in a new version of Henrik Ibsen’s Hedda Gabler—a defining masterpiece about honeymooners whose marriage begins to crack and the world around them begins to unravel.
URL:https://socalpulse.com/event/henrik-ibsens-hedda-gabler/
LOCATION:The Old Globe\, 1363 Old Globe Way\, San Diego\, 92101\, United States
CATEGORIES:San Diego
ATTACH;FMTTYPE=image/jpeg:https://socalpulse.com/wp-content/uploads/2026/02/hedda-gabler.jpg
END:VEVENT
END:VCALENDAR