BEGIN:VCALENDAR
VERSION:2.0
PRODID:-//SoCalPulse - ECPv6.15.20//NONSGML v1.0//EN
CALSCALE:GREGORIAN
METHOD:PUBLISH
X-WR-CALNAME:SoCalPulse
X-ORIGINAL-URL:https://socalpulse.com
X-WR-CALDESC:Events for SoCalPulse
REFRESH-INTERVAL;VALUE=DURATION:PT1H
X-Robots-Tag:noindex
X-PUBLISHED-TTL:PT1H
BEGIN:VTIMEZONE
TZID:America/Los_Angeles
BEGIN:DAYLIGHT
TZOFFSETFROM:-0800
TZOFFSETTO:-0700
TZNAME:PDT
DTSTART:20240310T100000
END:DAYLIGHT
BEGIN:STANDARD
TZOFFSETFROM:-0700
TZOFFSETTO:-0800
TZNAME:PST
DTSTART:20241103T090000
END:STANDARD
BEGIN:DAYLIGHT
TZOFFSETFROM:-0800
TZOFFSETTO:-0700
TZNAME:PDT
DTSTART:20250309T100000
END:DAYLIGHT
BEGIN:STANDARD
TZOFFSETFROM:-0700
TZOFFSETTO:-0800
TZNAME:PST
DTSTART:20251102T090000
END:STANDARD
BEGIN:DAYLIGHT
TZOFFSETFROM:-0800
TZOFFSETTO:-0700
TZNAME:PDT
DTSTART:20260308T100000
END:DAYLIGHT
BEGIN:STANDARD
TZOFFSETFROM:-0700
TZOFFSETTO:-0800
TZNAME:PST
DTSTART:20261101T090000
END:STANDARD
END:VTIMEZONE
BEGIN:VTIMEZONE
TZID:America/Los_Angeles
BEGIN:DAYLIGHT
TZOFFSETFROM:-0800
TZOFFSETTO:-0700
TZNAME:PDT
DTSTART:20240310T100000
END:DAYLIGHT
BEGIN:STANDARD
TZOFFSETFROM:-0700
TZOFFSETTO:-0800
TZNAME:PST
DTSTART:20241103T090000
END:STANDARD
BEGIN:DAYLIGHT
TZOFFSETFROM:-0800
TZOFFSETTO:-0700
TZNAME:PDT
DTSTART:20250309T100000
END:DAYLIGHT
BEGIN:STANDARD
TZOFFSETFROM:-0700
TZOFFSETTO:-0800
TZNAME:PST
DTSTART:20251102T090000
END:STANDARD
BEGIN:DAYLIGHT
TZOFFSETFROM:-0800
TZOFFSETTO:-0700
TZNAME:PDT
DTSTART:20260308T100000
END:DAYLIGHT
BEGIN:STANDARD
TZOFFSETFROM:-0700
TZOFFSETTO:-0800
TZNAME:PST
DTSTART:20261101T090000
END:STANDARD
END:VTIMEZONE
BEGIN:VEVENT
DTSTART;VALUE=DATE:20250524
DTEND;VALUE=DATE:20250623
DTSTAMP:20260422T215223
CREATED:20250509T172523Z
LAST-MODIFIED:20250509T172523Z
UID:207852-1748044800-1750636799@socalpulse.com
SUMMARY:One of the Good Ones
DESCRIPTION:When Yoli brings her new boyfriend home to meet her Latino American parents\, he’s not exactly what they were expecting. Everyone tries to be on their best behavior\, but generational differences and cultural assumptions collide. Through equal measures of comedy and compassion\, they all discover what it truly means to be a family.
URL:https://socalpulse.com/event/one-of-the-good-ones-2/
LOCATION:The Old Globe\, 1363 Old Globe Way\, San Diego\, 92101\, United States
CATEGORIES:San Diego
ATTACH;FMTTYPE=image/png:https://socalpulse.com/wp-content/uploads/2025/01/The-Old-Globe.png
END:VEVENT
BEGIN:VEVENT
DTSTART;VALUE=DATE:20250604
DTEND;VALUE=DATE:20250630
DTSTAMP:20260422T215223
CREATED:20250603T173336Z
LAST-MODIFIED:20250603T173351Z
UID:208269-1748995200-1751241599@socalpulse.com
SUMMARY:Birthday Candles
DESCRIPTION:An emotional examination of the human experience\, this piece is filled with laughter\, tears\, and moments of reflection that make up one woman’s ordinary life. The play explores the passing of time\, the evolution of relationships\, and the profound changes that occur in a person’s life from one year to the next. Through its characters and storytelling\, this charming story offers a unique perspective of life’s milestones. Celebrate five generations\, an infinity of dreams\, and one cake baked over a century.
URL:https://socalpulse.com/event/208269/
LOCATION:North Coast Rep\, 987 Lomas Santa Fe Dr Suite D\, Solana Beach\, CA\, 92075\, United States
CATEGORIES:San Diego
ATTACH;FMTTYPE=image/jpeg:https://socalpulse.com/wp-content/uploads/2025/06/Birthday-Candles.jpg
END:VEVENT
BEGIN:VEVENT
DTSTART;VALUE=DATE:20250604
DTEND;VALUE=DATE:20250630
DTSTAMP:20260422T215223
CREATED:20250613T175235Z
LAST-MODIFIED:20250613T175235Z
UID:208540-1748995200-1751241599@socalpulse.com
SUMMARY:Birthday Candles
DESCRIPTION:An emotional examination of the human experience\, this piece is filled with laughter\, tears\, and moments of reflection that make up one woman’s ordinary life. The play explores the passing of time\, the evolution of relationships\, and the profound changes that occur in a person’s life from one year to the next. Through its characters and storytelling\, this charming story offers a unique perspective of life’s milestones. Celebrate five generations\, an infinity of dreams\, and one cake baked over a century.
URL:https://socalpulse.com/event/birthday-candles/
LOCATION:North Coast Rep\, 987 Lomas Santa Fe Dr Suite D\, Solana Beach\, CA\, 92075\, United States
CATEGORIES:San Diego
ATTACH;FMTTYPE=image/jpeg:https://socalpulse.com/wp-content/uploads/2025/06/Birthday-Candles-1.jpg
END:VEVENT
END:VCALENDAR