BEGIN:VCALENDAR
VERSION:2.0
PRODID:-//SoCalPulse - ECPv6.15.20//NONSGML v1.0//EN
CALSCALE:GREGORIAN
METHOD:PUBLISH
X-ORIGINAL-URL:https://socalpulse.com
X-WR-CALDESC:Events for SoCalPulse
REFRESH-INTERVAL;VALUE=DURATION:PT1H
X-Robots-Tag:noindex
X-PUBLISHED-TTL:PT1H
BEGIN:VTIMEZONE
TZID:America/Los_Angeles
BEGIN:DAYLIGHT
TZOFFSETFROM:-0800
TZOFFSETTO:-0700
TZNAME:PDT
DTSTART:20240310T100000
END:DAYLIGHT
BEGIN:STANDARD
TZOFFSETFROM:-0700
TZOFFSETTO:-0800
TZNAME:PST
DTSTART:20241103T090000
END:STANDARD
BEGIN:DAYLIGHT
TZOFFSETFROM:-0800
TZOFFSETTO:-0700
TZNAME:PDT
DTSTART:20250309T100000
END:DAYLIGHT
BEGIN:STANDARD
TZOFFSETFROM:-0700
TZOFFSETTO:-0800
TZNAME:PST
DTSTART:20251102T090000
END:STANDARD
BEGIN:DAYLIGHT
TZOFFSETFROM:-0800
TZOFFSETTO:-0700
TZNAME:PDT
DTSTART:20260308T100000
END:DAYLIGHT
BEGIN:STANDARD
TZOFFSETFROM:-0700
TZOFFSETTO:-0800
TZNAME:PST
DTSTART:20261101T090000
END:STANDARD
END:VTIMEZONE
BEGIN:VEVENT
DTSTART;VALUE=DATE:20250510
DTEND;VALUE=DATE:20250602
DTSTAMP:20260422T203630
CREATED:20250506T164400Z
LAST-MODIFIED:20250506T164400Z
UID:207726-1746835200-1748822399@socalpulse.com
SUMMARY:House of India
DESCRIPTION:A once-successful restauranteur has bills piling up and she must choose: hold on to her late husband’s vision or compromise in the name of progress. This heartwarming world premiere comedy features a vibrant cast who work to build a legacy and a new kind of American Dream.
URL:https://socalpulse.com/event/house-of-india/
LOCATION:The Old Globe\, 1363 Old Globe Way\, San Diego\, 92101\, United States
CATEGORIES:San Diego
ATTACH;FMTTYPE=image/jpeg:https://socalpulse.com/wp-content/uploads/2025/05/Houseofindia.jpg
END:VEVENT
BEGIN:VEVENT
DTSTART;VALUE=DATE:20250523
DTEND;VALUE=DATE:20250526
DTSTAMP:20260422T203630
CREATED:20250509T171633Z
LAST-MODIFIED:20250509T171633Z
UID:207846-1747958400-1748217599@socalpulse.com
SUMMARY:Ode to Nature: Payare Conducts Mahler’s Symphony No. 3
DESCRIPTION:World-renowned mezzo-soprano Karen Cargill will make her San Diego Symphony debut\, conducted by Music Director Rafael Payare for a program featuring Mahler’s Symphony NO. 3\, a monumental two-part declaration of faith.
URL:https://socalpulse.com/event/ode-to-nature-payare-conducts-mahlers-symphony-no-3/
LOCATION:Jacobs Music Center\, 1245 Seventh Avenue\, San Diego\, California\, 92101
CATEGORIES:San Diego
ATTACH;FMTTYPE=image/png:https://socalpulse.com/wp-content/uploads/2025/05/Payare-Mahler.png
END:VEVENT
END:VCALENDAR