BEGIN:VCALENDAR
VERSION:2.0
PRODID:-//SoCalPulse - ECPv6.15.20//NONSGML v1.0//EN
CALSCALE:GREGORIAN
METHOD:PUBLISH
X-WR-CALNAME:SoCalPulse
X-ORIGINAL-URL:https://socalpulse.com
X-WR-CALDESC:Events for SoCalPulse
REFRESH-INTERVAL;VALUE=DURATION:PT1H
X-Robots-Tag:noindex
X-PUBLISHED-TTL:PT1H
BEGIN:VTIMEZONE
TZID:America/Los_Angeles
BEGIN:DAYLIGHT
TZOFFSETFROM:-0800
TZOFFSETTO:-0700
TZNAME:PDT
DTSTART:20240310T100000
END:DAYLIGHT
BEGIN:STANDARD
TZOFFSETFROM:-0700
TZOFFSETTO:-0800
TZNAME:PST
DTSTART:20241103T090000
END:STANDARD
BEGIN:DAYLIGHT
TZOFFSETFROM:-0800
TZOFFSETTO:-0700
TZNAME:PDT
DTSTART:20250309T100000
END:DAYLIGHT
BEGIN:STANDARD
TZOFFSETFROM:-0700
TZOFFSETTO:-0800
TZNAME:PST
DTSTART:20251102T090000
END:STANDARD
BEGIN:DAYLIGHT
TZOFFSETFROM:-0800
TZOFFSETTO:-0700
TZNAME:PDT
DTSTART:20260308T100000
END:DAYLIGHT
BEGIN:STANDARD
TZOFFSETFROM:-0700
TZOFFSETTO:-0800
TZNAME:PST
DTSTART:20261101T090000
END:STANDARD
END:VTIMEZONE
BEGIN:VEVENT
DTSTART;VALUE=DATE:20250329
DTEND;VALUE=DATE:20250331
DTSTAMP:20260423T035355
CREATED:20250325T171933Z
LAST-MODIFIED:20250325T171933Z
UID:206808-1743206400-1743379199@socalpulse.com
SUMMARY:From the Depths: Lu Leads Tchaikovsky’s Fourth Symphony
DESCRIPTION:Conductor Tianyi Lu opens her concert with the self-standing first movement of Gareth Farr’s From the Depths Sound the Great Sea Gongs. The distinguished soloist will be the English pianist Paul Lewis. And the concert ends with one of the best loved of all Tchaikovsky’s works\, his intensely dramatic Fourth Symphony.
URL:https://socalpulse.com/event/from-the-depths-lu-leads-tchaikovskys-fourth-symphony/
LOCATION:Jacobs Music Center\, 1245 Seventh Avenue\, San Diego\, California\, 92101
CATEGORIES:San Diego
ATTACH;FMTTYPE=image/jpeg:https://socalpulse.com/wp-content/uploads/2025/03/sdsymphony.jpg
END:VEVENT
BEGIN:VEVENT
DTSTART;VALUE=DATE:20250329
DTEND;VALUE=DATE:20250414
DTSTAMP:20260423T035355
CREATED:20250325T172155Z
LAST-MODIFIED:20250325T172155Z
UID:206811-1743206400-1744588799@socalpulse.com
SUMMARY:True West
DESCRIPTION:Step into the raw and riveting world of Sam Shepard’s True West where the blistering heat of the California desert mirrors the searing tensions between estranged brothers\, Austin and Lee. Set against the backdrop of a suburban house\, this modern American classic unravels a primal struggle for identity and dominance as the siblings confront their turbulent past and uncertain futures.
URL:https://socalpulse.com/event/true-west/
LOCATION:Divisionary Theatre\, 4545 Park Blvd.\, San Diego\, 92116\, United States
CATEGORIES:San Diego
ATTACH;FMTTYPE=image/jpeg:https://socalpulse.com/wp-content/uploads/2025/03/truewest.jpg
END:VEVENT
END:VCALENDAR