BEGIN:VCALENDAR
VERSION:2.0
PRODID:-//SoCalPulse - ECPv6.15.20//NONSGML v1.0//EN
CALSCALE:GREGORIAN
METHOD:PUBLISH
X-ORIGINAL-URL:https://socalpulse.com
X-WR-CALDESC:Events for SoCalPulse
REFRESH-INTERVAL;VALUE=DURATION:PT1H
X-Robots-Tag:noindex
X-PUBLISHED-TTL:PT1H
BEGIN:VTIMEZONE
TZID:America/Los_Angeles
BEGIN:DAYLIGHT
TZOFFSETFROM:-0800
TZOFFSETTO:-0700
TZNAME:PDT
DTSTART:19690427T100000
END:DAYLIGHT
BEGIN:STANDARD
TZOFFSETFROM:-0700
TZOFFSETTO:-0800
TZNAME:PST
DTSTART:19691026T090000
END:STANDARD
BEGIN:DAYLIGHT
TZOFFSETFROM:-0800
TZOFFSETTO:-0700
TZNAME:PDT
DTSTART:19700426T100000
END:DAYLIGHT
BEGIN:STANDARD
TZOFFSETFROM:-0700
TZOFFSETTO:-0800
TZNAME:PST
DTSTART:19701025T090000
END:STANDARD
BEGIN:DAYLIGHT
TZOFFSETFROM:-0800
TZOFFSETTO:-0700
TZNAME:PDT
DTSTART:19710425T100000
END:DAYLIGHT
BEGIN:STANDARD
TZOFFSETFROM:-0700
TZOFFSETTO:-0800
TZNAME:PST
DTSTART:19711031T090000
END:STANDARD
BEGIN:DAYLIGHT
TZOFFSETFROM:-0800
TZOFFSETTO:-0700
TZNAME:PDT
DTSTART:19720430T100000
END:DAYLIGHT
BEGIN:STANDARD
TZOFFSETFROM:-0700
TZOFFSETTO:-0800
TZNAME:PST
DTSTART:19721029T090000
END:STANDARD
BEGIN:DAYLIGHT
TZOFFSETFROM:-0800
TZOFFSETTO:-0700
TZNAME:PDT
DTSTART:19730429T100000
END:DAYLIGHT
BEGIN:STANDARD
TZOFFSETFROM:-0700
TZOFFSETTO:-0800
TZNAME:PST
DTSTART:19731028T090000
END:STANDARD
BEGIN:DAYLIGHT
TZOFFSETFROM:-0800
TZOFFSETTO:-0700
TZNAME:PDT
DTSTART:19740106T100000
END:DAYLIGHT
BEGIN:STANDARD
TZOFFSETFROM:-0700
TZOFFSETTO:-0800
TZNAME:PST
DTSTART:19741027T090000
END:STANDARD
BEGIN:DAYLIGHT
TZOFFSETFROM:-0800
TZOFFSETTO:-0700
TZNAME:PDT
DTSTART:19750223T100000
END:DAYLIGHT
BEGIN:STANDARD
TZOFFSETFROM:-0700
TZOFFSETTO:-0800
TZNAME:PST
DTSTART:19751026T090000
END:STANDARD
BEGIN:DAYLIGHT
TZOFFSETFROM:-0800
TZOFFSETTO:-0700
TZNAME:PDT
DTSTART:19760425T100000
END:DAYLIGHT
BEGIN:STANDARD
TZOFFSETFROM:-0700
TZOFFSETTO:-0800
TZNAME:PST
DTSTART:19761031T090000
END:STANDARD
BEGIN:DAYLIGHT
TZOFFSETFROM:-0800
TZOFFSETTO:-0700
TZNAME:PDT
DTSTART:19770424T100000
END:DAYLIGHT
BEGIN:STANDARD
TZOFFSETFROM:-0700
TZOFFSETTO:-0800
TZNAME:PST
DTSTART:19771030T090000
END:STANDARD
BEGIN:DAYLIGHT
TZOFFSETFROM:-0800
TZOFFSETTO:-0700
TZNAME:PDT
DTSTART:19780430T100000
END:DAYLIGHT
BEGIN:STANDARD
TZOFFSETFROM:-0700
TZOFFSETTO:-0800
TZNAME:PST
DTSTART:19781029T090000
END:STANDARD
BEGIN:DAYLIGHT
TZOFFSETFROM:-0800
TZOFFSETTO:-0700
TZNAME:PDT
DTSTART:19790429T100000
END:DAYLIGHT
BEGIN:STANDARD
TZOFFSETFROM:-0700
TZOFFSETTO:-0800
TZNAME:PST
DTSTART:19791028T090000
END:STANDARD
BEGIN:DAYLIGHT
TZOFFSETFROM:-0800
TZOFFSETTO:-0700
TZNAME:PDT
DTSTART:19800427T100000
END:DAYLIGHT
BEGIN:STANDARD
TZOFFSETFROM:-0700
TZOFFSETTO:-0800
TZNAME:PST
DTSTART:19801026T090000
END:STANDARD
BEGIN:DAYLIGHT
TZOFFSETFROM:-0800
TZOFFSETTO:-0700
TZNAME:PDT
DTSTART:19810426T100000
END:DAYLIGHT
BEGIN:STANDARD
TZOFFSETFROM:-0700
TZOFFSETTO:-0800
TZNAME:PST
DTSTART:19811025T090000
END:STANDARD
BEGIN:DAYLIGHT
TZOFFSETFROM:-0800
TZOFFSETTO:-0700
TZNAME:PDT
DTSTART:19820425T100000
END:DAYLIGHT
BEGIN:STANDARD
TZOFFSETFROM:-0700
TZOFFSETTO:-0800
TZNAME:PST
DTSTART:19821031T090000
END:STANDARD
BEGIN:DAYLIGHT
TZOFFSETFROM:-0800
TZOFFSETTO:-0700
TZNAME:PDT
DTSTART:19830424T100000
END:DAYLIGHT
BEGIN:STANDARD
TZOFFSETFROM:-0700
TZOFFSETTO:-0800
TZNAME:PST
DTSTART:19831030T090000
END:STANDARD
BEGIN:DAYLIGHT
TZOFFSETFROM:-0800
TZOFFSETTO:-0700
TZNAME:PDT
DTSTART:19840429T100000
END:DAYLIGHT
BEGIN:STANDARD
TZOFFSETFROM:-0700
TZOFFSETTO:-0800
TZNAME:PST
DTSTART:19841028T090000
END:STANDARD
BEGIN:DAYLIGHT
TZOFFSETFROM:-0800
TZOFFSETTO:-0700
TZNAME:PDT
DTSTART:19850428T100000
END:DAYLIGHT
BEGIN:STANDARD
TZOFFSETFROM:-0700
TZOFFSETTO:-0800
TZNAME:PST
DTSTART:19851027T090000
END:STANDARD
BEGIN:DAYLIGHT
TZOFFSETFROM:-0800
TZOFFSETTO:-0700
TZNAME:PDT
DTSTART:19860427T100000
END:DAYLIGHT
BEGIN:STANDARD
TZOFFSETFROM:-0700
TZOFFSETTO:-0800
TZNAME:PST
DTSTART:19861026T090000
END:STANDARD
BEGIN:DAYLIGHT
TZOFFSETFROM:-0800
TZOFFSETTO:-0700
TZNAME:PDT
DTSTART:19870405T100000
END:DAYLIGHT
BEGIN:STANDARD
TZOFFSETFROM:-0700
TZOFFSETTO:-0800
TZNAME:PST
DTSTART:19871025T090000
END:STANDARD
BEGIN:DAYLIGHT
TZOFFSETFROM:-0800
TZOFFSETTO:-0700
TZNAME:PDT
DTSTART:19880403T100000
END:DAYLIGHT
BEGIN:STANDARD
TZOFFSETFROM:-0700
TZOFFSETTO:-0800
TZNAME:PST
DTSTART:19881030T090000
END:STANDARD
BEGIN:DAYLIGHT
TZOFFSETFROM:-0800
TZOFFSETTO:-0700
TZNAME:PDT
DTSTART:19890402T100000
END:DAYLIGHT
BEGIN:STANDARD
TZOFFSETFROM:-0700
TZOFFSETTO:-0800
TZNAME:PST
DTSTART:19891029T090000
END:STANDARD
BEGIN:DAYLIGHT
TZOFFSETFROM:-0800
TZOFFSETTO:-0700
TZNAME:PDT
DTSTART:19900401T100000
END:DAYLIGHT
BEGIN:STANDARD
TZOFFSETFROM:-0700
TZOFFSETTO:-0800
TZNAME:PST
DTSTART:19901028T090000
END:STANDARD
BEGIN:DAYLIGHT
TZOFFSETFROM:-0800
TZOFFSETTO:-0700
TZNAME:PDT
DTSTART:19910407T100000
END:DAYLIGHT
BEGIN:STANDARD
TZOFFSETFROM:-0700
TZOFFSETTO:-0800
TZNAME:PST
DTSTART:19911027T090000
END:STANDARD
BEGIN:DAYLIGHT
TZOFFSETFROM:-0800
TZOFFSETTO:-0700
TZNAME:PDT
DTSTART:19920405T100000
END:DAYLIGHT
BEGIN:STANDARD
TZOFFSETFROM:-0700
TZOFFSETTO:-0800
TZNAME:PST
DTSTART:19921025T090000
END:STANDARD
BEGIN:DAYLIGHT
TZOFFSETFROM:-0800
TZOFFSETTO:-0700
TZNAME:PDT
DTSTART:19930404T100000
END:DAYLIGHT
BEGIN:STANDARD
TZOFFSETFROM:-0700
TZOFFSETTO:-0800
TZNAME:PST
DTSTART:19931031T090000
END:STANDARD
BEGIN:DAYLIGHT
TZOFFSETFROM:-0800
TZOFFSETTO:-0700
TZNAME:PDT
DTSTART:19940403T100000
END:DAYLIGHT
BEGIN:STANDARD
TZOFFSETFROM:-0700
TZOFFSETTO:-0800
TZNAME:PST
DTSTART:19941030T090000
END:STANDARD
BEGIN:DAYLIGHT
TZOFFSETFROM:-0800
TZOFFSETTO:-0700
TZNAME:PDT
DTSTART:19950402T100000
END:DAYLIGHT
BEGIN:STANDARD
TZOFFSETFROM:-0700
TZOFFSETTO:-0800
TZNAME:PST
DTSTART:19951029T090000
END:STANDARD
BEGIN:DAYLIGHT
TZOFFSETFROM:-0800
TZOFFSETTO:-0700
TZNAME:PDT
DTSTART:19960407T100000
END:DAYLIGHT
BEGIN:STANDARD
TZOFFSETFROM:-0700
TZOFFSETTO:-0800
TZNAME:PST
DTSTART:19961027T090000
END:STANDARD
BEGIN:DAYLIGHT
TZOFFSETFROM:-0800
TZOFFSETTO:-0700
TZNAME:PDT
DTSTART:19970406T100000
END:DAYLIGHT
BEGIN:STANDARD
TZOFFSETFROM:-0700
TZOFFSETTO:-0800
TZNAME:PST
DTSTART:19971026T090000
END:STANDARD
BEGIN:DAYLIGHT
TZOFFSETFROM:-0800
TZOFFSETTO:-0700
TZNAME:PDT
DTSTART:19980405T100000
END:DAYLIGHT
BEGIN:STANDARD
TZOFFSETFROM:-0700
TZOFFSETTO:-0800
TZNAME:PST
DTSTART:19981025T090000
END:STANDARD
BEGIN:DAYLIGHT
TZOFFSETFROM:-0800
TZOFFSETTO:-0700
TZNAME:PDT
DTSTART:19990404T100000
END:DAYLIGHT
BEGIN:STANDARD
TZOFFSETFROM:-0700
TZOFFSETTO:-0800
TZNAME:PST
DTSTART:19991031T090000
END:STANDARD
BEGIN:DAYLIGHT
TZOFFSETFROM:-0800
TZOFFSETTO:-0700
TZNAME:PDT
DTSTART:20000402T100000
END:DAYLIGHT
BEGIN:STANDARD
TZOFFSETFROM:-0700
TZOFFSETTO:-0800
TZNAME:PST
DTSTART:20001029T090000
END:STANDARD
BEGIN:DAYLIGHT
TZOFFSETFROM:-0800
TZOFFSETTO:-0700
TZNAME:PDT
DTSTART:20010401T100000
END:DAYLIGHT
BEGIN:STANDARD
TZOFFSETFROM:-0700
TZOFFSETTO:-0800
TZNAME:PST
DTSTART:20011028T090000
END:STANDARD
BEGIN:DAYLIGHT
TZOFFSETFROM:-0800
TZOFFSETTO:-0700
TZNAME:PDT
DTSTART:20020407T100000
END:DAYLIGHT
BEGIN:STANDARD
TZOFFSETFROM:-0700
TZOFFSETTO:-0800
TZNAME:PST
DTSTART:20021027T090000
END:STANDARD
BEGIN:DAYLIGHT
TZOFFSETFROM:-0800
TZOFFSETTO:-0700
TZNAME:PDT
DTSTART:20030406T100000
END:DAYLIGHT
BEGIN:STANDARD
TZOFFSETFROM:-0700
TZOFFSETTO:-0800
TZNAME:PST
DTSTART:20031026T090000
END:STANDARD
BEGIN:DAYLIGHT
TZOFFSETFROM:-0800
TZOFFSETTO:-0700
TZNAME:PDT
DTSTART:20040404T100000
END:DAYLIGHT
BEGIN:STANDARD
TZOFFSETFROM:-0700
TZOFFSETTO:-0800
TZNAME:PST
DTSTART:20041031T090000
END:STANDARD
BEGIN:DAYLIGHT
TZOFFSETFROM:-0800
TZOFFSETTO:-0700
TZNAME:PDT
DTSTART:20050403T100000
END:DAYLIGHT
BEGIN:STANDARD
TZOFFSETFROM:-0700
TZOFFSETTO:-0800
TZNAME:PST
DTSTART:20051030T090000
END:STANDARD
BEGIN:DAYLIGHT
TZOFFSETFROM:-0800
TZOFFSETTO:-0700
TZNAME:PDT
DTSTART:20060402T100000
END:DAYLIGHT
BEGIN:STANDARD
TZOFFSETFROM:-0700
TZOFFSETTO:-0800
TZNAME:PST
DTSTART:20061029T090000
END:STANDARD
BEGIN:DAYLIGHT
TZOFFSETFROM:-0800
TZOFFSETTO:-0700
TZNAME:PDT
DTSTART:20070311T100000
END:DAYLIGHT
BEGIN:STANDARD
TZOFFSETFROM:-0700
TZOFFSETTO:-0800
TZNAME:PST
DTSTART:20071104T090000
END:STANDARD
BEGIN:DAYLIGHT
TZOFFSETFROM:-0800
TZOFFSETTO:-0700
TZNAME:PDT
DTSTART:20080309T100000
END:DAYLIGHT
BEGIN:STANDARD
TZOFFSETFROM:-0700
TZOFFSETTO:-0800
TZNAME:PST
DTSTART:20081102T090000
END:STANDARD
BEGIN:DAYLIGHT
TZOFFSETFROM:-0800
TZOFFSETTO:-0700
TZNAME:PDT
DTSTART:20090308T100000
END:DAYLIGHT
BEGIN:STANDARD
TZOFFSETFROM:-0700
TZOFFSETTO:-0800
TZNAME:PST
DTSTART:20091101T090000
END:STANDARD
BEGIN:DAYLIGHT
TZOFFSETFROM:-0800
TZOFFSETTO:-0700
TZNAME:PDT
DTSTART:20100314T100000
END:DAYLIGHT
BEGIN:STANDARD
TZOFFSETFROM:-0700
TZOFFSETTO:-0800
TZNAME:PST
DTSTART:20101107T090000
END:STANDARD
BEGIN:DAYLIGHT
TZOFFSETFROM:-0800
TZOFFSETTO:-0700
TZNAME:PDT
DTSTART:20110313T100000
END:DAYLIGHT
BEGIN:STANDARD
TZOFFSETFROM:-0700
TZOFFSETTO:-0800
TZNAME:PST
DTSTART:20111106T090000
END:STANDARD
BEGIN:DAYLIGHT
TZOFFSETFROM:-0800
TZOFFSETTO:-0700
TZNAME:PDT
DTSTART:20120311T100000
END:DAYLIGHT
BEGIN:STANDARD
TZOFFSETFROM:-0700
TZOFFSETTO:-0800
TZNAME:PST
DTSTART:20121104T090000
END:STANDARD
BEGIN:DAYLIGHT
TZOFFSETFROM:-0800
TZOFFSETTO:-0700
TZNAME:PDT
DTSTART:20130310T100000
END:DAYLIGHT
BEGIN:STANDARD
TZOFFSETFROM:-0700
TZOFFSETTO:-0800
TZNAME:PST
DTSTART:20131103T090000
END:STANDARD
BEGIN:DAYLIGHT
TZOFFSETFROM:-0800
TZOFFSETTO:-0700
TZNAME:PDT
DTSTART:20140309T100000
END:DAYLIGHT
BEGIN:STANDARD
TZOFFSETFROM:-0700
TZOFFSETTO:-0800
TZNAME:PST
DTSTART:20141102T090000
END:STANDARD
BEGIN:DAYLIGHT
TZOFFSETFROM:-0800
TZOFFSETTO:-0700
TZNAME:PDT
DTSTART:20150308T100000
END:DAYLIGHT
BEGIN:STANDARD
TZOFFSETFROM:-0700
TZOFFSETTO:-0800
TZNAME:PST
DTSTART:20151101T090000
END:STANDARD
BEGIN:DAYLIGHT
TZOFFSETFROM:-0800
TZOFFSETTO:-0700
TZNAME:PDT
DTSTART:20160313T100000
END:DAYLIGHT
BEGIN:STANDARD
TZOFFSETFROM:-0700
TZOFFSETTO:-0800
TZNAME:PST
DTSTART:20161106T090000
END:STANDARD
BEGIN:DAYLIGHT
TZOFFSETFROM:-0800
TZOFFSETTO:-0700
TZNAME:PDT
DTSTART:20170312T100000
END:DAYLIGHT
BEGIN:STANDARD
TZOFFSETFROM:-0700
TZOFFSETTO:-0800
TZNAME:PST
DTSTART:20171105T090000
END:STANDARD
BEGIN:DAYLIGHT
TZOFFSETFROM:-0800
TZOFFSETTO:-0700
TZNAME:PDT
DTSTART:20180311T100000
END:DAYLIGHT
BEGIN:STANDARD
TZOFFSETFROM:-0700
TZOFFSETTO:-0800
TZNAME:PST
DTSTART:20181104T090000
END:STANDARD
BEGIN:DAYLIGHT
TZOFFSETFROM:-0800
TZOFFSETTO:-0700
TZNAME:PDT
DTSTART:20190310T100000
END:DAYLIGHT
BEGIN:STANDARD
TZOFFSETFROM:-0700
TZOFFSETTO:-0800
TZNAME:PST
DTSTART:20191103T090000
END:STANDARD
BEGIN:DAYLIGHT
TZOFFSETFROM:-0800
TZOFFSETTO:-0700
TZNAME:PDT
DTSTART:20200308T100000
END:DAYLIGHT
BEGIN:STANDARD
TZOFFSETFROM:-0700
TZOFFSETTO:-0800
TZNAME:PST
DTSTART:20201101T090000
END:STANDARD
BEGIN:DAYLIGHT
TZOFFSETFROM:-0800
TZOFFSETTO:-0700
TZNAME:PDT
DTSTART:20210314T100000
END:DAYLIGHT
BEGIN:STANDARD
TZOFFSETFROM:-0700
TZOFFSETTO:-0800
TZNAME:PST
DTSTART:20211107T090000
END:STANDARD
BEGIN:DAYLIGHT
TZOFFSETFROM:-0800
TZOFFSETTO:-0700
TZNAME:PDT
DTSTART:20220313T100000
END:DAYLIGHT
BEGIN:STANDARD
TZOFFSETFROM:-0700
TZOFFSETTO:-0800
TZNAME:PST
DTSTART:20221106T090000
END:STANDARD
BEGIN:DAYLIGHT
TZOFFSETFROM:-0800
TZOFFSETTO:-0700
TZNAME:PDT
DTSTART:20230312T100000
END:DAYLIGHT
BEGIN:STANDARD
TZOFFSETFROM:-0700
TZOFFSETTO:-0800
TZNAME:PST
DTSTART:20231105T090000
END:STANDARD
BEGIN:DAYLIGHT
TZOFFSETFROM:-0800
TZOFFSETTO:-0700
TZNAME:PDT
DTSTART:20240310T100000
END:DAYLIGHT
BEGIN:STANDARD
TZOFFSETFROM:-0700
TZOFFSETTO:-0800
TZNAME:PST
DTSTART:20241103T090000
END:STANDARD
BEGIN:DAYLIGHT
TZOFFSETFROM:-0800
TZOFFSETTO:-0700
TZNAME:PDT
DTSTART:20250309T100000
END:DAYLIGHT
BEGIN:STANDARD
TZOFFSETFROM:-0700
TZOFFSETTO:-0800
TZNAME:PST
DTSTART:20251102T090000
END:STANDARD
BEGIN:DAYLIGHT
TZOFFSETFROM:-0800
TZOFFSETTO:-0700
TZNAME:PDT
DTSTART:20260308T100000
END:DAYLIGHT
BEGIN:STANDARD
TZOFFSETFROM:-0700
TZOFFSETTO:-0800
TZNAME:PST
DTSTART:20261101T090000
END:STANDARD
END:VTIMEZONE
BEGIN:VEVENT
DTSTART;TZID=America/Los_Angeles:20260421T131839
DTEND;TZID=America/Los_Angeles:20250214T213000
DTSTAMP:20260421T131839
CREATED:20250126T063439Z
LAST-MODIFIED:20250126T063439Z
UID:205487-0-1739568600@socalpulse.com
SUMMARY:What the World Needs Now
DESCRIPTION:Rob Fisher\, music director and piano\, is joined by vocalists Ross Lekites and Bianca Marroquin to proclaim what “there’s just too little of…love\, sweet love.”
URL:https://socalpulse.com/event/what-the-world-needs-now/
LOCATION:Jacobs Music Center\, 1245 Seventh Avenue\, San Diego\, California\, 92101
CATEGORIES:San Diego
ATTACH;FMTTYPE=image/png:https://socalpulse.com/wp-content/uploads/2025/01/Valentines-Day-with-SD-Sympphony.png
END:VEVENT
BEGIN:VEVENT
DTSTART;VALUE=DATE:20240630
DTEND;VALUE=DATE:20240916
DTSTAMP:20260421T131839
CREATED:20240531T165543Z
LAST-MODIFIED:20240531T165543Z
UID:200321-1719705600-1726444799@socalpulse.com
SUMMARY:Henry 6 Part One: Flowers and France
DESCRIPTION:The plays chronicle two ruling families of medieval England\, the Yorks and the Lancasters\, as they fight each other in a civil war known as the Wars of the Roses. A two-part event.
URL:https://socalpulse.com/event/henry-6-part-one-flowers-and-france/
LOCATION:The Old Globe\, 1363 Old Globe Way\, San Diego\, 92101\, United States
CATEGORIES:San Diego
ATTACH;FMTTYPE=image/png:https://socalpulse.com/wp-content/uploads/2024/05/old-globe.png
END:VEVENT
BEGIN:VEVENT
DTSTART;VALUE=DATE:20240703
DTEND;VALUE=DATE:20240805
DTSTAMP:20260421T131839
CREATED:20240628T163605Z
LAST-MODIFIED:20240628T163609Z
UID:200932-1719964800-1722815999@socalpulse.com
SUMMARY:tick\, tick … BOOM!
DESCRIPTION:Fans of Rent will love this production about Jonathan Larson before his score redefined a genre. It follows his struggle as he seeks his big break and all the pressures mounting on his life as he approaches his 30th birthday. Will he lose the love of his life? Will he write a song that will change everything?
URL:https://socalpulse.com/event/tick-tick-boom/
LOCATION:Cygnet Theatre\, 4040 Twiggs St.\, San Diego\, 92110\, United States
CATEGORIES:San Diego
ATTACH;FMTTYPE=image/jpeg:https://socalpulse.com/wp-content/uploads/2024/06/2.jpg
END:VEVENT
BEGIN:VEVENT
DTSTART;VALUE=DATE:20240706
DTEND;VALUE=DATE:20240805
DTSTAMP:20260421T131839
CREATED:20240628T164749Z
LAST-MODIFIED:20240628T164749Z
UID:200948-1720224000-1722815999@socalpulse.com
SUMMARY:Duel Reality
DESCRIPTION:Love\, honor\, and betrayal come to life through a blend of acrobatics\, theatre\, and music by the 7 Fingers\, in this one-act romp perfect for all ages. The exhilaration and danger of competition provide the thrilling backdrop to The 7 Fingers’s one-of-a-kind daredevil theatrical extravaganza.
URL:https://socalpulse.com/event/duel-reality/
LOCATION:The Old Globe\, 1363 Old Globe Way\, San Diego\, 92101\, United States
CATEGORIES:San Diego
ATTACH;FMTTYPE=image/jpeg:https://socalpulse.com/wp-content/uploads/2024/06/7.jpg
END:VEVENT
BEGIN:VEVENT
DTSTART;VALUE=DATE:20240709
DTEND;VALUE=DATE:20240916
DTSTAMP:20260421T131839
CREATED:20240628T165358Z
LAST-MODIFIED:20240628T165358Z
UID:200957-1720483200-1726444799@socalpulse.com
SUMMARY:Henry 6 Part Two: Riot and Reckoning
DESCRIPTION:The plays chronicle two ruling families of medieval England\, the Yorks and the Lancasters\, as they fight each other in a civil war known as the Wars of the Roses. Presented as a two-part event
URL:https://socalpulse.com/event/henry-6-part-two-riot-and-reckoning/
LOCATION:The Old Globe\, 1363 Old Globe Way\, San Diego\, 92101\, United States
CATEGORIES:San Diego
ATTACH;FMTTYPE=image/jpeg:https://socalpulse.com/wp-content/uploads/2024/06/10.jpg
END:VEVENT
BEGIN:VEVENT
DTSTART;VALUE=DATE:20240717
DTEND;VALUE=DATE:20240812
DTSTAMP:20260421T131839
CREATED:20240628T171312Z
LAST-MODIFIED:20240628T171312Z
UID:200974-1721174400-1723420799@socalpulse.com
SUMMARY:Don’t Dress for Dinner
DESCRIPTION:Playwright Marc Camoletti’s recipe for comedic confusion combines some sexy hanky-panky\, mistaken identity\, and\, of course\, dinner in a French country house. Witty dialogue\, funny sight gags and a touch of slapstick are just a few ingredients that make Don’t Dress for Dinner simmer into action.
URL:https://socalpulse.com/event/dont-dress-for-dinner/
LOCATION:North Coast Rep\, 987 Lomas Santa Fe Dr Suite D\, Solana Beach\, CA\, 92075\, United States
CATEGORIES:San Diego
ATTACH;FMTTYPE=image/jpeg:https://socalpulse.com/wp-content/uploads/2024/06/14.jpg
END:VEVENT
BEGIN:VEVENT
DTSTART;VALUE=DATE:20240723
DTEND;VALUE=DATE:20240819
DTSTAMP:20260421T131839
CREATED:20240628T205909Z
LAST-MODIFIED:20240628T205909Z
UID:200994-1721692800-1724025599@socalpulse.com
SUMMARY:Derecho
DESCRIPTION:A series of intense storms – a “derecho” – is bearing down on an affluent Virginia neighborhood near D.C.\, where Eugenia Silva is preparing for a crucial meeting. On the night of the storm\, tensions between two sisters reach boiling point as the personal and political collide. World-premiere play by Noelle Viñas.
URL:https://socalpulse.com/event/derecho/
LOCATION:La Jolla Playhouse\, 2910 La Jolla Village Drive\, La Jolla\, CA\, 92037\, United States
CATEGORIES:San Diego
ATTACH;FMTTYPE=image/jpeg:https://socalpulse.com/wp-content/uploads/2024/06/Derecho.jpg
END:VEVENT
BEGIN:VEVENT
DTSTART;VALUE=DATE:20240727
DTEND;VALUE=DATE:20240826
DTSTAMP:20260421T131839
CREATED:20240702T144546Z
LAST-MODIFIED:20240702T144546Z
UID:201016-1722038400-1724630399@socalpulse.com
SUMMARY:Ms. Holmes & Ms. Watson - Apt. 2B
DESCRIPTION:A present-day reimagining of Holmes and Watson: steampunk hipster Shirley Holmes and her spunky new roommate Joan Watson become entangled in a series of cases all related to the same supervillain\, who always seems to be one step ahead of them. \nSheryl and Harvey White Theatre\,\n1363 Old Globe Way\, San Diego
URL:https://socalpulse.com/event/ms-holmes-ms-watson-apt-2b/
LOCATION:The Old Globe\, 1363 Old Globe Way\, San Diego\, 92101\, United States
CATEGORIES:San Diego
ATTACH;FMTTYPE=image/jpeg:https://socalpulse.com/wp-content/uploads/2024/07/sherlock-holmes-old-globe.jpg
END:VEVENT
BEGIN:VEVENT
DTSTART;TZID=America/Los_Angeles:20240802T080000
DTEND;TZID=America/Los_Angeles:20240802T170000
DTSTAMP:20260421T131839
CREATED:20240730T165819Z
LAST-MODIFIED:20240730T165819Z
UID:201742-1722585600-1722618000@socalpulse.com
SUMMARY:'RENT' in Concert
DESCRIPTION:Experience the iconic music of RENT like never before: live with stellar vocalist and the raw powerof the San Diego Symphony Orchestra\, led by conductor Sean O’Loughlin.
URL:https://socalpulse.com/event/rent-in-concert/
LOCATION:The Old Globe\, 1363 Old Globe Way\, San Diego\, 92101\, United States
CATEGORIES:San Diego
ATTACH;FMTTYPE=image/png:https://socalpulse.com/wp-content/uploads/2024/07/RENT.png
END:VEVENT
BEGIN:VEVENT
DTSTART;TZID=America/Los_Angeles:20240804T140000
DTEND;TZID=America/Los_Angeles:20240804T150000
DTSTAMP:20260421T131839
CREATED:20240731T152449Z
LAST-MODIFIED:20240731T152449Z
UID:201772-1722780000-1722783600@socalpulse.com
SUMMARY:The Rocket Man Experience
DESCRIPTION:Tom Cridland has devoted himself to celebrating the artistic legacy of Sir Elton Hercules John and his long-term bandmates\, Nigel Olsson\, Davey Johnstone\, Dee Murray and Ray Cooper\, through his live performances of Tom’s Elton Tribute.
URL:https://socalpulse.com/event/the-rocket-man-experience/
LOCATION:Ocean Side Theatre\, 217 N. Coast Highway\, Oceanside\, CA\, 92054\, United States
CATEGORIES:San Diego
ATTACH;FMTTYPE=image/png:https://socalpulse.com/wp-content/uploads/2024/07/rocketman.png
END:VEVENT
BEGIN:VEVENT
DTSTART;TZID=America/Los_Angeles:20240806T190000
DTEND;TZID=America/Los_Angeles:20240806T210000
DTSTAMP:20260421T131839
CREATED:20240731T152731Z
LAST-MODIFIED:20240731T152731Z
UID:201775-1722970800-1722978000@socalpulse.com
SUMMARY:Norah Jones Visions Tour 2024
DESCRIPTION:Live Nation presents Norah Jones upon the release of her ninth solo album Visions\, a collaboration with producer and multi-instrumentalist Leon Michels.
URL:https://socalpulse.com/event/norah-jones-visions-tour-2024/
LOCATION:The Rady Shell at Jacob Parks\, 222 Marina Park Way\, San Diego\, CA\, 92101\, United States
CATEGORIES:San Diego
ATTACH;FMTTYPE=image/png:https://socalpulse.com/wp-content/uploads/2024/07/Norajones.png
END:VEVENT
BEGIN:VEVENT
DTSTART;VALUE=DATE:20240809
DTEND;VALUE=DATE:20240811
DTSTAMP:20260421T131839
CREATED:20240731T153145Z
LAST-MODIFIED:20240731T153145Z
UID:201781-1723161600-1723334399@socalpulse.com
SUMMARY:Star Wars: Return of the Jedi in Concert
DESCRIPTION:The San Diego Symphony will present Star Wars: Return of the Jedi in Concert with composer John Williams’ venerated score performed live to the film. The concert will be led by conductor Norman Huynh.
URL:https://socalpulse.com/event/star-wars-return-of-the-jedi-in-concert-2/
LOCATION:The Rady Shell at Jacob Parks\, 222 Marina Park Way\, San Diego\, CA\, 92101\, United States
CATEGORIES:San Diego
ATTACH;FMTTYPE=image/png:https://socalpulse.com/wp-content/uploads/2024/07/starwars.png
END:VEVENT
BEGIN:VEVENT
DTSTART;TZID=America/Los_Angeles:20240810T193000
DTEND;TZID=America/Los_Angeles:20240810T213000
DTSTAMP:20260421T131839
CREATED:20240731T154708Z
LAST-MODIFIED:20240731T154708Z
UID:201789-1723318200-1723325400@socalpulse.com
SUMMARY:“Rhinestone Cowboy” A Tribute to Glen Campbell
DESCRIPTION:Glen Campbell American Pop Country singer Grammy Award-Winning artist of the 1960s and 70s is celebrated by Jeff Ellis an award-winning artist. Performing hits with a full live band and big hits such as “Rhinestone Cowboy”\, “ Galveston” and so many more..
URL:https://socalpulse.com/event/rhinestone-cowboy-a-tribute-to-glen-campbell/
LOCATION:California Center for the Arts\, Escondido\, 340 N Escondido Blvd\, Escondido\, CA\, 92025\, United States
CATEGORIES:San Diego
ATTACH;FMTTYPE=image/png:https://socalpulse.com/wp-content/uploads/2024/07/guitarist.png
END:VEVENT
BEGIN:VEVENT
DTSTART;TZID=America/Los_Angeles:20240811T193000
DTEND;TZID=America/Los_Angeles:20240811T213000
DTSTAMP:20260421T131839
CREATED:20240731T154905Z
LAST-MODIFIED:20240731T154905Z
UID:201792-1723404600-1723411800@socalpulse.com
SUMMARY:Jason Mraz and The Superband: The Mystical
DESCRIPTION:Jason Mraz and the Superband return to The Rady Shell at Jacobs Park\, this time backed up by the glorious sounds of the San Diego Symphony\, one of only two dates on this tour accompanied by symphony orchestra.
URL:https://socalpulse.com/event/jason-mraz-and-the-superband-the-mystical/
LOCATION:The Rady Shell at Jacob Parks\, 222 Marina Park Way\, San Diego\, CA\, 92101\, United States
CATEGORIES:San Diego
ATTACH;FMTTYPE=image/png:https://socalpulse.com/wp-content/uploads/2024/07/jasonmaaz.png
END:VEVENT
BEGIN:VEVENT
DTSTART;VALUE=DATE:20240813
DTEND;VALUE=DATE:20240909
DTSTAMP:20260421T131839
CREATED:20240731T155353Z
LAST-MODIFIED:20240731T155353Z
UID:201798-1723507200-1725839999@socalpulse.com
SUMMARY:
DESCRIPTION:Part memoir\, part manifesto about the rise of a superstar\, inspired by Sasha Velour’s own origin story and the history of Drag.
URL:https://socalpulse.com/event/201798/
LOCATION:La Jolla Playhouse\, 2910 La Jolla Village Drive\, La Jolla\, CA\, 92037\, United States
CATEGORIES:San Diego
ATTACH;FMTTYPE=image/png:https://socalpulse.com/wp-content/uploads/2024/07/drag.png
END:VEVENT
BEGIN:VEVENT
DTSTART;VALUE=DATE:20240813
DTEND;VALUE=DATE:20240916
DTSTAMP:20260421T131839
CREATED:20240816T174421Z
LAST-MODIFIED:20240816T174421Z
UID:202262-1723507200-1726444799@socalpulse.com
SUMMARY:VELOUR: A DRAG SPECTACULAR
DESCRIPTION:Created by groundbreaking drag artist Sasha Velour and legendary theatre artist Moisés Kaufman\, Velour: A Drag Spectacular is a sweeping\, coming-of-age tale that intertwines the radical history of drag and queer expression with personal storytelling. Inspired by Velour’s journey from a small-town\, genderfluid child to a globally renowned drag superstar\, the show unfolds through a stunning blend of innovative projection mapping\, video animation\, and awe-inspiring lip-sync performances. Velour\, known for her emotional and provocative performance art\, uses the power of drag to reveal her deepest fears and joys\, immersing the audience in a vivid queer fantasia. Velour: A Drag Spectacularexplores the often confusing yet joyous search for belonging\, the deep wells of grief that force us to confront our inner truths\, and ultimately\, the beauty and humanity of drag.
URL:https://socalpulse.com/event/velour-a-drag-spectacular/
LOCATION:La Jolla Playhouse\, 2910 La Jolla Village Drive\, La Jolla\, CA\, 92037\, United States
CATEGORIES:San Diego
ATTACH;FMTTYPE=image/jpeg:https://socalpulse.com/wp-content/uploads/2024/08/Velour.jpg
END:VEVENT
BEGIN:VEVENT
DTSTART;TZID=America/Los_Angeles:20240816T193000
DTEND;TZID=America/Los_Angeles:20240816T203000
DTSTAMP:20260421T131839
CREATED:20240731T155857Z
LAST-MODIFIED:20240731T155857Z
UID:201801-1723836600-1723840200@socalpulse.com
SUMMARY:Totally '80s
DESCRIPTION:Celebrate one of the best decades of music and relive the rock\, R&B\, and new wave hits from icons like George Michael\, Phil Collins\, Blondie\, Huey Lewis & The News\, Journey\, Michael Jackson and more with conductor Stuart Chafetz and the San Diego Symphony Orchestra.
URL:https://socalpulse.com/event/totally-80s/
LOCATION:The Rady Shell at Jacob Parks\, 222 Marina Park Way\, San Diego\, CA\, 92101\, United States
CATEGORIES:San Diego
ATTACH;FMTTYPE=image/png:https://socalpulse.com/wp-content/uploads/2024/07/totally.png
END:VEVENT
BEGIN:VEVENT
DTSTART;TZID=America/Los_Angeles:20240817T193000
DTEND;TZID=America/Los_Angeles:20240817T213000
DTSTAMP:20260421T131839
CREATED:20240731T160044Z
LAST-MODIFIED:20240731T160044Z
UID:201805-1723923000-1723930200@socalpulse.com
SUMMARY:Miles Davis: Kind of Blue
DESCRIPTION:
URL:https://socalpulse.com/event/miles-davis-kind-of-blue/
LOCATION:The Rady Shell at Jacob Parks\, 222 Marina Park Way\, San Diego\, CA\, 92101\, United States
CATEGORIES:San Diego
ATTACH;FMTTYPE=image/png:https://socalpulse.com/wp-content/uploads/2024/07/mykindofblue.png
END:VEVENT
BEGIN:VEVENT
DTSTART;TZID=America/Los_Angeles:20240818T193000
DTEND;TZID=America/Los_Angeles:20240818T213000
DTSTAMP:20260421T131839
CREATED:20240731T160244Z
LAST-MODIFIED:20240731T160244Z
UID:201808-1724009400-1724016600@socalpulse.com
SUMMARY:Gipsy Kings Featuring Nicolas Reyes
DESCRIPTION:Gipsy King\, made up of members of the Reyes and Baliardo families\, is known for their mix of Catalan rumba\, flamenco\, salsa and pop music. Their rendition of “Hotel California” was included in the film \nThe Big Lebowski. \nTheir music has also been featured in shows like \nEntourage\nand Disney’s \n Toy Story 3
URL:https://socalpulse.com/event/gipsy-kings-featuring-nicolas-reyes/
LOCATION:The Rady Shell at Jacob Parks\, 222 Marina Park Way\, San Diego\, CA\, 92101\, United States
CATEGORIES:San Diego
ATTACH;FMTTYPE=image/png:https://socalpulse.com/wp-content/uploads/2024/07/gipsy.png
END:VEVENT
BEGIN:VEVENT
DTSTART;TZID=America/Los_Angeles:20240824T190000
DTEND;TZID=America/Los_Angeles:20240824T210000
DTSTAMP:20260421T131839
CREATED:20240731T160731Z
LAST-MODIFIED:20240731T160731Z
UID:201815-1724526000-1724533200@socalpulse.com
SUMMARY:Gary Clark Jr.
DESCRIPTION:Gary Clark Jr. achieved global impact following his first Grammy in 2014\, winning Best Traditional R&B Performance. Throughout 2019\, Clark ascended to greater heights. Clark has just completed his fourth and most compelling body of work to date\, titled JPEG RAW\, out now via Warner Records.
URL:https://socalpulse.com/event/gary-clark-jr/
LOCATION:The Rady Shell at Jacob Parks\, 222 Marina Park Way\, San Diego\, CA\, 92101\, United States
CATEGORIES:San Diego
ATTACH;FMTTYPE=image/png:https://socalpulse.com/wp-content/uploads/2024/07/Gary.png
END:VEVENT
BEGIN:VEVENT
DTSTART;TZID=America/Los_Angeles:20240830T193000
DTEND;TZID=America/Los_Angeles:20240830T213000
DTSTAMP:20260421T131839
CREATED:20240731T161408Z
LAST-MODIFIED:20240731T161408Z
UID:201822-1725046200-1725053400@socalpulse.com
SUMMARY:Tchaikovsky Spectacular
DESCRIPTION:The final classical concert of the summer season features Rafael Payare conducting the San Diego Symphony Orchestra with soloist Blake Pouliot. The concert will end with a pyrotechnic/firework display accompaniment to the 1812 Overture.
URL:https://socalpulse.com/event/tchaikovsky-spectacular-2/
LOCATION:The Rady Shell at Jacob Parks\, 222 Marina Park Way\, San Diego\, CA\, 92101\, United States
CATEGORIES:San Diego
ATTACH;FMTTYPE=image/png:https://socalpulse.com/wp-content/uploads/2024/07/tchaikovsyk.png
END:VEVENT
END:VCALENDAR