BEGIN:VCALENDAR
VERSION:2.0
PRODID:-//SoCalPulse - ECPv6.15.20//NONSGML v1.0//EN
CALSCALE:GREGORIAN
METHOD:PUBLISH
X-ORIGINAL-URL:https://socalpulse.com
X-WR-CALDESC:Events for SoCalPulse
REFRESH-INTERVAL;VALUE=DURATION:PT1H
X-Robots-Tag:noindex
X-PUBLISHED-TTL:PT1H
BEGIN:VTIMEZONE
TZID:America/Los_Angeles
BEGIN:DAYLIGHT
TZOFFSETFROM:-0800
TZOFFSETTO:-0700
TZNAME:PDT
DTSTART:20230312T100000
END:DAYLIGHT
BEGIN:STANDARD
TZOFFSETFROM:-0700
TZOFFSETTO:-0800
TZNAME:PST
DTSTART:20231105T090000
END:STANDARD
BEGIN:DAYLIGHT
TZOFFSETFROM:-0800
TZOFFSETTO:-0700
TZNAME:PDT
DTSTART:20240310T100000
END:DAYLIGHT
BEGIN:STANDARD
TZOFFSETFROM:-0700
TZOFFSETTO:-0800
TZNAME:PST
DTSTART:20241103T090000
END:STANDARD
BEGIN:DAYLIGHT
TZOFFSETFROM:-0800
TZOFFSETTO:-0700
TZNAME:PDT
DTSTART:20250309T100000
END:DAYLIGHT
BEGIN:STANDARD
TZOFFSETFROM:-0700
TZOFFSETTO:-0800
TZNAME:PST
DTSTART:20251102T090000
END:STANDARD
END:VTIMEZONE
BEGIN:VTIMEZONE
TZID:America/Los_Angeles
BEGIN:DAYLIGHT
TZOFFSETFROM:-0800
TZOFFSETTO:-0700
TZNAME:PDT
DTSTART:20230312T100000
END:DAYLIGHT
BEGIN:STANDARD
TZOFFSETFROM:-0700
TZOFFSETTO:-0800
TZNAME:PST
DTSTART:20231105T090000
END:STANDARD
BEGIN:DAYLIGHT
TZOFFSETFROM:-0800
TZOFFSETTO:-0700
TZNAME:PDT
DTSTART:20240310T100000
END:DAYLIGHT
BEGIN:STANDARD
TZOFFSETFROM:-0700
TZOFFSETTO:-0800
TZNAME:PST
DTSTART:20241103T090000
END:STANDARD
BEGIN:DAYLIGHT
TZOFFSETFROM:-0800
TZOFFSETTO:-0700
TZNAME:PDT
DTSTART:20250309T100000
END:DAYLIGHT
BEGIN:STANDARD
TZOFFSETFROM:-0700
TZOFFSETTO:-0800
TZNAME:PST
DTSTART:20251102T090000
END:STANDARD
END:VTIMEZONE
BEGIN:VEVENT
DTSTART;TZID=America/Los_Angeles:20240507T200000
DTEND;TZID=America/Los_Angeles:20240507T220000
DTSTAMP:20260419T085422
CREATED:20240503T161016Z
LAST-MODIFIED:20240503T161016Z
UID:199403-1715112000-1715119200@socalpulse.com
SUMMARY:Chamber Music with the LA Phil
DESCRIPTION:From string quartets and piano trios to wind quintets or a brass ensemble\, chamber music concerts feature members of the Los Angeles Philharmonic performing in small groups.
URL:https://socalpulse.com/event/chamber-music-with-the-la-phil/
LOCATION:Walt Disney Concert Hall\, 111 S Grand Ave\, Los Angeles\, CA\, 90012\, United States
CATEGORIES:Los Angeles
ATTACH;FMTTYPE=image/png:https://socalpulse.com/wp-content/uploads/2024/05/beeth.png
END:VEVENT
BEGIN:VEVENT
DTSTART;VALUE=DATE:20240509
DTEND;VALUE=DATE:20240513
DTSTAMP:20260419T085422
CREATED:20240503T161452Z
LAST-MODIFIED:20240503T161452Z
UID:199409-1715212800-1715558399@socalpulse.com
SUMMARY:Dvořák and Ortiz with Dudamel
DESCRIPTION:Stellar violinist María Dueñas returns\, and Dudamel leads Dvořák’s “New World” Symphony.
URL:https://socalpulse.com/event/dvorak-and-ortiz-with-dudamel/
LOCATION:Walt Disney Concert Hall\, 111 S Grand Ave\, Los Angeles\, CA\, 90012\, United States
CATEGORIES:Los Angeles
ATTACH;FMTTYPE=image/png:https://socalpulse.com/wp-content/uploads/2024/05/laphil.png
END:VEVENT
BEGIN:VEVENT
DTSTART;VALUE=DATE:20240510
DTEND;VALUE=DATE:20240512
DTSTAMP:20260419T085422
CREATED:20240503T162148Z
LAST-MODIFIED:20240503T162148Z
UID:199418-1715299200-1715471999@socalpulse.com
SUMMARY:Ballet Jazz Montreal: Dance Me
DESCRIPTION:Dance Me is an exclusive creation inspired by the rich and profound work of Montreal-based poet\, artist\, and songwriter\, Leonard Cohen. Approved by Cohen during his lifetime\, this riveting homage to the famed artist evokes the grand cycles of existence in five seasons\, as described in Cohen’s deeply reflective music and poems.
URL:https://socalpulse.com/event/ballet-jazz-montreal-dance-me/
LOCATION:The Wallis\, 9390 N. Santa Monica Blvd\, Beverly Hills\, CA\, 92010\, United States
CATEGORIES:Los Angeles
ATTACH;FMTTYPE=image/png:https://socalpulse.com/wp-content/uploads/2024/05/dance.png
END:VEVENT
BEGIN:VEVENT
DTSTART;TZID=America/Los_Angeles:20240510T193000
DTEND;TZID=America/Los_Angeles:20240510T213000
DTSTAMP:20260419T085422
CREATED:20240503T162036Z
LAST-MODIFIED:20240503T162036Z
UID:199415-1715369400-1715376600@socalpulse.com
SUMMARY:Elīna Garanča with Orchestra
DESCRIPTION:BroadStage’s Celebrity Opera Recital series welcomes the return of audience favorite\, mezzo-soprano Elīna Garanča\, in a special concert featuring a full orchestra led by British conductor Karel Mark Chichon.
URL:https://socalpulse.com/event/elina-garanca-with-orchestra/
LOCATION:broadstage\, 1310 11TH STREET\, Santa Monica\, CA\, 90401\, United States
CATEGORIES:Los Angeles
ATTACH;FMTTYPE=image/png:https://socalpulse.com/wp-content/uploads/2024/05/elina.png
END:VEVENT
BEGIN:VEVENT
DTSTART;TZID=America/Los_Angeles:20240510T200000
DTEND;TZID=America/Los_Angeles:20240510T220000
DTSTAMP:20260419T085422
CREATED:20240502T173418Z
LAST-MODIFIED:20240502T173418Z
UID:199267-1715371200-1715378400@socalpulse.com
SUMMARY:Alessandro Martire's Piano Premiere
DESCRIPTION:Internationally acclaimed Italian pianist and composer Alessandro Martire is set to deliver a captivating evening of music in New York. Known for his innovative blend of classical and contemporary sounds\, Martire’s music combines elements of pop\, minimalism\, and crossover genres\, creating a cinematic experience that resonates with intimate emotions and the soul’s journey. His modern approach to classical music will engage and inspire audiences\, inviting them on a reflective exploration of desires\, encounters\, and heartfelt journeys.
URL:https://socalpulse.com/event/alessandro-martires-piano-premiere/
LOCATION:Zipper Concert Hall\, 200 South Grand Avenue\, Los Angeles\, 90012\, United States
CATEGORIES:Los Angeles
ATTACH;FMTTYPE=image/png:https://socalpulse.com/wp-content/uploads/2024/05/Alessandro.png
END:VEVENT
BEGIN:VEVENT
DTSTART;TZID=America/Los_Angeles:20240511T080000
DTEND;TZID=America/Los_Angeles:20240511T170000
DTSTAMP:20260419T085422
CREATED:20240503T162833Z
LAST-MODIFIED:20240503T162844Z
UID:199428-1715414400-1715446800@socalpulse.com
SUMMARY:Firebird & Serenade
DESCRIPTION:Firebird is the Russian-Slavic folk tale that tells the story of a magical bird made of fire and it originally debuted in Paris by Imperial Russian choreographer Michel Fokine in 1910. It is paired with Serenade\, the first original ballet Balanchine created in America and a signature works of the New York City Ballet’s repertory.
URL:https://socalpulse.com/event/firebird-serenade/
CATEGORIES:Los Angeles
ATTACH;FMTTYPE=image/png:https://socalpulse.com/wp-content/uploads/2024/05/firebird.png
END:VEVENT
BEGIN:VEVENT
DTSTART;TZID=America/Los_Angeles:20240511T200000
DTEND;TZID=America/Los_Angeles:20240511T220000
DTSTAMP:20260419T085422
CREATED:20240503T162611Z
LAST-MODIFIED:20240503T162611Z
UID:199425-1715457600-1715464800@socalpulse.com
SUMMARY:Pacific Jazz Orchestra with Aaron Tveit
DESCRIPTION:Tony award-winning Aaron Tveit makes a Soraya debut\, bringing his powerhouse vocals and matinee idol charisma. In addition to a searing performance in the original Broadway cast of Moulin Rouge. Tveit joins Pacific Jazz Orchestra\, 40 of the finest musicians led by Hollywood veteran Chris Walden\, whose new ensemble is the latest addition to the Los Angeles musical landscape.
URL:https://socalpulse.com/event/pacific-jazz-orchestra-with-aaron-tveit/
LOCATION:The Soraya\, 18111 Nordhoff Street\, Northridge\, CA\, 91330\, United States
CATEGORIES:Los Angeles
ATTACH;FMTTYPE=image/png:https://socalpulse.com/wp-content/uploads/2024/05/toni.png
END:VEVENT
BEGIN:VEVENT
DTSTART;TZID=America/Los_Angeles:20240511T200000
DTEND;TZID=America/Los_Angeles:20240511T220000
DTSTAMP:20260419T085422
CREATED:20240503T163042Z
LAST-MODIFIED:20240503T163042Z
UID:199431-1715457600-1715464800@socalpulse.com
SUMMARY:See/Feel/Hear Music: Artistic Explorations in Music and Deafness
DESCRIPTION:Curated by Deaf West Theatre in collaboration with the LA Phil’s Insight program\, the symposium offers a combination of conversations\, presentations\, film\, and lobby activations. Featured artists include Dame Evelyn Glennie\, Christine Sun Kim\, DJ Kurs\, and Andrew Yee.
URL:https://socalpulse.com/event/see-feel-hear-music-artistic-explorations-in-music-and-deafness/
LOCATION:Walt Disney Concert Hall\, 111 S Grand Ave\, Los Angeles\, CA\, 90012\, United States
CATEGORIES:Los Angeles
ATTACH;FMTTYPE=image/png:https://socalpulse.com/wp-content/uploads/2024/05/lap.png
END:VEVENT
BEGIN:VEVENT
DTSTART;TZID=America/Los_Angeles:20240511T200000
DTEND;TZID=America/Los_Angeles:20240511T220000
DTSTAMP:20260419T085422
CREATED:20240503T163310Z
LAST-MODIFIED:20240503T163310Z
UID:199434-1715457600-1715464800@socalpulse.com
SUMMARY:Queen Esther
DESCRIPTION:In her BroadStage debut\, Queen Esther performs selections from her body of alt-country\, jazz and Black Americana for the blackbox series curated by Reverend Shawn Amos. She is joined on stage by guitarist Jeff McLaughlin.
URL:https://socalpulse.com/event/queen-esther/
LOCATION:broadstage\, 1310 11TH STREET\, Santa Monica\, CA\, 90401\, United States
CATEGORIES:Los Angeles
ATTACH;FMTTYPE=image/png:https://socalpulse.com/wp-content/uploads/2024/05/quuen.png
END:VEVENT
BEGIN:VEVENT
DTSTART;TZID=America/Los_Angeles:20240512T193000
DTEND;TZID=America/Los_Angeles:20240512T213000
DTSTAMP:20260419T085422
CREATED:20240503T164149Z
LAST-MODIFIED:20240503T164149Z
UID:199447-1715542200-1715549400@socalpulse.com
SUMMARY:Yuja Wang
DESCRIPTION:A star pianist who always shines brightest on the Walt Disney Concert Hall stage returns.
URL:https://socalpulse.com/event/yuja-wang/
LOCATION:Walt Disney Concert Hall\, 111 S Grand Ave\, Los Angeles\, CA\, 90012\, United States
CATEGORIES:Los Angeles
ATTACH;FMTTYPE=image/png:https://socalpulse.com/wp-content/uploads/2024/05/yuja.png
END:VEVENT
BEGIN:VEVENT
DTSTART;VALUE=DATE:20240516
DTEND;VALUE=DATE:20240518
DTSTAMP:20260419T085422
CREATED:20240503T165101Z
LAST-MODIFIED:20240503T165101Z
UID:199462-1715817600-1715990399@socalpulse.com
SUMMARY:Beethoven's Fidelio with Dudamel and Deaf West Theatre
DESCRIPTION:A story told through the composer’s music sung by hearing vocalists and the expressive gestural poetry of sign language by Deaf actors.
URL:https://socalpulse.com/event/beethovens-fidelio-with-dudamel-and-deaf-west-theatre/
LOCATION:Walt Disney Concert Hall\, 111 S Grand Ave\, Los Angeles\, CA\, 90012\, United States
CATEGORIES:Los Angeles
ATTACH;FMTTYPE=image/png:https://socalpulse.com/wp-content/uploads/2024/05/fidelito.png
END:VEVENT
BEGIN:VEVENT
DTSTART;VALUE=DATE:20240516
DTEND;VALUE=DATE:20240519
DTSTAMP:20260419T085422
CREATED:20240503T164534Z
LAST-MODIFIED:20240503T164534Z
UID:199453-1715817600-1716076799@socalpulse.com
SUMMARY:Pepperland
DESCRIPTION:Mark Morris Dance Group returns to L.A. for a unique tribute to the 50th Anniversary of The Beatles’ groundbreaking album Sgt. Pepper’s Lonely Hearts Club Band.
URL:https://socalpulse.com/event/pepperland/
LOCATION:The Wallis\, 9390 N. Santa Monica Blvd\, Beverly Hills\, CA\, 92010\, United States
CATEGORIES:Los Angeles
ATTACH;FMTTYPE=image/png:https://socalpulse.com/wp-content/uploads/2024/05/pepperland.png
END:VEVENT
BEGIN:VEVENT
DTSTART;VALUE=DATE:20240518
DTEND;VALUE=DATE:20240520
DTSTAMP:20260419T085422
CREATED:20240503T170730Z
LAST-MODIFIED:20240503T170730Z
UID:199481-1715990400-1716163199@socalpulse.com
SUMMARY:Dudamel Conducts Harry Potter
DESCRIPTION:Gustavo Dudamel leads the LA Phil in a family friendly program featuring a Grand Suite from \nHarry Potter\nwith a special guest narrator and selected film clips\, as well as a musical journey through the orchestra guided by a magical Sprite.
URL:https://socalpulse.com/event/dudamel-conducts-harry-potter/
LOCATION:Walt Disney Concert Hall\, 111 S Grand Ave\, Los Angeles\, CA\, 90012\, United States
CATEGORIES:Los Angeles
ATTACH;FMTTYPE=image/png:https://socalpulse.com/wp-content/uploads/2024/05/gusta.png
END:VEVENT
BEGIN:VEVENT
DTSTART;VALUE=DATE:20240518
DTEND;VALUE=DATE:20240609
DTSTAMP:20260419T085422
CREATED:20240503T170952Z
LAST-MODIFIED:20240503T170952Z
UID:199484-1715990400-1717891199@socalpulse.com
SUMMARY:Turandot
DESCRIPTION:For the first time in two decades\, Puccini’s blockbuster returns to LA Opera. Captivated by a beauty who scorns love\, a renegade prince enters an all but impossible contest\, where the price of failure is death.
URL:https://socalpulse.com/event/turandot/
LOCATION:Dorothy Chandler Pavilion\, 135 N Grand Avenue\, Los Angeles\, CA\, 90012\, United States
CATEGORIES:Los Angeles
ATTACH;FMTTYPE=image/png:https://socalpulse.com/wp-content/uploads/2024/05/turan.png
END:VEVENT
BEGIN:VEVENT
DTSTART;TZID=America/Los_Angeles:20240519T140000
DTEND;TZID=America/Los_Angeles:20240519T170000
DTSTAMP:20260419T085422
CREATED:20240503T171806Z
LAST-MODIFIED:20240503T171806Z
UID:199493-1716127200-1716138000@socalpulse.com
SUMMARY:Inna Faliks
DESCRIPTION:Ukrainian-American pianist Inna Faliks\, makes her BroadStage solo debut with an eclectic program of works from Beethoven\, Billy Childs\, Ravel\, Clara Schuman\, and more. Faliks will also premiere two new contemporary works.
URL:https://socalpulse.com/event/inna-faliks/
LOCATION:broadstage\, 1310 11TH STREET\, Santa Monica\, CA\, 90401\, United States
CATEGORIES:Los Angeles
ATTACH;FMTTYPE=image/png:https://socalpulse.com/wp-content/uploads/2024/05/innak.png
END:VEVENT
BEGIN:VEVENT
DTSTART;VALUE=DATE:20240521
DTEND;VALUE=DATE:20240531
DTSTAMP:20260419T085422
CREATED:20240503T172040Z
LAST-MODIFIED:20240503T172040Z
UID:199496-1716249600-1717113599@socalpulse.com
SUMMARY:Kraftwerk
DESCRIPTION:Over nine nights at Walt Disney Concert Hall\, legendary German electronic music pioneers Kraftwerk will celebrate the 50th anniversary of their album  Autobahn\, which was composed\, produced\, and recorded by Kraftwerk founders Ralf Hütter and Florian Schneider in 1974.
URL:https://socalpulse.com/event/kraftwerk/
LOCATION:Walt Disney Concert Hall\, 111 S Grand Ave\, Los Angeles\, CA\, 90012\, United States
CATEGORIES:Los Angeles
ATTACH;FMTTYPE=image/png:https://socalpulse.com/wp-content/uploads/2024/05/kraftwerk.png
END:VEVENT
BEGIN:VEVENT
DTSTART;VALUE=DATE:20240524
DTEND;VALUE=DATE:20240526
DTSTAMP:20260419T085422
CREATED:20240503T173355Z
LAST-MODIFIED:20240503T173355Z
UID:199511-1716508800-1716681599@socalpulse.com
SUMMARY:Departures: Montero + Mozart
DESCRIPTION:The LACO season closes with the world premiere of a Sound Investment commissioned piece by Nina Shekhar and is complemented by Gabriela Montero’s rendition of Mozart’s Piano Concerto No. 24 in C minor and Schubert’s Symphony No. 9 in C major\, his final symphonic work. \n\nFRIDAY\, MAY 24 | 8 PM | PHILHARMONIC SOCIETY OF ORANGE COUNTY\nSATURDAY\, MAY 25 | 8 PM | ALEX THEATRE
URL:https://socalpulse.com/event/departures-montero-mozart/
CATEGORIES:Los Angeles
ATTACH;FMTTYPE=image/png:https://socalpulse.com/wp-content/uploads/2024/05/girl.png
END:VEVENT
BEGIN:VEVENT
DTSTART;TZID=America/Los_Angeles:20240524T200000
DTEND;TZID=America/Los_Angeles:20240524T220000
DTSTAMP:20260419T085422
CREATED:20240503T172804Z
LAST-MODIFIED:20240503T172804Z
UID:199505-1716580800-1716588000@socalpulse.com
SUMMARY:Los Angeles Chamber Orchestra with Gabriela Montero
DESCRIPTION:Grammy-nominated pianist Gabriela Montero joins the critically acclaimed Los Angeles Chamber Orchestra for a mesmerizing performance.
URL:https://socalpulse.com/event/los-angeles-chamber-orchestra-with-gabriela-montero/
LOCATION:Segerstrom Center for the Arts\, 600 Town Center Drive\, Costa Mesa\, CA\, 92626\, United States
CATEGORIES:Los Angeles
ATTACH;FMTTYPE=image/png:https://socalpulse.com/wp-content/uploads/2024/05/duo.png
END:VEVENT
BEGIN:VEVENT
DTSTART;VALUE=DATE:20240525
DTEND;VALUE=DATE:20240526
DTSTAMP:20260419T085422
CREATED:20240503T175013Z
LAST-MODIFIED:20240503T175013Z
UID:199520-1716595200-1716681599@socalpulse.com
SUMMARY:Firebird & Serenade
DESCRIPTION:Firebird is the Russian-Slavic folk tale that tells the story of a magical bird made of fire and it originally debuted in Paris by Imperial Russian choreographer Michel Fokine in 1910. It is paired with Serenade\, the first original ballet Balanchine created in America and a signature works of the New York City Ballet’s repertory. \nLocations: 1935 Manhattan Beach Blvd\, Redondo Beach\,
URL:https://socalpulse.com/event/firebird-serenade-2/
CATEGORIES:Los Angeles
ATTACH;FMTTYPE=image/png:https://socalpulse.com/wp-content/uploads/2024/05/firebird-1.png
END:VEVENT
BEGIN:VEVENT
DTSTART;VALUE=DATE:20240528
DTEND;VALUE=DATE:20240624
DTSTAMP:20260419T085422
CREATED:20240503T180044Z
LAST-MODIFIED:20240503T180044Z
UID:199531-1716854400-1719187199@socalpulse.com
SUMMARY:Jelly's Last Jam
DESCRIPTION:When legendary musician Jelly Roll Morton’s soul is forced to face the music\, the self-proclaimed “inventor of jazz” is left at the ultimate crossroads. Follow Jelly from the back alleys of New Orleans to the sparkling stages of New York\, as his remarkable journey unfolds in a stunning display of song\, dance\, and music.
URL:https://socalpulse.com/event/jellys-last-jam/
LOCATION:Pasadena Playhouse\, 39 S. El Molino Avenue\, Pasadena\, CA\, 91101\, United States
CATEGORIES:Los Angeles
ATTACH;FMTTYPE=image/png:https://socalpulse.com/wp-content/uploads/2024/05/jellys.png
END:VEVENT
BEGIN:VEVENT
DTSTART;TZID=America/Los_Angeles:20240531T200000
DTEND;TZID=America/Los_Angeles:20240531T220000
DTSTAMP:20260419T085422
CREATED:20240503T193339Z
LAST-MODIFIED:20240503T193339Z
UID:199540-1717185600-1717192800@socalpulse.com
SUMMARY:Silvana Estrada Cécile McLorin Salvant
DESCRIPTION:It’s a night of brilliantly crafted songs delivered by two artists who know how to inhabit a story. Silvana Estrada sings from down deep\, telling her soulful coming-of-age stories in a voice that embraces the legacy of Latin American song and carries into the 21st century.
URL:https://socalpulse.com/event/silvana-estrada-cecile-mclorin-salvant/
LOCATION:Walt Disney Concert Hall\, 111 S Grand Ave\, Los Angeles\, CA\, 90012\, United States
CATEGORIES:Los Angeles
ATTACH;FMTTYPE=image/png:https://socalpulse.com/wp-content/uploads/2024/05/laor.png
END:VEVENT
BEGIN:VEVENT
DTSTART;VALUE=DATE:20240601
DTEND;VALUE=DATE:20240624
DTSTAMP:20260419T085422
CREATED:20240531T154322Z
LAST-MODIFIED:20240531T154322Z
UID:200237-1717200000-1719187199@socalpulse.com
SUMMARY:The Little Mermaid
DESCRIPTION:In a magical kingdom beneath the sea\, the beautiful young mermaid Ariel longs to leave her ocean home to live in the world above.  Based on one of Hans Christian Andersen’s most beloved stories and the classic animated film\, \nThe Little Mermaid\nis a hauntingly beautiful love story for the ages.
URL:https://socalpulse.com/event/the-little-mermaid/
LOCATION:La Mirada Theatre\, 14900 La Mirada Blvd\, La Mirada\, 90638\, United States
CATEGORIES:Los Angeles
ATTACH;FMTTYPE=image/png:https://socalpulse.com/wp-content/uploads/2024/05/athelittle.png
END:VEVENT
BEGIN:VEVENT
DTSTART;TZID=America/Los_Angeles:20240601T180000
DTEND;TZID=America/Los_Angeles:20240601T220000
DTSTAMP:20260419T085422
CREATED:20240531T153237Z
LAST-MODIFIED:20240531T153237Z
UID:200224-1717264800-1717279200@socalpulse.com
SUMMARY:Music Under the Stars
DESCRIPTION:Pasadena POPS hosts a free concert of Broadway and the Great American Songbook under the stars on the steps of Pasadena City Hall. Arrive early for food trucks and family fun.
URL:https://socalpulse.com/event/music-under-the-stars/
LOCATION:Pasadena Hall\, 100 Garfield Ave\, Pasadena\, CA\, 91101\, United States
CATEGORIES:Los Angeles
ATTACH;FMTTYPE=image/png:https://socalpulse.com/wp-content/uploads/2024/05/apas.png
END:VEVENT
BEGIN:VEVENT
DTSTART;TZID=America/Los_Angeles:20240601T200000
DTEND;TZID=America/Los_Angeles:20240601T220000
DTSTAMP:20260419T085422
CREATED:20240531T153737Z
LAST-MODIFIED:20240531T153737Z
UID:200231-1717272000-1717279200@socalpulse.com
SUMMARY:Natalie Merchant
DESCRIPTION:Multi-platinum-selling American singer-songwriter and producer\, Natalie Merchant\, known for her distinctive voice and captivating literary-pop songs. Her music blends folk\, rock\, and influences from around the world\, and she continues to be regarded as a groundbreaking figure in alternative music.
URL:https://socalpulse.com/event/natalie-merchant/
LOCATION:Walt Disney Concert Hall\, 111 S Grand Ave\, Los Angeles\, CA\, 90012\, United States
CATEGORIES:Los Angeles
ATTACH;FMTTYPE=image/png:https://socalpulse.com/wp-content/uploads/2024/05/awo.png
END:VEVENT
BEGIN:VEVENT
DTSTART;TZID=America/Los_Angeles:20240605T080000
DTEND;TZID=America/Los_Angeles:20240630T170000
DTSTAMP:20260419T085422
CREATED:20240531T160058Z
LAST-MODIFIED:20240531T160058Z
UID:200249-1717574400-1719766800@socalpulse.com
SUMMARY:A Strange Loop
DESCRIPTION:Nominated for 11 Tony Awards\, A Strange Loop follows a young\, gay\, Black writer who hates his day job who writes a musical about a young\, gay\, Black writer who’s writing a musical about a young\, gay\, Black writer.
URL:https://socalpulse.com/event/a-strange-loop/
LOCATION:Ahmanson Theatre\, 135 N Grand Ave\, Los Angeles\, CA\, 90012\, United States
CATEGORIES:Los Angeles
ATTACH;FMTTYPE=image/png:https://socalpulse.com/wp-content/uploads/2024/05/astrange.png
END:VEVENT
BEGIN:VEVENT
DTSTART;TZID=America/Los_Angeles:20240606T193000
DTEND;TZID=America/Los_Angeles:20240606T213000
DTSTAMP:20260419T085422
CREATED:20240531T160301Z
LAST-MODIFIED:20240531T160301Z
UID:200252-1717702200-1717709400@socalpulse.com
SUMMARY:Joel Thompson’s Fire and Blue Sky
DESCRIPTION:Tenor Russell Thomas\, LA Opera’s Artist in Residence\, premieres a major new commission: a deeply personal\, evening-length concert work created expressly for him by the Emmy Award-winning composer Joel Thompson with an original libretto by the celebrated poet Imani Tolliver.
URL:https://socalpulse.com/event/joel-thompsons-fire-and-blue-sky/
LOCATION:Dorothy Chandler Pavilion\, 135 N Grand Avenue\, Los Angeles\, CA\, 90012\, United States
CATEGORIES:Los Angeles
ATTACH;FMTTYPE=image/png:https://socalpulse.com/wp-content/uploads/2024/05/afire.png
END:VEVENT
BEGIN:VEVENT
DTSTART;VALUE=DATE:20240608
DTEND;VALUE=DATE:20240610
DTSTAMP:20260419T085422
CREATED:20240531T161804Z
LAST-MODIFIED:20240531T161804Z
UID:200273-1717804800-1717977599@socalpulse.com
SUMMARY:Verdi Requiem
DESCRIPTION:Dynamic rhythms\, sublime melodies\, and virtuosic solo moments express both the heights of salvation and depths of damnation in the composer’s epic and dramatic ancient Catholic funeral mass.
URL:https://socalpulse.com/event/verdi-requiem/
LOCATION:Walt Disney Concert Hall\, 111 S Grand Ave\, Los Angeles\, CA\, 90012\, United States
CATEGORIES:Los Angeles
ATTACH;FMTTYPE=image/png:https://socalpulse.com/wp-content/uploads/2024/05/verdi.png
END:VEVENT
BEGIN:VEVENT
DTSTART;TZID=America/Los_Angeles:20240608T200000
DTEND;TZID=America/Los_Angeles:20240608T220000
DTSTAMP:20260419T085422
CREATED:20240531T161611Z
LAST-MODIFIED:20240531T161620Z
UID:200270-1717876800-1717884000@socalpulse.com
SUMMARY:The Reverend Shawn Amos
DESCRIPTION:Dance in The Plaza in the blackbox series curated by American songwriter\, blues singer\, author and record producer The Reverend Shawn Amos. On this night\, The Reverend\, performs his one-of-a-kind harmonica driven\, blues roots revival.
URL:https://socalpulse.com/event/the-reverend-shawn-amos/
LOCATION:broadstage\, 1310 11TH STREET\, Santa Monica\, CA\, 90401\, United States
CATEGORIES:Los Angeles
ATTACH;FMTTYPE=image/png:https://socalpulse.com/wp-content/uploads/2024/05/arev.png
END:VEVENT
BEGIN:VEVENT
DTSTART;TZID=America/Los_Angeles:20240609T110000
DTEND;TZID=America/Los_Angeles:20240609T130000
DTSTAMP:20260419T085422
CREATED:20240531T162629Z
LAST-MODIFIED:20240531T162629Z
UID:200278-1717930800-1717938000@socalpulse.com
SUMMARY:Sunday Morning Music/Santa Monica
DESCRIPTION:The Sunday Morning Music/Santa Monica series was crafted and curated with such care and passion by the late Antonio Lysy\, and in only two short years\, it became one of our biggest success stories in Chamber Music. The series will continue in celebration of his passion for music\, and for bringing our community together.
URL:https://socalpulse.com/event/sunday-morning-music-santa-monica/
LOCATION:broadstage\, 1310 11TH STREET\, Santa Monica\, CA\, 90401\, United States
CATEGORIES:Los Angeles
ATTACH;FMTTYPE=image/png:https://socalpulse.com/wp-content/uploads/2024/05/sunday-san.png
END:VEVENT
BEGIN:VEVENT
DTSTART;VALUE=DATE:20240612
DTEND;VALUE=DATE:20240715
DTSTAMP:20260419T085422
CREATED:20240531T162803Z
LAST-MODIFIED:20240531T162803Z
UID:200281-1718150400-1721001599@socalpulse.com
SUMMARY:Tiny Father
DESCRIPTION:When a “friends with benefits” relationship unexpectedly results in the early arrival of a baby girl\, Daniel must choose between being a biological parent or becoming a father.
URL:https://socalpulse.com/event/tiny-father/
LOCATION:Geffen Playhouse\, 10886 Le Conte Avenue\, Los Angeles\, CA\, 90024\, United States
CATEGORIES:Los Angeles
ATTACH;FMTTYPE=image/png:https://socalpulse.com/wp-content/uploads/2024/05/atiny.png
END:VEVENT
END:VCALENDAR