BEGIN:VCALENDAR
VERSION:2.0
PRODID:-//SoCalPulse - ECPv6.15.20//NONSGML v1.0//EN
CALSCALE:GREGORIAN
METHOD:PUBLISH
X-ORIGINAL-URL:https://socalpulse.com
X-WR-CALDESC:Events for SoCalPulse
REFRESH-INTERVAL;VALUE=DURATION:PT1H
X-Robots-Tag:noindex
X-PUBLISHED-TTL:PT1H
BEGIN:VTIMEZONE
TZID:America/Los_Angeles
BEGIN:DAYLIGHT
TZOFFSETFROM:-0800
TZOFFSETTO:-0700
TZNAME:PDT
DTSTART:20230312T100000
END:DAYLIGHT
BEGIN:STANDARD
TZOFFSETFROM:-0700
TZOFFSETTO:-0800
TZNAME:PST
DTSTART:20231105T090000
END:STANDARD
BEGIN:DAYLIGHT
TZOFFSETFROM:-0800
TZOFFSETTO:-0700
TZNAME:PDT
DTSTART:20240310T100000
END:DAYLIGHT
BEGIN:STANDARD
TZOFFSETFROM:-0700
TZOFFSETTO:-0800
TZNAME:PST
DTSTART:20241103T090000
END:STANDARD
BEGIN:DAYLIGHT
TZOFFSETFROM:-0800
TZOFFSETTO:-0700
TZNAME:PDT
DTSTART:20250309T100000
END:DAYLIGHT
BEGIN:STANDARD
TZOFFSETFROM:-0700
TZOFFSETTO:-0800
TZNAME:PST
DTSTART:20251102T090000
END:STANDARD
END:VTIMEZONE
BEGIN:VTIMEZONE
TZID:America/Los_Angeles
BEGIN:DAYLIGHT
TZOFFSETFROM:-0800
TZOFFSETTO:-0700
TZNAME:PDT
DTSTART:20230312T100000
END:DAYLIGHT
BEGIN:STANDARD
TZOFFSETFROM:-0700
TZOFFSETTO:-0800
TZNAME:PST
DTSTART:20231105T090000
END:STANDARD
BEGIN:DAYLIGHT
TZOFFSETFROM:-0800
TZOFFSETTO:-0700
TZNAME:PDT
DTSTART:20240310T100000
END:DAYLIGHT
BEGIN:STANDARD
TZOFFSETFROM:-0700
TZOFFSETTO:-0800
TZNAME:PST
DTSTART:20241103T090000
END:STANDARD
BEGIN:DAYLIGHT
TZOFFSETFROM:-0800
TZOFFSETTO:-0700
TZNAME:PDT
DTSTART:20250309T100000
END:DAYLIGHT
BEGIN:STANDARD
TZOFFSETFROM:-0700
TZOFFSETTO:-0800
TZNAME:PST
DTSTART:20251102T090000
END:STANDARD
END:VTIMEZONE
BEGIN:VEVENT
DTSTART;VALUE=DATE:20240412
DTEND;VALUE=DATE:20240415
DTSTAMP:20260421T142053
CREATED:20240405T155707Z
LAST-MODIFIED:20240405T155720Z
UID:198709-1712880000-1713139199@socalpulse.com
SUMMARY:Saint-Saëns’ Organ Symphony
DESCRIPTION:Dedicated to Franz Liszt—and featuring the LA Phil’s own Joanne Pearce Martin in this performance—the “Organ” symphony led fellow composer Charles Gounod to hail Saint-Saëns as “the French Beethoven.” LA Phil Principal Concertmaster Martin Chalifour performs Maurice Ravel’s virtuosic violin showpiece\, and Cincinnati Symphony Orchestra Music Director Louis Langrée teams up again with acclaimed composer Jonathan Bailey Holland for a world premiere symphony
URL:https://socalpulse.com/event/saint-saens-organ-symphony/
LOCATION:Walt Disney Concert Hall\, 111 S Grand Ave\, Los Angeles\, CA\, 90012\, United States
CATEGORIES:Los Angeles
ATTACH;FMTTYPE=image/jpeg:https://socalpulse.com/wp-content/uploads/2024/04/0007.jpg
END:VEVENT
BEGIN:VEVENT
DTSTART;TZID=America/Los_Angeles:20240418T193000
DTEND;TZID=America/Los_Angeles:20240418T213000
DTSTAMP:20260421T142053
CREATED:20240405T171738Z
LAST-MODIFIED:20240405T171747Z
UID:198741-1713468600-1713475800@socalpulse.com
SUMMARY:The Untold Story of Sharks
DESCRIPTION:Dr. Jess Cramp will take audiences on a journey through the National Geographic archives to discover the work of pioneering women in shark science and storytelling before she dives into her work on the frontier of shark research and conservation
URL:https://socalpulse.com/event/the-untold-story-of-sharks/
LOCATION:broadstage\, 1310 11TH STREET\, Santa Monica\, CA\, 90401\, United States
CATEGORIES:Los Angeles
ATTACH;FMTTYPE=image/jpeg:https://socalpulse.com/wp-content/uploads/2024/04/5555.jpg
END:VEVENT
BEGIN:VEVENT
DTSTART;VALUE=DATE:20240419
DTEND;VALUE=DATE:20240513
DTSTAMP:20260421T142053
CREATED:20240405T173911Z
LAST-MODIFIED:20240405T173911Z
UID:198756-1713484800-1715558399@socalpulse.com
SUMMARY:Jersey Boys
DESCRIPTION:Jersey Boys follows the fascinating evolution of four blue-collar kids who became one of the greatest successes in pop-music history
URL:https://socalpulse.com/event/jersey-boys/
LOCATION:La Mirada Theatre\, 14900 La Mirada Blvd\, La Mirada\, 90638\, United States
CATEGORIES:Los Angeles
ATTACH;FMTTYPE=image/jpeg:https://socalpulse.com/wp-content/uploads/2024/04/01010.jpg
END:VEVENT
BEGIN:VEVENT
DTSTART;TZID=America/Los_Angeles:20240419T080000
DTEND;TZID=America/Los_Angeles:20240420T170000
DTSTAMP:20260421T142053
CREATED:20240405T173106Z
LAST-MODIFIED:20240405T173106Z
UID:198747-1713513600-1713632400@socalpulse.com
SUMMARY:AXIS Dance Company
DESCRIPTION:AXIS Dance Company presents a triple bill of world premieres and highlights from their repertoire that showcase the strength\, power and infinite possibilities of disability-integrated dance \n.
URL:https://socalpulse.com/event/axis-dance-company/
LOCATION:The Wallis\, 9390 N. Santa Monica Blvd\, Beverly Hills\, CA\, 92010\, United States
CATEGORIES:Los Angeles
ATTACH;FMTTYPE=image/jpeg:https://socalpulse.com/wp-content/uploads/2024/04/6666.jpg
END:VEVENT
BEGIN:VEVENT
DTSTART;VALUE=DATE:20240420
DTEND;VALUE=DATE:20240421
DTSTAMP:20260421T142053
CREATED:20240405T174623Z
LAST-MODIFIED:20240405T174623Z
UID:198763-1713571200-1713657599@socalpulse.com
SUMMARY:Vivaldi Four Seasons
DESCRIPTION:Multiple prize-winning violinist Charlotte Marckx brings Vivaldi’s most cherished concertos to life with her technical chops and expressive panache.
URL:https://socalpulse.com/event/vivaldi-four-seasons/
LOCATION:Ambassador Auditorium\, 131 S St. John Avenue\, Pasadena\, CA\, 91105\, United States
CATEGORIES:Los Angeles
ATTACH;FMTTYPE=image/jpeg:https://socalpulse.com/wp-content/uploads/2024/04/78928.jpg
END:VEVENT
BEGIN:VEVENT
DTSTART;TZID=America/Los_Angeles:20240420T073000
DTEND;TZID=America/Los_Angeles:20240420T213000
DTSTAMP:20260421T142053
CREATED:20240405T174914Z
LAST-MODIFIED:20240405T174924Z
UID:198766-1713598200-1713648600@socalpulse.com
SUMMARY:Patti Lupone
DESCRIPTION:Broadway’s diva extraordinaire returns to LA Opera for a solo concert after unforgettable star turns in The Ghosts of Versailles and Rise and Fall of the City of Mahogany.
URL:https://socalpulse.com/event/patti-lupone/
LOCATION:Dorothy Chandler Pavilion\, 135 N Grand Avenue\, Los Angeles\, CA\, 90012\, United States
CATEGORIES:Los Angeles
ATTACH;FMTTYPE=image/jpeg:https://socalpulse.com/wp-content/uploads/2024/04/laopera.jpg
END:VEVENT
BEGIN:VEVENT
DTSTART;TZID=America/Los_Angeles:20240420T080000
DTEND;TZID=America/Los_Angeles:20240421T170000
DTSTAMP:20260421T142053
CREATED:20240405T175152Z
LAST-MODIFIED:20240405T175152Z
UID:198769-1713600000-1713718800@socalpulse.com
SUMMARY:Horizons: Beethoven + Skye
DESCRIPTION:LACO presents music that unifies us during times of dissonance with the premiere of Derrick Skye’s multicultural exploration\, To Be A Horizon\, which engages in an endless pursuit of connection in order to deconstruct musical and cultural divides.
URL:https://socalpulse.com/event/horizons-beethoven-skye/
LOCATION:CAP AT UCLA\, 10745 Dickson Ct.\, Los Angeles\, 90095\, United States
CATEGORIES:Los Angeles
ATTACH;FMTTYPE=image/jpeg:https://socalpulse.com/wp-content/uploads/2024/04/laco.jpg
END:VEVENT
BEGIN:VEVENT
DTSTART;TZID=America/Los_Angeles:20240420T193000
DTEND;TZID=America/Los_Angeles:20240420T213000
DTSTAMP:20260421T142053
CREATED:20240405T175714Z
LAST-MODIFIED:20240405T175714Z
UID:198775-1713641400-1713648600@socalpulse.com
SUMMARY:Antonio Sánchez: Birdman Live
DESCRIPTION:Four-time Grammy-Award winner Antonio Sánchez\, one of the most renowned drummers in the international jazz scene\, takes the stage to celebrate the 10th anniversary celebration of Birdman with a live score to film. \n.
URL:https://socalpulse.com/event/antonio-sanchez-birdman-live/
LOCATION:broadstage\, 1310 11TH STREET\, Santa Monica\, CA\, 90401\, United States
CATEGORIES:Los Angeles
ATTACH;FMTTYPE=image/jpeg:https://socalpulse.com/wp-content/uploads/2024/04/birdman.jpg
END:VEVENT
BEGIN:VEVENT
DTSTART;VALUE=DATE:20240425
DTEND;VALUE=DATE:20240610
DTSTAMP:20260421T142053
CREATED:20240405T203324Z
LAST-MODIFIED:20240405T203324Z
UID:198790-1714003200-1717977599@socalpulse.com
SUMMARY:The Hope Theory
DESCRIPTION:. As a Portuguese immigrant\, storyteller\, and sleight-of-hand magician\, Helder Guimarães arrived in America at age 29. Wide-eyed and full of ideas\, he discovers a fascinating puzzle of cultural and professional challenges to solve while he tries to build a home. \nThe Hope Theory\noffers a unique perspective on America through the eyes of an optimistic outsider
URL:https://socalpulse.com/event/the-hope-theory/
LOCATION:Geffen Playhouse\, 10886 Le Conte Avenue\, Los Angeles\, CA\, 90024\, United States
CATEGORIES:Los Angeles
ATTACH;FMTTYPE=image/jpeg:https://socalpulse.com/wp-content/uploads/2024/04/geffen.jpg
END:VEVENT
BEGIN:VEVENT
DTSTART;TZID=America/Los_Angeles:20240501T200000
DTEND;TZID=America/Los_Angeles:20240501T220000
DTSTAMP:20260421T142053
CREATED:20240502T164927Z
LAST-MODIFIED:20240502T164927Z
UID:199250-1714593600-1714600800@socalpulse.com
SUMMARY:Víkingur Ólafsson
DESCRIPTION:Víkingur Ólafsson performs the 75\,000+ notes of Bach’s Goldberg Variations with “a complete show of mastery and virtuosity” (Bachtrack).
URL:https://socalpulse.com/event/vikingur-olafsson/
LOCATION:Walt Disney Concert Hall\, 111 S Grand Ave\, Los Angeles\, CA\, 90012\, United States
CATEGORIES:Los Angeles
ATTACH;FMTTYPE=image/png:https://socalpulse.com/wp-content/uploads/2024/05/2.png
END:VEVENT
BEGIN:VEVENT
DTSTART;VALUE=DATE:20240502
DTEND;VALUE=DATE:20240506
DTSTAMP:20260421T142053
CREATED:20240502T165458Z
LAST-MODIFIED:20240502T165458Z
UID:199258-1714608000-1714953599@socalpulse.com
SUMMARY:Dudamel Leads Mozart and Strauss
DESCRIPTION:Gustavo Dudamel and the LA Phil lead Strauss’ Don Quixote featuring LA Phil Principal Cello and Principal Viola Robert deMaine and Teng Li as soloists.
URL:https://socalpulse.com/event/dudamel-leads-mozart-and-strauss/
LOCATION:Walt Disney Concert Hall\, 111 S Grand Ave\, Los Angeles\, CA\, 90012\, United States
CATEGORIES:Los Angeles
ATTACH;FMTTYPE=image/png:https://socalpulse.com/wp-content/uploads/2024/05/dudamel.png
END:VEVENT
BEGIN:VEVENT
DTSTART;VALUE=DATE:20240502
DTEND;VALUE=DATE:20240520
DTSTAMP:20260421T142053
CREATED:20240502T164645Z
LAST-MODIFIED:20240502T164703Z
UID:199246-1714608000-1716163199@socalpulse.com
SUMMARY:Monsters of the American Cinema
DESCRIPTION:When his husband dies\, Remy Washington\, a Black man\, finds himself both the owner of a drive-in movie theater and a caregiver to his late husband’s straight\, white teenage son\, Pup. Told through dueting monologues and playful dialogue\, \nMonsters of the American Cinema is a haunting and humorous tale about fathers and sons\, ghosts and monsters.
URL:https://socalpulse.com/event/monsters-of-the-american-cinema/
LOCATION:Geffen Playhouse\, 10886 Le Conte Avenue\, Los Angeles\, CA\, 90024\, United States
CATEGORIES:Los Angeles
ATTACH;FMTTYPE=image/png:https://socalpulse.com/wp-content/uploads/2024/05/1.png
END:VEVENT
BEGIN:VEVENT
DTSTART;TZID=America/Los_Angeles:20240503T130000
DTEND;TZID=America/Los_Angeles:20240503T150000
DTSTAMP:20260421T142053
CREATED:20240502T165944Z
LAST-MODIFIED:20240502T165944Z
UID:199264-1714741200-1714748400@socalpulse.com
SUMMARY:High School Choir Festival: 35th Anniversary Celebration
DESCRIPTION:The LA Master Chorale celebrates 35 years of arts education program that connects the communities of greater Los Angeles in a performance of 1\,000 voice choir led by Grant Gershon\, Kiki and David Gindler Artistic Director.
URL:https://socalpulse.com/event/high-school-choir-festival-35th-anniversary-celebration/
LOCATION:Walt Disney Concert Hall\, 111 S Grand Ave\, Los Angeles\, CA\, 90012\, United States
CATEGORIES:Los Angeles
ATTACH;FMTTYPE=image/png:https://socalpulse.com/wp-content/uploads/2024/05/highschool-Chorale.png
END:VEVENT
BEGIN:VEVENT
DTSTART;TZID=America/Los_Angeles:20240504T080000
DTEND;TZID=America/Los_Angeles:20240504T170000
DTSTAMP:20260421T142053
CREATED:20240503T151850Z
LAST-MODIFIED:20240503T151858Z
UID:199354-1714809600-1714842000@socalpulse.com
SUMMARY:Culture Clash
DESCRIPTION:”May the 4th be with you.” The iconoclastic Chicano performance troupe proudly returns to The Soraya with an all-new show that serves up an explosive cocktail of humor and satirical outrage. This eclectic group of California natives has profoundly explored the evolution of LatinX culture on stages and screens for four decades.
URL:https://socalpulse.com/event/culture-clash/
LOCATION:The Soraya\, 18111 Nordhoff Street\, Northridge\, CA\, 91330\, United States
CATEGORIES:Los Angeles
ATTACH;FMTTYPE=image/png:https://socalpulse.com/wp-content/uploads/2024/05/culture.png
END:VEVENT
BEGIN:VEVENT
DTSTART;TZID=America/Los_Angeles:20240504T080000
DTEND;TZID=America/Los_Angeles:20240504T170000
DTSTAMP:20260421T142053
CREATED:20240503T153733Z
LAST-MODIFIED:20240503T153744Z
UID:199366-1714809600-1714842000@socalpulse.com
SUMMARY:‘Get Down’ in Downtown L.A.
DESCRIPTION:An outdoor celebration of music\, dance\, culture and the love of vinyl records returns to the Jerry Moss Plaza at The Music Center with a vinyl marketplace\, art-making\, interactive activities\, dance performances and an open dance floor.
URL:https://socalpulse.com/event/get-down-in-downtown-l-a/
LOCATION:Jerry Moss Plaza\, 135 N. Grand Ave\, Los Angeles\, CA\, 90012\, United States
CATEGORIES:Los Angeles
ATTACH;FMTTYPE=image/png:https://socalpulse.com/wp-content/uploads/2024/05/mus.png
END:VEVENT
BEGIN:VEVENT
DTSTART;TZID=America/Los_Angeles:20240504T193000
DTEND;TZID=America/Los_Angeles:20240504T193000
DTSTAMP:20260421T142053
CREATED:20240503T153447Z
LAST-MODIFIED:20240503T153447Z
UID:199364-1714851000-1714851000@socalpulse.com
SUMMARY:Jiji + Vivaldi
DESCRIPTION:The second Baroque concert of the season brings together guitarist JIJI and the musicians of LACO to perform masterworks from the Italian Baroque\, as well as contemporary music inspired by the era from Caroline Shaw and Max Richter.
URL:https://socalpulse.com/event/jiji-vivaldi/
LOCATION:The Wallis\, 9390 N. Santa Monica Blvd\, Beverly Hills\, CA\, 92010\, United States
CATEGORIES:Los Angeles
ATTACH;FMTTYPE=image/png:https://socalpulse.com/wp-content/uploads/2024/05/baroque.png
END:VEVENT
BEGIN:VEVENT
DTSTART;TZID=America/Los_Angeles:20240504T193000
DTEND;TZID=America/Los_Angeles:20240504T213000
DTSTAMP:20260421T142053
CREATED:20240503T144435Z
LAST-MODIFIED:20240503T144435Z
UID:199351-1714851000-1714858200@socalpulse.com
SUMMARY:Los Angeles Chamber Orchestra: Baroque
DESCRIPTION:Los Angeles Chamber Orchestra’s Baroque Series concludes with a selection of masterworks from the Italian Baroque\, led by Concertmaster Margaret Batjer\, among them Vivaldi’s Concerto in D minor for Guitar\, featuring South Korean guitarist JIJI. Principal Cello\, Andrew Shulman\, is also a soloist on the program. Two contemporary works inspired by the era round out the program – Caroline Shaw’s Stucco & Brocatelle and Max Richter’s recomposed version of “Spring” from Vivaldi’s \nFour Seasons\n.
URL:https://socalpulse.com/event/los-angeles-chamber-orchestra-baroque/
LOCATION:The Wallis\, 9390 N. Santa Monica Blvd\, Beverly Hills\, CA\, 92010\, United States
CATEGORIES:Los Angeles
ATTACH;FMTTYPE=image/png:https://socalpulse.com/wp-content/uploads/2024/05/baroque.png
END:VEVENT
BEGIN:VEVENT
DTSTART;TZID=America/Los_Angeles:20240505T193000
DTEND;TZID=America/Los_Angeles:20240505T213000
DTSTAMP:20260421T142053
CREATED:20240503T154742Z
LAST-MODIFIED:20240503T154742Z
UID:199377-1714937400-1714944600@socalpulse.com
SUMMARY:Jiji + Vivaldi
DESCRIPTION:The second Baroque concert of the season brings together guitarist JIJI and the musicians of LACO to perform masterworks from the Italian Baroque\, as well as contemporary music inspired by the era from Caroline Shaw and Max Richter.
URL:https://socalpulse.com/event/jiji-vivaldi-2/
LOCATION:The Huntington\, 1151 Oxford Road\, San Marino\, CA\, 91108\, United States
CATEGORIES:Los Angeles
ATTACH;FMTTYPE=image/png:https://socalpulse.com/wp-content/uploads/2024/05/baroque.png
END:VEVENT
BEGIN:VEVENT
DTSTART;TZID=America/Los_Angeles:20240507T200000
DTEND;TZID=America/Los_Angeles:20240507T220000
DTSTAMP:20260421T142053
CREATED:20240503T161016Z
LAST-MODIFIED:20240503T161016Z
UID:199403-1715112000-1715119200@socalpulse.com
SUMMARY:Chamber Music with the LA Phil
DESCRIPTION:From string quartets and piano trios to wind quintets or a brass ensemble\, chamber music concerts feature members of the Los Angeles Philharmonic performing in small groups.
URL:https://socalpulse.com/event/chamber-music-with-the-la-phil/
LOCATION:Walt Disney Concert Hall\, 111 S Grand Ave\, Los Angeles\, CA\, 90012\, United States
CATEGORIES:Los Angeles
ATTACH;FMTTYPE=image/png:https://socalpulse.com/wp-content/uploads/2024/05/beeth.png
END:VEVENT
BEGIN:VEVENT
DTSTART;VALUE=DATE:20240509
DTEND;VALUE=DATE:20240513
DTSTAMP:20260421T142053
CREATED:20240503T161452Z
LAST-MODIFIED:20240503T161452Z
UID:199409-1715212800-1715558399@socalpulse.com
SUMMARY:Dvořák and Ortiz with Dudamel
DESCRIPTION:Stellar violinist María Dueñas returns\, and Dudamel leads Dvořák’s “New World” Symphony.
URL:https://socalpulse.com/event/dvorak-and-ortiz-with-dudamel/
LOCATION:Walt Disney Concert Hall\, 111 S Grand Ave\, Los Angeles\, CA\, 90012\, United States
CATEGORIES:Los Angeles
ATTACH;FMTTYPE=image/png:https://socalpulse.com/wp-content/uploads/2024/05/laphil.png
END:VEVENT
BEGIN:VEVENT
DTSTART;VALUE=DATE:20240510
DTEND;VALUE=DATE:20240512
DTSTAMP:20260421T142053
CREATED:20240503T162148Z
LAST-MODIFIED:20240503T162148Z
UID:199418-1715299200-1715471999@socalpulse.com
SUMMARY:Ballet Jazz Montreal: Dance Me
DESCRIPTION:Dance Me is an exclusive creation inspired by the rich and profound work of Montreal-based poet\, artist\, and songwriter\, Leonard Cohen. Approved by Cohen during his lifetime\, this riveting homage to the famed artist evokes the grand cycles of existence in five seasons\, as described in Cohen’s deeply reflective music and poems.
URL:https://socalpulse.com/event/ballet-jazz-montreal-dance-me/
LOCATION:The Wallis\, 9390 N. Santa Monica Blvd\, Beverly Hills\, CA\, 92010\, United States
CATEGORIES:Los Angeles
ATTACH;FMTTYPE=image/png:https://socalpulse.com/wp-content/uploads/2024/05/dance.png
END:VEVENT
BEGIN:VEVENT
DTSTART;TZID=America/Los_Angeles:20240510T193000
DTEND;TZID=America/Los_Angeles:20240510T213000
DTSTAMP:20260421T142053
CREATED:20240503T162036Z
LAST-MODIFIED:20240503T162036Z
UID:199415-1715369400-1715376600@socalpulse.com
SUMMARY:Elīna Garanča with Orchestra
DESCRIPTION:BroadStage’s Celebrity Opera Recital series welcomes the return of audience favorite\, mezzo-soprano Elīna Garanča\, in a special concert featuring a full orchestra led by British conductor Karel Mark Chichon.
URL:https://socalpulse.com/event/elina-garanca-with-orchestra/
LOCATION:broadstage\, 1310 11TH STREET\, Santa Monica\, CA\, 90401\, United States
CATEGORIES:Los Angeles
ATTACH;FMTTYPE=image/png:https://socalpulse.com/wp-content/uploads/2024/05/elina.png
END:VEVENT
BEGIN:VEVENT
DTSTART;TZID=America/Los_Angeles:20240510T200000
DTEND;TZID=America/Los_Angeles:20240510T220000
DTSTAMP:20260421T142053
CREATED:20240502T173418Z
LAST-MODIFIED:20240502T173418Z
UID:199267-1715371200-1715378400@socalpulse.com
SUMMARY:Alessandro Martire's Piano Premiere
DESCRIPTION:Internationally acclaimed Italian pianist and composer Alessandro Martire is set to deliver a captivating evening of music in New York. Known for his innovative blend of classical and contemporary sounds\, Martire’s music combines elements of pop\, minimalism\, and crossover genres\, creating a cinematic experience that resonates with intimate emotions and the soul’s journey. His modern approach to classical music will engage and inspire audiences\, inviting them on a reflective exploration of desires\, encounters\, and heartfelt journeys.
URL:https://socalpulse.com/event/alessandro-martires-piano-premiere/
LOCATION:Zipper Concert Hall\, 200 South Grand Avenue\, Los Angeles\, 90012\, United States
CATEGORIES:Los Angeles
ATTACH;FMTTYPE=image/png:https://socalpulse.com/wp-content/uploads/2024/05/Alessandro.png
END:VEVENT
BEGIN:VEVENT
DTSTART;TZID=America/Los_Angeles:20240511T080000
DTEND;TZID=America/Los_Angeles:20240511T170000
DTSTAMP:20260421T142053
CREATED:20240503T162833Z
LAST-MODIFIED:20240503T162844Z
UID:199428-1715414400-1715446800@socalpulse.com
SUMMARY:Firebird & Serenade
DESCRIPTION:Firebird is the Russian-Slavic folk tale that tells the story of a magical bird made of fire and it originally debuted in Paris by Imperial Russian choreographer Michel Fokine in 1910. It is paired with Serenade\, the first original ballet Balanchine created in America and a signature works of the New York City Ballet’s repertory.
URL:https://socalpulse.com/event/firebird-serenade/
LOCATION:CA
CATEGORIES:Los Angeles
ATTACH;FMTTYPE=image/png:https://socalpulse.com/wp-content/uploads/2024/05/firebird.png
END:VEVENT
BEGIN:VEVENT
DTSTART;TZID=America/Los_Angeles:20240511T200000
DTEND;TZID=America/Los_Angeles:20240511T220000
DTSTAMP:20260421T142053
CREATED:20240503T162611Z
LAST-MODIFIED:20240503T162611Z
UID:199425-1715457600-1715464800@socalpulse.com
SUMMARY:Pacific Jazz Orchestra with Aaron Tveit
DESCRIPTION:Tony award-winning Aaron Tveit makes a Soraya debut\, bringing his powerhouse vocals and matinee idol charisma. In addition to a searing performance in the original Broadway cast of Moulin Rouge. Tveit joins Pacific Jazz Orchestra\, 40 of the finest musicians led by Hollywood veteran Chris Walden\, whose new ensemble is the latest addition to the Los Angeles musical landscape.
URL:https://socalpulse.com/event/pacific-jazz-orchestra-with-aaron-tveit/
LOCATION:The Soraya\, 18111 Nordhoff Street\, Northridge\, CA\, 91330\, United States
CATEGORIES:Los Angeles
ATTACH;FMTTYPE=image/png:https://socalpulse.com/wp-content/uploads/2024/05/toni.png
END:VEVENT
BEGIN:VEVENT
DTSTART;TZID=America/Los_Angeles:20240511T200000
DTEND;TZID=America/Los_Angeles:20240511T220000
DTSTAMP:20260421T142053
CREATED:20240503T163042Z
LAST-MODIFIED:20240503T163042Z
UID:199431-1715457600-1715464800@socalpulse.com
SUMMARY:See/Feel/Hear Music: Artistic Explorations in Music and Deafness
DESCRIPTION:Curated by Deaf West Theatre in collaboration with the LA Phil’s Insight program\, the symposium offers a combination of conversations\, presentations\, film\, and lobby activations. Featured artists include Dame Evelyn Glennie\, Christine Sun Kim\, DJ Kurs\, and Andrew Yee.
URL:https://socalpulse.com/event/see-feel-hear-music-artistic-explorations-in-music-and-deafness/
LOCATION:Walt Disney Concert Hall\, 111 S Grand Ave\, Los Angeles\, CA\, 90012\, United States
CATEGORIES:Los Angeles
ATTACH;FMTTYPE=image/png:https://socalpulse.com/wp-content/uploads/2024/05/lap.png
END:VEVENT
BEGIN:VEVENT
DTSTART;TZID=America/Los_Angeles:20240511T200000
DTEND;TZID=America/Los_Angeles:20240511T220000
DTSTAMP:20260421T142053
CREATED:20240503T163310Z
LAST-MODIFIED:20240503T163310Z
UID:199434-1715457600-1715464800@socalpulse.com
SUMMARY:Queen Esther
DESCRIPTION:In her BroadStage debut\, Queen Esther performs selections from her body of alt-country\, jazz and Black Americana for the blackbox series curated by Reverend Shawn Amos. She is joined on stage by guitarist Jeff McLaughlin.
URL:https://socalpulse.com/event/queen-esther/
LOCATION:broadstage\, 1310 11TH STREET\, Santa Monica\, CA\, 90401\, United States
CATEGORIES:Los Angeles
ATTACH;FMTTYPE=image/png:https://socalpulse.com/wp-content/uploads/2024/05/quuen.png
END:VEVENT
BEGIN:VEVENT
DTSTART;TZID=America/Los_Angeles:20240512T193000
DTEND;TZID=America/Los_Angeles:20240512T213000
DTSTAMP:20260421T142053
CREATED:20240503T164149Z
LAST-MODIFIED:20240503T164149Z
UID:199447-1715542200-1715549400@socalpulse.com
SUMMARY:Yuja Wang
DESCRIPTION:A star pianist who always shines brightest on the Walt Disney Concert Hall stage returns.
URL:https://socalpulse.com/event/yuja-wang/
LOCATION:Walt Disney Concert Hall\, 111 S Grand Ave\, Los Angeles\, CA\, 90012\, United States
CATEGORIES:Los Angeles
ATTACH;FMTTYPE=image/png:https://socalpulse.com/wp-content/uploads/2024/05/yuja.png
END:VEVENT
BEGIN:VEVENT
DTSTART;VALUE=DATE:20240516
DTEND;VALUE=DATE:20240518
DTSTAMP:20260421T142053
CREATED:20240503T165101Z
LAST-MODIFIED:20240503T165101Z
UID:199462-1715817600-1715990399@socalpulse.com
SUMMARY:Beethoven's Fidelio with Dudamel and Deaf West Theatre
DESCRIPTION:A story told through the composer’s music sung by hearing vocalists and the expressive gestural poetry of sign language by Deaf actors.
URL:https://socalpulse.com/event/beethovens-fidelio-with-dudamel-and-deaf-west-theatre/
LOCATION:Walt Disney Concert Hall\, 111 S Grand Ave\, Los Angeles\, CA\, 90012\, United States
CATEGORIES:Los Angeles
ATTACH;FMTTYPE=image/png:https://socalpulse.com/wp-content/uploads/2024/05/fidelito.png
END:VEVENT
BEGIN:VEVENT
DTSTART;VALUE=DATE:20240516
DTEND;VALUE=DATE:20240519
DTSTAMP:20260421T142053
CREATED:20240503T164534Z
LAST-MODIFIED:20240503T164534Z
UID:199453-1715817600-1716076799@socalpulse.com
SUMMARY:Pepperland
DESCRIPTION:Mark Morris Dance Group returns to L.A. for a unique tribute to the 50th Anniversary of The Beatles’ groundbreaking album Sgt. Pepper’s Lonely Hearts Club Band.
URL:https://socalpulse.com/event/pepperland/
LOCATION:The Wallis\, 9390 N. Santa Monica Blvd\, Beverly Hills\, CA\, 92010\, United States
CATEGORIES:Los Angeles
ATTACH;FMTTYPE=image/png:https://socalpulse.com/wp-content/uploads/2024/05/pepperland.png
END:VEVENT
END:VCALENDAR