BEGIN:VCALENDAR
VERSION:2.0
PRODID:-//SoCalPulse - ECPv6.15.20//NONSGML v1.0//EN
CALSCALE:GREGORIAN
METHOD:PUBLISH
X-ORIGINAL-URL:https://socalpulse.com
X-WR-CALDESC:Events for SoCalPulse
REFRESH-INTERVAL;VALUE=DURATION:PT1H
X-Robots-Tag:noindex
X-PUBLISHED-TTL:PT1H
BEGIN:VTIMEZONE
TZID:America/Los_Angeles
BEGIN:DAYLIGHT
TZOFFSETFROM:-0800
TZOFFSETTO:-0700
TZNAME:PDT
DTSTART:20230312T100000
END:DAYLIGHT
BEGIN:STANDARD
TZOFFSETFROM:-0700
TZOFFSETTO:-0800
TZNAME:PST
DTSTART:20231105T090000
END:STANDARD
BEGIN:DAYLIGHT
TZOFFSETFROM:-0800
TZOFFSETTO:-0700
TZNAME:PDT
DTSTART:20240310T100000
END:DAYLIGHT
BEGIN:STANDARD
TZOFFSETFROM:-0700
TZOFFSETTO:-0800
TZNAME:PST
DTSTART:20241103T090000
END:STANDARD
BEGIN:DAYLIGHT
TZOFFSETFROM:-0800
TZOFFSETTO:-0700
TZNAME:PDT
DTSTART:20250309T100000
END:DAYLIGHT
BEGIN:STANDARD
TZOFFSETFROM:-0700
TZOFFSETTO:-0800
TZNAME:PST
DTSTART:20251102T090000
END:STANDARD
END:VTIMEZONE
BEGIN:VTIMEZONE
TZID:America/Los_Angeles
BEGIN:DAYLIGHT
TZOFFSETFROM:-0800
TZOFFSETTO:-0700
TZNAME:PDT
DTSTART:20230312T100000
END:DAYLIGHT
BEGIN:STANDARD
TZOFFSETFROM:-0700
TZOFFSETTO:-0800
TZNAME:PST
DTSTART:20231105T090000
END:STANDARD
BEGIN:DAYLIGHT
TZOFFSETFROM:-0800
TZOFFSETTO:-0700
TZNAME:PDT
DTSTART:20240310T100000
END:DAYLIGHT
BEGIN:STANDARD
TZOFFSETFROM:-0700
TZOFFSETTO:-0800
TZNAME:PST
DTSTART:20241103T090000
END:STANDARD
BEGIN:DAYLIGHT
TZOFFSETFROM:-0800
TZOFFSETTO:-0700
TZNAME:PDT
DTSTART:20250309T100000
END:DAYLIGHT
BEGIN:STANDARD
TZOFFSETFROM:-0700
TZOFFSETTO:-0800
TZNAME:PST
DTSTART:20251102T090000
END:STANDARD
END:VTIMEZONE
BEGIN:VEVENT
DTSTART;TZID=America/Los_Angeles:20240207T200000
DTEND;TZID=America/Los_Angeles:20240207T220000
DTSTAMP:20260421T114608
CREATED:20240206T234539Z
LAST-MODIFIED:20240206T234539Z
UID:197196-1707336000-1707343200@socalpulse.com
SUMMARY:Delfeayo Marsalis and the Uptown Jazz Orchestra
DESCRIPTION:The middle brother of the First Family of Jazz\, Delfeayo Marsalis\, leads the Uptown Jazz Orchestra from his seat in the trombone section in a performance that brings to life the sounds of his native New Orleans.
URL:https://socalpulse.com/event/delfeayo-marsalis-and-the-uptown-jazz-orchestra/
LOCATION:The Soraya\, 18111 Nordhoff Street\, Northridge\, CA\, 91330\, United States
CATEGORIES:Los Angeles
ATTACH;FMTTYPE=image/jpeg:https://socalpulse.com/wp-content/uploads/2024/02/2.jpg
END:VEVENT
BEGIN:VEVENT
DTSTART;VALUE=DATE:20240209
DTEND;VALUE=DATE:20241209
DTSTAMP:20260421T114608
CREATED:20240130T174112Z
LAST-MODIFIED:20240130T174112Z
UID:197016-1707436800-1733702399@socalpulse.com
SUMMARY:CicLAvia Announces 2024 Schedule
DESCRIPTION:Experience the heart of Los Angeles like never before with CicLAvia’s 2024 line-up of car-free events\, transforming streets into vibrant spaces for walking\, biking\, and play. Their expanded schedule features traditional open-street events spanning 4-7 miles\, alongside two innovative CicLAminis – intimate 1-2 mile routes designed for a leisurely exploration of neighborhood gems. Dive into a world of activities including self-guided walking tours\, scavenger hunts\, street games\, and a rich tapestry of local business and cultural experiences. CicLAvia invites all ages to join in the fun\, fostering community connections and a healthier\, happier Los Angeles. \nWHERE & WHEN: CicLAvia 2024 Schedule (subject to change) \n– February 9: Los Angeles Ale Works hosts CicLAvia Season Launch Party and Fundraiser with re-release of seek-la-VEE-ah\, a signature West Coast India Pale Ale\, @Ivy Station Complex\, Culver City\, during Night Market\, 5pm – 10pm (more details announced soon) \n\n– February 25: CicLAvia—Melrose\, Connecting Fairfax\, Larchmont\, Melrose Hill and East Hollywood\, 9am – 3pm \n  \n– April 21: CicLAvia—Venice Blvd\, Connecting Palms\, Mar Vista and Venice\, presented by Metro\, 9am – 4pm \n  \n– May 19: CicLAmini—Wilmington\, New route\, 10am – 3pm \n  \n– June 23: CicLAvia—South LA\, Connecting communities along Western Ave\, presented by Metro\, 9am – 4pm \n  \n– August 18: CicLAvia—Meet the Hollywoods\, Connecting West Hollywood\, Hollywood and East Hollywood\, presented by Metro\, 9am – 4pm \n  \n– September 15: CicLAmini—Lincoln Heights\, New route\, Time TBD \n  \n– October 13: CicLAvia—Heart of LA\, Connecting Boyle Heights\, Chinatown\, Downtown and Echo Park\, presented by Metro\, 9am – 4pm (annual anchor route & fan favorite) \n \n– December 8: CicLAvia—The Valley\, Connecting NoHo\, Studio City and Sherman Oaks\, 9am – 3pm
URL:https://socalpulse.com/event/ciclavia-announces-2024-schedule/
LOCATION:CA
CATEGORIES:Los Angeles
ATTACH;FMTTYPE=image/jpeg:https://socalpulse.com/wp-content/uploads/2024/01/cic-1.jpg
END:VEVENT
BEGIN:VEVENT
DTSTART;VALUE=DATE:20240215
DTEND;VALUE=DATE:20240219
DTSTAMP:20260421T114608
CREATED:20240213T181115Z
LAST-MODIFIED:20240213T181150Z
UID:197378-1707955200-1708300799@socalpulse.com
SUMMARY:Schubert and Beethoven
DESCRIPTION:Echoing the styles of Haydn\, Beethoven\, and Rossini\, Schubert’s magnificent Sixth Symphony takes listeners on a dynamic journey filled with moments of melancholy\, allure\, tranquility\, and wit\, particularly highlighting the brilliance of the wind instruments. Composed by Schubert at the tender age of 21\, this symphony exudes a vibrant youthfulness throughout. Under the baton of Jukka-Pekka Saraste\, the Artistic Director of the Helsinki Philharmonic Orchestra\, the ensemble delves into Beethoven’s own proclaimed “most excellent symphony\,” revealing the jubilant and hopeful aspects of the composer’s work. \nPlease be informed that Herbert Blomstedt\, originally slated to lead this concert\, has stepped down due to health concerns and will be substituted by Jukka-Pekka Saraste as conductor. \nHours vary check website.
URL:https://socalpulse.com/event/schubert-and-beethoven/
LOCATION:Walt Disney Concert Hall\, 111 S Grand Ave\, Los Angeles\, CA\, 90012\, United States
CATEGORIES:Los Angeles
ATTACH;FMTTYPE=image/jpeg:https://socalpulse.com/wp-content/uploads/2024/02/3.jpg
END:VEVENT
BEGIN:VEVENT
DTSTART;TZID=America/Los_Angeles:20240215T200000
DTEND;TZID=America/Los_Angeles:20240216T220000
DTSTAMP:20260421T114608
CREATED:20240213T180800Z
LAST-MODIFIED:20240213T180800Z
UID:197375-1708027200-1708120800@socalpulse.com
SUMMARY:Riding the Rollercoaster: An Artist’s Life in Los Angeles
DESCRIPTION:Singer/songwriter India Carney performs for two-nights at the Nimoy alongside some of L.A.’s trailblazing young musicians. A UCLA alum herself\, Carney will perform with YoungArts alumni living in Los Angeles and explore the artistic life in Los Angeles. \nUCLA Nimoy Theater\, 1262 Westwood Blvd.\, Los Angeles
URL:https://socalpulse.com/event/riding-the-rollercoaster-an-artists-life-in-los-angeles/
LOCATION:CAP AT UCLA\, 10745 Dickson Ct.\, Los Angeles\, 90095\, United States
CATEGORIES:Los Angeles
ATTACH;FMTTYPE=image/jpeg:https://socalpulse.com/wp-content/uploads/2024/02/2-1.jpg
END:VEVENT
BEGIN:VEVENT
DTSTART;VALUE=DATE:20240217
DTEND;VALUE=DATE:20240218
DTSTAMP:20260421T114608
CREATED:20240213T183846Z
LAST-MODIFIED:20240213T183846Z
UID:197395-1708128000-1708214399@socalpulse.com
SUMMARY:Tchaikovsky Piano Concerto No. 1
DESCRIPTION:Jessie Montgomery is presented at the annual Composers Showcase with Wynona Wang on piano and conducted by Kyle Dickson. \nFebruary 17\n2:00pm & 8:00pm
URL:https://socalpulse.com/event/tchaikovsky-piano-concerto-no-1/
LOCATION:Pasadena Symphony and Pops\, 131 S St. John Avenue\, Pasadena\, CA\, 91105\, United States
CATEGORIES:Los Angeles
ATTACH;FMTTYPE=image/jpeg:https://socalpulse.com/wp-content/uploads/2024/02/8.jpg
END:VEVENT
BEGIN:VEVENT
DTSTART;TZID=America/Los_Angeles:20240217T200000
DTEND;TZID=America/Los_Angeles:20240217T220000
DTSTAMP:20260421T114608
CREATED:20240216T180941Z
LAST-MODIFIED:20240216T180941Z
UID:197501-1708200000-1708207200@socalpulse.com
SUMMARY:MUSIC FOR LOVERS & STRANGERS
DESCRIPTION:Michael Feinstein\, Ambassador of the Great American Songbook\, comes to the Mark Taper Forum with a world premiere concert that will feature classic love songs\, intimate stories\, and new musical arrangements of hits from the Great American Songbook.
URL:https://socalpulse.com/event/music-for-lovers-strangers/
LOCATION:Mark Taper Forum\, 135 N. Grand Avenue\, Los Angeles\, 90012\, United States
CATEGORIES:Los Angeles
ATTACH;FMTTYPE=image/jpeg:https://socalpulse.com/wp-content/uploads/2024/02/sheryl-lee.jpg
END:VEVENT
BEGIN:VEVENT
DTSTART;TZID=America/Los_Angeles:20240217T200000
DTEND;TZID=America/Los_Angeles:20240217T220000
DTSTAMP:20260421T114608
CREATED:20240216T181433Z
LAST-MODIFIED:20240216T181433Z
UID:197504-1708200000-1708207200@socalpulse.com
SUMMARY:Poetry Uncut: Part III  J. Ivy hosts Def Sound and Sunni Patterson
DESCRIPTION:In the third installment of the Poetry Uncut series\, spoken-word artist J. Ivy takes the helm as host. The event kicks off with an energetic spoken-word performance by Get Lit\, followed by L.A.’s own Def Sound\, who blends hip-hop with poetry\, and Sunni Patterson\, who delves into the poetic and spiritual traditions of her New Orleans heritage. The evening’s ambiance is set by Emmy Award-winning DJ Niena Drake\, providing a musical backdrop to the performances.
URL:https://socalpulse.com/event/poetry-uncut-part-iii-j-ivy-hosts-def-sound-and-sunni-patterson/
LOCATION:CAP AT UCLA\, 10745 Dickson Ct.\, Los Angeles\, 90095\, United States
CATEGORIES:Los Angeles
ATTACH;FMTTYPE=image/jpeg:https://socalpulse.com/wp-content/uploads/2024/02/9.jpg
END:VEVENT
BEGIN:VEVENT
DTSTART;VALUE=DATE:20240224
DTEND;VALUE=DATE:20240318
DTSTAMP:20260421T114608
CREATED:20240227T180952Z
LAST-MODIFIED:20240227T180952Z
UID:197718-1708732800-1710719999@socalpulse.com
SUMMARY:Double Feature: Highway 1\, USA\, and The Dwarf
DESCRIPTION:LA Opera presents a double feature of one-act gems about love. The Dwarf is an impossible romance—a one-sided love story by Oscar Wilde brought to life through a romantic score. Highway 1\, USA by African American composer William Grant Still follows a hardworking Black couple determined to build a better life\, but their sacrifices turn out to be misguided.
URL:https://socalpulse.com/event/double-feature-highway-1-usa-and-the-dwarf/
LOCATION:Dorothy Chandler Pavilion\, 135 N Grand Avenue\, Los Angeles\, CA\, 90012\, United States
CATEGORIES:Los Angeles
ATTACH;FMTTYPE=image/jpeg:https://socalpulse.com/wp-content/uploads/2024/02/laopera.jpg
END:VEVENT
BEGIN:VEVENT
DTSTART;TZID=America/Los_Angeles:20240228T200000
DTEND;TZID=America/Los_Angeles:20240228T220000
DTSTAMP:20260421T114608
CREATED:20240227T181234Z
LAST-MODIFIED:20240227T181234Z
UID:197721-1709150400-1709157600@socalpulse.com
SUMMARY:Leila Josefowicz
DESCRIPTION:Experience an evening with a violin virtuoso hailed by The Washington Post\, a MacArthur “genius” Fellow\, and a fervent advocate for contemporary music at the Walt Disney Concert Hall.
URL:https://socalpulse.com/event/leila-josefowicz/
LOCATION:Walt Disney Concert Hall\, 111 S Grand Ave\, Los Angeles\, CA\, 90012\, United States
CATEGORIES:Los Angeles
ATTACH;FMTTYPE=image/jpeg:https://socalpulse.com/wp-content/uploads/2024/02/laphil1.jpg
END:VEVENT
BEGIN:VEVENT
DTSTART;TZID=America/Los_Angeles:20240229T200000
DTEND;TZID=America/Los_Angeles:20240229T220000
DTSTAMP:20260421T114608
CREATED:20240227T181611Z
LAST-MODIFIED:20240227T181611Z
UID:197724-1709236800-1709244000@socalpulse.com
SUMMARY:Nico Muhly and Alice Goodman’s The Street
DESCRIPTION:Join composer Nico Muhly and librettist Alice Goodman at UCLA Nimoy Theater for a profound performance of Muhly’s latest composition\, “The Street.” This compelling piece exposes the harsh realities of wrongful judgment and agony as it unfolds the interactions of a man with his acquaintances\, passersby\, and eager executioners on a Jerusalem thoroughfare.
URL:https://socalpulse.com/event/nico-muhly-and-alice-goodmans-the-street/
LOCATION:CAP AT UCLA\, 10745 Dickson Ct.\, Los Angeles\, 90095\, United States
CATEGORIES:Los Angeles
ATTACH;FMTTYPE=image/jpeg:https://socalpulse.com/wp-content/uploads/2024/02/cap.jpg
END:VEVENT
BEGIN:VEVENT
DTSTART;VALUE=DATE:20240302
DTEND;VALUE=DATE:20240304
DTSTAMP:20260421T114608
CREATED:20240303T032827Z
LAST-MODIFIED:20240303T032827Z
UID:197796-1709337600-1709510399@socalpulse.com
SUMMARY:El Otro Oz
DESCRIPTION:Take a bilingual\, transformative journey with this musical featuring salsa\, merengue\, and Mexican folk music inspired by The Wizard of Oz.
URL:https://socalpulse.com/event/el-otro-oz/
LOCATION:Kirk Douglas Theatre\, 9820 Washington Blvd\, Culver City\, CA\, 90232\, United States
CATEGORIES:Los Angeles
ATTACH;FMTTYPE=image/jpeg:https://socalpulse.com/wp-content/uploads/2024/03/1.jpg
END:VEVENT
BEGIN:VEVENT
DTSTART;TZID=America/Los_Angeles:20240302T080000
DTEND;TZID=America/Los_Angeles:20240302T170000
DTSTAMP:20260421T114608
CREATED:20240303T033608Z
LAST-MODIFIED:20240303T033608Z
UID:197806-1709366400-1709398800@socalpulse.com
SUMMARY:Legacy Debussy + Hamelin
DESCRIPTION:Special guest Marc-André Hamelin headlines the final program of Los Angeles Chamber Orchestra’s popular Chamber Series. He performs Nadia Boulanger’s post-impressionist Three Pieces for Cello and Piano\, and Franck’s expressive Piano Quintet in F minor\, complementing Leclair’s innovative Sonata for Two Violins in E minor\, Op. 3\, No. 5\, and Debussy’s dream-like Sonata for Flute\, Viola and Harp. \n\nTwo Locations: The Wallis and Zipper Hall
URL:https://socalpulse.com/event/legacy-debussy-hamelin/
LOCATION:The Wallis\, 9390 N. Santa Monica Blvd\, Beverly Hills\, CA\, 92010\, United States
CATEGORIES:Los Angeles
ATTACH;FMTTYPE=image/jpeg:https://socalpulse.com/wp-content/uploads/2024/03/4.jpg
END:VEVENT
BEGIN:VEVENT
DTSTART;TZID=America/Los_Angeles:20240303T193000
DTEND;TZID=America/Los_Angeles:20240303T213000
DTSTAMP:20260421T114608
CREATED:20240303T033042Z
LAST-MODIFIED:20240303T033042Z
UID:197800-1709494200-1709501400@socalpulse.com
SUMMARY:Dianne Reeves
DESCRIPTION:The 5-time Grammy winner is LA Phil’s first ever Creative Chair for Jazz and the first person ever to sing on the Walt Disney Concert Hall stage. She makes her return for an inimate night of songs that are deeply personal.
URL:https://socalpulse.com/event/dianne-reeves/
LOCATION:Walt Disney Concert Hall\, 111 S Grand Ave\, Los Angeles\, CA\, 90012\, United States
CATEGORIES:Los Angeles
ATTACH;FMTTYPE=image/jpeg:https://socalpulse.com/wp-content/uploads/2024/03/dianne.jpg
END:VEVENT
BEGIN:VEVENT
DTSTART;TZID=America/Los_Angeles:20240305T200000
DTEND;TZID=America/Los_Angeles:20240305T220000
DTSTAMP:20260421T114608
CREATED:20240303T033916Z
LAST-MODIFIED:20240303T033916Z
UID:197809-1709668800-1709676000@socalpulse.com
SUMMARY:Chamber Music by Brahms and Amy Beach
DESCRIPTION:Brahms’ influence seeped into American composer Amy Beach’s chamber music—from the introduction’s slow and sinister arpeggios to the intense chromatic race to the finale.
URL:https://socalpulse.com/event/chamber-music-by-brahms-and-amy-beach/
LOCATION:Walt Disney Concert Hall\, 111 S Grand Ave\, Los Angeles\, CA\, 90012\, United States
CATEGORIES:Los Angeles
ATTACH;FMTTYPE=image/jpeg:https://socalpulse.com/wp-content/uploads/2024/03/5.jpg
END:VEVENT
BEGIN:VEVENT
DTSTART;TZID=America/Los_Angeles:20240306T193000
DTEND;TZID=America/Los_Angeles:20240306T213000
DTSTAMP:20260421T114608
CREATED:20240303T034320Z
LAST-MODIFIED:20240303T034320Z
UID:197813-1709753400-1709760600@socalpulse.com
SUMMARY:Music 101: Inspiration With KUSC's Alan Chapman
DESCRIPTION:Composers find inspiration in many place. With many musical examples and vibrant visuals\, Alan Chapman explores these sources of inspiration and how they are translated into music.
URL:https://socalpulse.com/event/music-101-inspiration-with-kuscs-alan-chapman/
LOCATION:Walt Disney Concert Hall\, 111 S Grand Ave\, Los Angeles\, CA\, 90012\, United States
CATEGORIES:Los Angeles
ATTACH;FMTTYPE=image/jpeg:https://socalpulse.com/wp-content/uploads/2024/03/6.jpg
END:VEVENT
BEGIN:VEVENT
DTSTART;VALUE=DATE:20240307
DTEND;VALUE=DATE:20240311
DTSTAMP:20260421T114608
CREATED:20240303T040709Z
LAST-MODIFIED:20240303T040709Z
UID:197828-1709769600-1710115199@socalpulse.com
SUMMARY:Prokofiev and Rachmaninoff
DESCRIPTION:Domingo Hindoyan leads Prokofiev’s celebratory Fifth\, with star pianist Mao Fujita  interpreting Rachmaninoff.
URL:https://socalpulse.com/event/prokofiev-and-rachmaninoff/
LOCATION:Walt Disney Concert Hall\, 111 S Grand Ave\, Los Angeles\, CA\, 90012\, United States
CATEGORIES:Los Angeles
ATTACH;FMTTYPE=image/jpeg:https://socalpulse.com/wp-content/uploads/2024/03/10.jpg
END:VEVENT
BEGIN:VEVENT
DTSTART;TZID=America/Los_Angeles:20240307T193000
DTEND;TZID=America/Los_Angeles:20240307T213000
DTSTAMP:20260421T114608
CREATED:20240303T035737Z
LAST-MODIFIED:20240303T035845Z
UID:197822-1709839800-1709847000@socalpulse.com
SUMMARY:Nat Geo Live: Rise of T. Rex
DESCRIPTION:How did T. rex become the iconic apex predator of North America 66 million years ago? Paleontologist Dr. Lindsay Zanno explores how a global climate crisis during the Cretaceous changed the course of evolution for this prehistoric tyrant and its ancestors.
URL:https://socalpulse.com/event/nat-geo-live-rise-of-t-rex/
LOCATION:broadstage\, 1310 11TH STREET\, Santa Monica\, CA\, 90401\, United States
CATEGORIES:Los Angeles
ATTACH;FMTTYPE=image/jpeg:https://socalpulse.com/wp-content/uploads/2024/03/8.jpg
END:VEVENT
BEGIN:VEVENT
DTSTART;VALUE=DATE:20240320
DTEND;VALUE=DATE:20240325
DTSTAMP:20260421T114608
CREATED:20240319T211520Z
LAST-MODIFIED:20240319T211547Z
UID:198125-1710892800-1711324799@socalpulse.com
SUMMARY:Alvin Ailey American Dance Theater
DESCRIPTION:For 65 years\, Alvin Ailey American Dance Theater has showcased the work of diverse choreographers and they return to The Music Center to launch a multi-year residency.
URL:https://socalpulse.com/event/alvin-ailey-american-dance-theater/
LOCATION:Dorothy Chandler Pavilion\, 135 N Grand Avenue\, Los Angeles\, CA\, 90012\, United States
CATEGORIES:Los Angeles
ATTACH;FMTTYPE=image/jpeg:https://socalpulse.com/wp-content/uploads/2024/03/glorya.jpg
END:VEVENT
BEGIN:VEVENT
DTSTART;VALUE=DATE:20240322
DTEND;VALUE=DATE:20240325
DTSTAMP:20260421T114608
CREATED:20240319T220437Z
LAST-MODIFIED:20240319T220529Z
UID:198138-1711065600-1711324799@socalpulse.com
SUMMARY:John Adams’ City Noir
DESCRIPTION:Adams conducts his homage to “the peculiar ambience and mood of L.A. noir films” and a world premiere by Timo Andres.
URL:https://socalpulse.com/event/john-adams-city-noir/
LOCATION:Walt Disney Concert Hall\, 111 S Grand Ave\, Los Angeles\, CA\, 90012\, United States
CATEGORIES:Los Angeles
ATTACH;FMTTYPE=image/jpeg:https://socalpulse.com/wp-content/uploads/2024/03/10-1.jpg
END:VEVENT
BEGIN:VEVENT
DTSTART;VALUE=DATE:20240322
DTEND;VALUE=DATE:20240325
DTSTAMP:20260421T114608
CREATED:20240319T224209Z
LAST-MODIFIED:20240319T224209Z
UID:198143-1711065600-1711324799@socalpulse.com
SUMMARY:Next Steps
DESCRIPTION:Belles-Lettres showcases Justin Peck’s exceptional choreographic talent as he weaves together a tapestry of emotions and stories. Frank Bridge Variations embodies the sensual style Hans van Manen is known for\, and Melissa Barak brings another world premiere to the stage with a work set to music by American film and tv composer Kris Bowers of When They See Us and Bridgerton fame.
URL:https://socalpulse.com/event/next-steps/
LOCATION:broadstage\, 1310 11TH STREET\, Santa Monica\, CA\, 90401\, United States
CATEGORIES:Los Angeles
ATTACH;FMTTYPE=image/jpeg:https://socalpulse.com/wp-content/uploads/2024/03/next.jpg
END:VEVENT
BEGIN:VEVENT
DTSTART;TZID=America/Los_Angeles:20240322T200000
DTEND;TZID=America/Los_Angeles:20240322T220000
DTSTAMP:20260421T114608
CREATED:20240319T214035Z
LAST-MODIFIED:20240319T223855Z
UID:198131-1711137600-1711144800@socalpulse.com
SUMMARY:Esa-Pekka Solonen and the San Francisco Symphony
DESCRIPTION:Salonen leads the San Francisco Symphony in John Adams’ massive orchestral exploration\, plus violinist Lisa Batiashvili performs Sibelius’ dramatic concerto.
URL:https://socalpulse.com/event/esa-pekka-solonen-and-the-san-francisco-symphony/
LOCATION:Walt Disney Concert Hall\, 111 S Grand Ave\, Los Angeles\, CA\, 90012\, United States
CATEGORIES:Los Angeles
ATTACH;FMTTYPE=image/jpeg:https://socalpulse.com/wp-content/uploads/2024/03/5-1.jpg
END:VEVENT
BEGIN:VEVENT
DTSTART;TZID=America/Los_Angeles:20240323T193000
DTEND;TZID=America/Los_Angeles:20240323T213000
DTSTAMP:20260421T114608
CREATED:20240319T225657Z
LAST-MODIFIED:20240319T225657Z
UID:198147-1711222200-1711229400@socalpulse.com
SUMMARY:Take 6
DESCRIPTION:With 10 GRAMMY Awards\, 10 Dove Awards\, a Soul Train Award\, and they as Members of the Gospel Music Hall of Fame\, Take 6 will introduce a preview of their brand new recording\, celebrating their new 2024 partnerships in Music Cares with St. Jude Children’s Research Hospital.
URL:https://socalpulse.com/event/take-6/
LOCATION:The Wallis\, 9390 N. Santa Monica Blvd\, Beverly Hills\, CA\, 92010\, United States
CATEGORIES:Los Angeles
ATTACH;FMTTYPE=image/jpeg:https://socalpulse.com/wp-content/uploads/2024/03/12.jpg
END:VEVENT
BEGIN:VEVENT
DTSTART;TZID=America/Los_Angeles:20240324T190000
DTEND;TZID=America/Los_Angeles:20240324T210000
DTSTAMP:20260421T114608
CREATED:20240320T202054Z
LAST-MODIFIED:20240320T202103Z
UID:198179-1711306800-1711314000@socalpulse.com
SUMMARY:Sounds About Town: Colburn Orchestra
DESCRIPTION:Established in 2003\, The Colburn Orchestra is the flagship ensemble of the Colburn Conservatory of Music. This talented group of young musicians perform Prokofiev’s Piano Concerto No. 2.
URL:https://socalpulse.com/event/sounds-about-town-colburn-orchestra/
LOCATION:Walt Disney Concert Hall\, 111 S Grand Ave\, Los Angeles\, CA\, 90012\, United States
CATEGORIES:Los Angeles
ATTACH;FMTTYPE=image/jpeg:https://socalpulse.com/wp-content/uploads/2024/03/2-1.jpg
END:VEVENT
BEGIN:VEVENT
DTSTART;VALUE=DATE:20240326
DTEND;VALUE=DATE:20240401
DTSTAMP:20260421T114608
CREATED:20240320T202403Z
LAST-MODIFIED:20240320T202403Z
UID:198182-1711411200-1711929599@socalpulse.com
SUMMARY:Alex Edelman’s “Just For Us”
DESCRIPTION:In the wake of a string of online anti-Semitic rhetoric\, stand-up comic Edelman decides to go straight to the source where he covertly attends a meeting of White Nationalists and comes face-to-face with the people behind the hates.
URL:https://socalpulse.com/event/alex-edelmans-just-for-us/
LOCATION:Mark Taper Forum\, 135 N. Grand Avenue\, Los Angeles\, 90012\, United States
CATEGORIES:Los Angeles
ATTACH;FMTTYPE=image/jpeg:https://socalpulse.com/wp-content/uploads/2024/03/3-2.jpg
END:VEVENT
BEGIN:VEVENT
DTSTART;VALUE=DATE:20240327
DTEND;VALUE=DATE:20240329
DTSTAMP:20260421T114608
CREATED:20240322T001007Z
LAST-MODIFIED:20240322T162220Z
UID:198297-1711497600-1711670399@socalpulse.com
SUMMARY:The Voices of Beauty Summit
DESCRIPTION:The Voices of Beauty Summit will feature influential speakers from leading brands such as Glossier\, Pattern Beauty\, Tower 28\, Live Tinted\, and PHLUR\, alongside major retailers like Ulta\, Forever21\, JCPenney\, Fabfitfun\, Credo\, and prominent beauty publications including Allure\, Cosmopolitan\, and Refinery29. This event aims to explore diversity and inclusivity from various perspectives within the beauty industry\, covering topics from developing an authentic brand and consumer behavior to financing an inclusive future and enhancing accessibility in beauty. Brands interested in attending can register at the provided link. \nDay 1 will be highlighted by a keynote speech from John Legend\, iconic singer/songwriter and founder of Loved01\, and featuring The Retail Bootcamp. This unique interactive session is designed to elevate beauty founders through comprehensive upskilling\, offering a chance to network with peers\, editors\, buyers\, and influencers. Activities include speed-dating\, improv exercises\, and games\, ensuring participants leave feeling inspired and informed. Topics such as landing major retailers\, generating social buzz\, managing chargebacks\, and planning for exits will be covered\, all tailored to enhancing the success and growth of your brand in retail. \nDay 2 welcomes Ciara\, singer and founder of OAM Skin\, as the keynote speaker\, focusing on diversity and inclusivity in the beauty sector. Join industry leaders for panels and fireside chats filled with insights on reaching diverse consumers\, overcoming media barriers\, navigating the retail landscape\, and much more. \nWHERE: \nDowntown Los Angeles \nCalifornia Market Center \n110 E. 9th St. Los Angeles\, CA 90079 \n  \nWHEN: \nWednesday and Thursday\, March 27th – 28th\, 2024 \n9 am – 5 pm \nFor more information\, please visit https://www.voicesofbeautysummit.com/. This ticketed event is open to brands\, retailers\, and service providers. Tickets can be purchased here.
URL:https://socalpulse.com/event/the-voices-of-beauty-summit/
LOCATION:California Market Center\, California Market Center 110 E. 9th Street\, Los Angeles\, CA\, 90079\, United States
CATEGORIES:Los Angeles
ATTACH;FMTTYPE=image/jpeg:https://socalpulse.com/wp-content/uploads/2024/03/voiceofbeauty.jpg
END:VEVENT
BEGIN:VEVENT
DTSTART;TZID=America/Los_Angeles:20240327T200000
DTEND;TZID=America/Los_Angeles:20240327T220000
DTSTAMP:20260421T114608
CREATED:20240320T202855Z
LAST-MODIFIED:20240320T223833Z
UID:198185-1711569600-1711576800@socalpulse.com
SUMMARY:Ray Chen
DESCRIPTION:The sensational violinist takes audiences on a tour of Europe with an inspired and virtuosic program.
URL:https://socalpulse.com/event/ray-chen/
LOCATION:Walt Disney Concert Hall\, 111 S Grand Ave\, Los Angeles\, CA\, 90012\, United States
CATEGORIES:Los Angeles
ATTACH;FMTTYPE=image/jpeg:https://socalpulse.com/wp-content/uploads/2024/03/1-4.jpg
END:VEVENT
BEGIN:VEVENT
DTSTART;VALUE=DATE:20240328
DTEND;VALUE=DATE:20240331
DTSTAMP:20260421T114608
CREATED:20240320T205445Z
LAST-MODIFIED:20240320T223815Z
UID:198197-1711584000-1711843199@socalpulse.com
SUMMARY:Michael Tilson Thomas Leads Tchaikovsky
DESCRIPTION:The four tableaus of Igor Stravinsky’s Petrushka are vividly brought to life by Michael Tilson Thomas\, who actually met the composer in Los Angeles in his youth. Thomas once described Stravinsky as an “amazing mind that was searching always for the most original solution” to his inventions\, and he brings that keen understanding to conducting Stravinsky’s work. Tchaikovsky wrote his Fourth Symphony as a mirror to the many conflicts in his life\, wrestling with fate and personal turmoil\, leading to a passionate thrill ride of a symphony. \nThursday\, March 28 at 8 p.m.\nFriday\, March 29 at 11 a.m.\nSaturday\, March 30 at 8 p.m.
URL:https://socalpulse.com/event/michael-tilson-thomas-leads-tchaikovsky/
LOCATION:Walt Disney Concert Hall\, 111 S Grand Ave\, Los Angeles\, CA\, 90012\, United States
CATEGORIES:Los Angeles
ATTACH;FMTTYPE=image/jpeg:https://socalpulse.com/wp-content/uploads/2024/03/13-1.jpg
END:VEVENT
BEGIN:VEVENT
DTSTART;VALUE=DATE:20240330
DTEND;VALUE=DATE:20240401
DTSTAMP:20260421T114608
CREATED:20240320T223019Z
LAST-MODIFIED:20240320T223019Z
UID:198213-1711756800-1711929599@socalpulse.com
SUMMARY:Traditions: Pergolesi’s Stabat Mater
DESCRIPTION:The Los Angeles Chamber Orchestra\, led by Jaime Martín\, presents a series of timeless works that spotlight singular voices within the collective music-making experience. Guest artists John Holiday and Amanda Forsythe join LACO. \nMarch 30 at 8 p.m. ALEX THEATRE\nMarch 31 at 7 p.m. ROYCE HALL
URL:https://socalpulse.com/event/traditions-pergolesis-stabat-mater/
LOCATION:Royce Hall\, 10745 Dickson Ct\, Los Angeles\, CA\, United States
CATEGORIES:Los Angeles
ATTACH;FMTTYPE=image/jpeg:https://socalpulse.com/wp-content/uploads/2024/03/20.jpg
END:VEVENT
BEGIN:VEVENT
DTSTART;VALUE=DATE:20240330
DTEND;VALUE=DATE:20240401
DTSTAMP:20260421T114608
CREATED:20240320T223526Z
LAST-MODIFIED:20240320T223534Z
UID:198220-1711756800-1711929599@socalpulse.com
SUMMARY:Traditions: Pergolesi’s Stabat Mater
DESCRIPTION:The Los Angeles Chamber Orchestra\, led by Jaime Martín\, presents a series of timeless works that spotlight singular voices within the collective music-making experience. Guest artists John Holiday and Amanda Forsythe join LACO. \n\nSATURDAY\, MAR 30 | 8 PM | ALEX THEATRE\nSUNDAY\, MAR 31 | 7 PM | ROYCE HALL
URL:https://socalpulse.com/event/traditions-pergolesis-stabat-mater-2/
LOCATION:Royce Hall\, 10745 Dickson Ct\, Los Angeles\, CA\, United States
CATEGORIES:Los Angeles
ATTACH;FMTTYPE=image/jpeg:https://socalpulse.com/wp-content/uploads/2024/03/20.jpg
END:VEVENT
BEGIN:VEVENT
DTSTART;TZID=America/Los_Angeles:20240330T193000
DTEND;TZID=America/Los_Angeles:20240330T213000
DTSTAMP:20260421T114608
CREATED:20240320T223235Z
LAST-MODIFIED:20240320T223608Z
UID:198217-1711827000-1711834200@socalpulse.com
SUMMARY:Stanley Clarke N•4EVER
DESCRIPTION:BroadStage’s new Artist in Residence\, Stanley Clarke\, is a celebrated acoustic and electric bass player who returns with his new band 4EVER for a night of jazz harmony\, rock\, funk\, R&B\, hip-hop\, fusion and more.
URL:https://socalpulse.com/event/stanley-clarke-n4ever/
LOCATION:broadstage\, 1310 11TH STREET\, Santa Monica\, CA\, 90401\, United States
CATEGORIES:Los Angeles
ATTACH;FMTTYPE=image/jpeg:https://socalpulse.com/wp-content/uploads/2024/03/21.jpg
END:VEVENT
END:VCALENDAR