BEGIN:VCALENDAR
VERSION:2.0
PRODID:-//SoCalPulse - ECPv6.15.20//NONSGML v1.0//EN
CALSCALE:GREGORIAN
METHOD:PUBLISH
X-ORIGINAL-URL:https://socalpulse.com
X-WR-CALDESC:Events for SoCalPulse
REFRESH-INTERVAL;VALUE=DURATION:PT1H
X-Robots-Tag:noindex
X-PUBLISHED-TTL:PT1H
BEGIN:VTIMEZONE
TZID:America/Los_Angeles
BEGIN:DAYLIGHT
TZOFFSETFROM:-0800
TZOFFSETTO:-0700
TZNAME:PDT
DTSTART:20220313T100000
END:DAYLIGHT
BEGIN:STANDARD
TZOFFSETFROM:-0700
TZOFFSETTO:-0800
TZNAME:PST
DTSTART:20221106T090000
END:STANDARD
BEGIN:DAYLIGHT
TZOFFSETFROM:-0800
TZOFFSETTO:-0700
TZNAME:PDT
DTSTART:20230312T100000
END:DAYLIGHT
BEGIN:STANDARD
TZOFFSETFROM:-0700
TZOFFSETTO:-0800
TZNAME:PST
DTSTART:20231105T090000
END:STANDARD
BEGIN:DAYLIGHT
TZOFFSETFROM:-0800
TZOFFSETTO:-0700
TZNAME:PDT
DTSTART:20240310T100000
END:DAYLIGHT
BEGIN:STANDARD
TZOFFSETFROM:-0700
TZOFFSETTO:-0800
TZNAME:PST
DTSTART:20241103T090000
END:STANDARD
END:VTIMEZONE
BEGIN:VEVENT
DTSTART;TZID=America/Los_Angeles:20231001T190000
DTEND;TZID=America/Los_Angeles:20231001T210000
DTSTAMP:20260421T085836
CREATED:20230502T163430Z
LAST-MODIFIED:20230502T163430Z
UID:190484-1696186800-1696194000@socalpulse.com
SUMMARY:Stephanie J. Block with Seth Rudetsky
DESCRIPTION:An evening of intimate behind-the-scenes stories prompted by Rudetsky’s funny\, insightful\, and revealing questions—and the music from Block’s stellar Broadway career.
URL:https://socalpulse.com/event/stephanie-j-block-with-seth-rudetsky/
LOCATION:The Wallis\, 9390 N. Santa Monica Blvd\, Beverly Hills\, CA\, 92010\, United States
CATEGORIES:Los Angeles
ATTACH;FMTTYPE=image/jpeg:https://socalpulse.com/wp-content/uploads/2023/05/mb.jpg
END:VEVENT
BEGIN:VEVENT
DTSTART;VALUE=DATE:20231004
DTEND;VALUE=DATE:20231106
DTSTAMP:20260421T085836
CREATED:20231025T210152Z
LAST-MODIFIED:20231025T210152Z
UID:194619-1696377600-1699228799@socalpulse.com
SUMMARY:The Engagement Party
DESCRIPTION:A young couple is celebrating their engagement in their swank Park Avenue apartment with family and friends when the night takes an unexpected turn. Lives are irrevocably changed.
URL:https://socalpulse.com/event/the-engagement-party/
LOCATION:Geffen Playhouse\, 10886 Le Conte Avenue\, Los Angeles\, CA\, 90024\, United States
CATEGORIES:Los Angeles
ATTACH;FMTTYPE=image/jpeg:https://socalpulse.com/wp-content/uploads/2023/10/engagement.jpg
END:VEVENT
BEGIN:VEVENT
DTSTART;TZID=America/Los_Angeles:20231017T193000
DTEND;TZID=America/Los_Angeles:20231017T210000
DTSTAMP:20260421T085836
CREATED:20231017T155748Z
LAST-MODIFIED:20231017T155748Z
UID:194354-1697571000-1697576400@socalpulse.com
SUMMARY:Nat Geo Live: Wild Cats Revealed
DESCRIPTION:Through photographer and filmmaker Kadur’s captivating images and video\, you’ll get an up-close look at a world of wild cats you’ve never seen before.
URL:https://socalpulse.com/event/nat-geo-live-wild-cats-revealed/
LOCATION:broadstage\, 1310 11TH STREET\, Santa Monica\, CA\, 90401\, United States
CATEGORIES:Los Angeles
ATTACH;FMTTYPE=image/jpeg:https://socalpulse.com/wp-content/uploads/2023/10/2.jpg
END:VEVENT
BEGIN:VEVENT
DTSTART;TZID=America/Los_Angeles:20231018T200000
DTEND;TZID=America/Los_Angeles:20231018T220000
DTSTAMP:20260421T085836
CREATED:20231017T155503Z
LAST-MODIFIED:20231017T155503Z
UID:194350-1697659200-1697666400@socalpulse.com
SUMMARY:Vadym Kholodenko in Recital
DESCRIPTION:Cliburn gold medalist Vadym Kholodenko returns to the Soraya for another intimate and emotional program that spans several centuries\, from Handel and Liszt to the living legend Thomas.
URL:https://socalpulse.com/event/vadym-kholodenko-in-recital/
LOCATION:The Soraya\, 18111 Nordhoff Street\, Northridge\, CA\, 91330\, United States
CATEGORIES:Los Angeles
ATTACH;FMTTYPE=image/jpeg:https://socalpulse.com/wp-content/uploads/2023/10/1.jpg
END:VEVENT
BEGIN:VEVENT
DTSTART;VALUE=DATE:20231019
DTEND;VALUE=DATE:20231021
DTSTAMP:20260421T085836
CREATED:20231017T160010Z
LAST-MODIFIED:20231017T160010Z
UID:194357-1697673600-1697846399@socalpulse.com
SUMMARY:Nano Stern Sings Víctor Jara
DESCRIPTION:Nano Stern\, armed with his guitar\, commemorates the 50th anniversary of legendary Chilean folk singer and slain political activist Victor Jara. Screening of Nano’s documentary film We’ll be Singing by September is showing October 19.
URL:https://socalpulse.com/event/nano-stern-sings-victor-jara/
LOCATION:CAP AT UCLA\, 10745 Dickson Ct.\, Los Angeles\, 90095\, United States
CATEGORIES:Los Angeles
ATTACH;FMTTYPE=image/jpeg:https://socalpulse.com/wp-content/uploads/2023/10/3.jpg
END:VEVENT
BEGIN:VEVENT
DTSTART;VALUE=DATE:20231020
DTEND;VALUE=DATE:20231023
DTSTAMP:20260421T085836
CREATED:20231017T162305Z
LAST-MODIFIED:20231017T162305Z
UID:194370-1697760000-1698019199@socalpulse.com
SUMMARY:Sibelius and Swan Lake
DESCRIPTION:Alpesh Chauhan\, Music Director of the Birmingham Opera Company\, brings his own acclaimed sense of drama to Tchaikovsky’s timeless melodies and romance in selections from Swan Lake. \nHours vary\, check website for more details.
URL:https://socalpulse.com/event/sibelius-and-swan-lake/
LOCATION:Walt Disney Concert Hall\, 111 S Grand Ave\, Los Angeles\, CA\, 90012\, United States
CATEGORIES:Los Angeles
ATTACH;FMTTYPE=image/jpeg:https://socalpulse.com/wp-content/uploads/2023/10/7.jpg
END:VEVENT
BEGIN:VEVENT
DTSTART;TZID=America/Los_Angeles:20231020T200000
DTEND;TZID=America/Los_Angeles:20231020T220000
DTSTAMP:20260421T085836
CREATED:20231017T161415Z
LAST-MODIFIED:20231017T161415Z
UID:194360-1697832000-1697839200@socalpulse.com
SUMMARY:Marisa Monte
DESCRIPTION:In Brazil\, Marisa Monte is revered as both a trailblazer and a traditionalist. Her artistic brilliance and deep emotional connection in her performances shine through as she delivers her pop and samba tracks with a unique twist\, inspired by her passion for experimentation and exploration of rhythm and sound. Her distinctive style has earned her global admiration\, and according to Rolling Stone Brasil\, she stands as the most prominent living singer in the nation.
URL:https://socalpulse.com/event/marisa-monte/
LOCATION:Walt Disney Concert Hall\, 111 S Grand Ave\, Los Angeles\, CA\, 90012\, United States
CATEGORIES:Los Angeles
ATTACH;FMTTYPE=image/jpeg:https://socalpulse.com/wp-content/uploads/2023/10/4.jpg
END:VEVENT
BEGIN:VEVENT
DTSTART;VALUE=DATE:20231021
DTEND;VALUE=DATE:20231022
DTSTAMP:20260421T085836
CREATED:20231017T161804Z
LAST-MODIFIED:20231017T161804Z
UID:194363-1697846400-1697932799@socalpulse.com
SUMMARY:Tchaikovsky 4
DESCRIPTION:The Pasadena Symphony heralds the beginning of the Classical Music season with Brett Mitchell at the helm\, conducting Tchaikovsky’s Symphony No. 4. Accompanying the orchestra is the Armenian violin virtuoso\, Diana Adamyan\, delivering Mendelssohn’s Violin Concerto. As a victor of the Menuhin Competition\, The Violin Channel has lauded Adamyan as “a standout young soloist from the emerging generation.” \nTime: 2 & 8 p.m.
URL:https://socalpulse.com/event/tchaikovsky-4/
LOCATION:Pasadena Symphony and Pops\, 131 S St. John Avenue\, Pasadena\, CA\, 91105\, United States
CATEGORIES:Los Angeles
ATTACH;FMTTYPE=image/jpeg:https://socalpulse.com/wp-content/uploads/2023/10/5.jpg
END:VEVENT
BEGIN:VEVENT
DTSTART;VALUE=DATE:20231021
DTEND;VALUE=DATE:20231113
DTSTAMP:20260421T085836
CREATED:20231025T212934Z
LAST-MODIFIED:20231025T212934Z
UID:194628-1697846400-1699833599@socalpulse.com
SUMMARY:The Barber of Seville
DESCRIPTION:Count Almaviva aims to win Rosina’s heart\, but her guardian\, Doctor Bartolo\, opposes. The resourceful barber\, Figaro\, schemes to ensure love prevails. Celebrated mezzo-soprano Isabel Leonard stars as Rosina\, with Joshua Hopkins playing the cunning Figaro. Enjoy Rossini’s enchanting score under conductor Louis Lohraseb and a fresh LA production directed by the award-winning Rob Ashford. Don’t miss this vibrant barber rendezvous.
URL:https://socalpulse.com/event/the-barber-of-seville/
LOCATION:Dorothy Chandler Pavilion\, 135 N Grand Avenue\, Los Angeles\, CA\, 90012\, United States
CATEGORIES:Los Angeles
ATTACH;FMTTYPE=image/jpeg:https://socalpulse.com/wp-content/uploads/2023/10/barber.jpg
END:VEVENT
BEGIN:VEVENT
DTSTART;TZID=America/Los_Angeles:20231021T200000
DTEND;TZID=America/Los_Angeles:20231021T220000
DTSTAMP:20260421T085836
CREATED:20231017T162041Z
LAST-MODIFIED:20231017T162041Z
UID:194367-1697918400-1697925600@socalpulse.com
SUMMARY:Ruthie Foster
DESCRIPTION:Ruthie Foster’s dynamic fusion of soul\, blues\, rock\, folk\, and gospel has lit up stages worldwide. From Texas church choirs to the U.S. Navy Band and an award-studded career in Austin\, her journey has been remarkable. A four-time Grammy nominee for Best Contemporary Blues Album\, she’s garnered numerous Blues and Austin Music Awards and France’s Grand Prix du Disque. In 2024\, she’ll join the Texas Songwriters Association Hall of Fame. In 2022\, upon releasing her album “Healing Time\,” she was the sixth artist to receive a Star outside Austin’s historic Paramount Theatre.
URL:https://socalpulse.com/event/ruthie-foster/
LOCATION:CAP AT UCLA\, 10745 Dickson Ct.\, Los Angeles\, 90095\, United States
CATEGORIES:Los Angeles
ATTACH;FMTTYPE=image/jpeg:https://socalpulse.com/wp-content/uploads/2023/10/6.jpg
END:VEVENT
BEGIN:VEVENT
DTSTART;TZID=America/Los_Angeles:20231022T190000
DTEND;TZID=America/Los_Angeles:20231022T210000
DTSTAMP:20260421T085836
CREATED:20231017T162519Z
LAST-MODIFIED:20231017T162519Z
UID:194373-1698001200-1698008400@socalpulse.com
SUMMARY:Anoushka Shankar Quintet
DESCRIPTION:Nine-time Grammy nominee Anoushka Shankar places the sitar front and center in a program that incorporates traditional Indian and modern electric music. She is joined by Aparna and Ashwini Ramaswamy as they perform Ananta\,
URL:https://socalpulse.com/event/anoushka-shankar-quintet/
LOCATION:The Soraya\, 18111 Nordhoff Street\, Northridge\, CA\, 91330\, United States
CATEGORIES:Los Angeles
ATTACH;FMTTYPE=image/jpeg:https://socalpulse.com/wp-content/uploads/2023/10/8.jpg
END:VEVENT
BEGIN:VEVENT
DTSTART;TZID=America/Los_Angeles:20231022T190000
DTEND;TZID=America/Los_Angeles:20231022T210000
DTSTAMP:20260421T085836
CREATED:20231017T163033Z
LAST-MODIFIED:20231017T163033Z
UID:194379-1698001200-1698008400@socalpulse.com
SUMMARY:Gabriel Kahane & Attacca Quartet: Magnificent Bird
DESCRIPTION:Songwriter Gabriel Kahane tells his own story in a collection of songs\, Magnificent Bird in a collaborative performance with Grammy Award-winning Attacca Quartet.
URL:https://socalpulse.com/event/gabriel-kahane-attacca-quartet-magnificent-bird/
LOCATION:CAP AT UCLA\, 10745 Dickson Ct.\, Los Angeles\, 90095\, United States
CATEGORIES:Los Angeles
ATTACH;FMTTYPE=image/jpeg:https://socalpulse.com/wp-content/uploads/2023/10/10.jpg
END:VEVENT
BEGIN:VEVENT
DTSTART;VALUE=DATE:20231025
DTEND;VALUE=DATE:20231026
DTSTAMP:20260421T085836
CREATED:20231025T194659Z
LAST-MODIFIED:20231025T194659Z
UID:194590-1698192000-1698278399@socalpulse.com
SUMMARY:The Story of Emilio & Gloria Estefan
DESCRIPTION:“ON YOUR FEET!” chronicles the uplifting journey of Emilio and Gloria Estefan\, showcasing their belief in their music and each other. This fresh\, acclaimed musical captivates with iconic hits like “Rhythm is Gonna Get You” and “Conga”. Expect to be enthralled from beginning to end! \n\n\n\n\n\n\n\n\nThursdays at 7:30 p.m.\, Fridays at 8 p.m.\, Saturdays at 2 p.m. & 8 p.m\, Sundays at 1:30 p.m. & 6:30 p.m.
URL:https://socalpulse.com/event/the-story-of-emilio-gloria-estefan/
LOCATION:La Mirada Theatre\, 14900 La Mirada Blvd\, La Mirada\, 90638\, United States
CATEGORIES:Los Angeles
ATTACH;FMTTYPE=image/jpeg:https://socalpulse.com/wp-content/uploads/2023/10/gl.jpg
END:VEVENT
BEGIN:VEVENT
DTSTART;VALUE=DATE:20231026
DTEND;VALUE=DATE:20231029
DTSTAMP:20260421T085836
CREATED:20231025T193241Z
LAST-MODIFIED:20231025T193241Z
UID:194581-1698278400-1698537599@socalpulse.com
SUMMARY:Jungle Book reimagined
DESCRIPTION:Experience Akram Khan Company’s reimagined “Jungle Book”\, a mesmerizing multimedia adaptation of Kipling’s classic. Follow Mowgli’s journey in a climate-affected world\, merging vibrant movement with striking visuals. This universally acclaimed show speaks to all ages\, emphasizing unity and respect for nature. \n\n\nOctober 26-27 at 7:30 pm; October 28 at 4:00 pm \nThis program is 2 hours 10 min with one intermission.
URL:https://socalpulse.com/event/jungle-book-reimagined/
LOCATION:broadstage\, 1310 11TH STREET\, Santa Monica\, CA\, 90401\, United States
CATEGORIES:Los Angeles
ATTACH;FMTTYPE=image/jpeg:https://socalpulse.com/wp-content/uploads/2023/10/jungle-book.jpg
END:VEVENT
BEGIN:VEVENT
DTSTART;VALUE=DATE:20231027
DTEND;VALUE=DATE:20231030
DTSTAMP:20260421T085836
CREATED:20231025T202829Z
LAST-MODIFIED:20231025T202829Z
UID:194601-1698364800-1698623999@socalpulse.com
SUMMARY:An Alpine Symphony with Salonen
DESCRIPTION:Witness a vivid musical journey through the Alps with Richard Strauss’s “An Alpine Symphony\,” brought to life by Conductor Emeritus Esa-Pekka Salonen and the LA Phil. Experience Pekka Kuusisto’s rendition of Nico Muhly’s “Shrink\,” a violin concerto celebrated by NPR for its innovative composition. The concert starts with Salonen’s fanfare tribute to architect Frank Gehry. Supported by the Frank Gehry Fund for Creativity and the Kohl Virtuoso Violin Fund. \nFriday at 8 p.m.\nSaturday & Sunday at 2 p.m.
URL:https://socalpulse.com/event/an-alpine-symphony-with-salonen/
LOCATION:Walt Disney Concert Hall\, 111 S Grand Ave\, Los Angeles\, CA\, 90012\, United States
CATEGORIES:Los Angeles
ATTACH;FMTTYPE=image/jpeg:https://socalpulse.com/wp-content/uploads/2023/10/alp.jpg
END:VEVENT
BEGIN:VEVENT
DTSTART;VALUE=DATE:20231028
DTEND;VALUE=DATE:20231030
DTSTAMP:20260421T085836
CREATED:20231025T203957Z
LAST-MODIFIED:20231025T203957Z
UID:194604-1698451200-1698623999@socalpulse.com
SUMMARY:Turn It Out with Tiler Peck & Friends
DESCRIPTION:Renowned ballet star Tiler Peck\, famed for her tenure at New York City Ballet and her influential online presence\, is at her pinnacle. She’s captivating audiences with her own “breathtaking” original work\, as acclaimed by the London Press. Alongside her\, the performance features a diverse mix of dancers and choreographers\, including NYCB peers and tap dance sensation Michelle Dorrance. \nSat Oct 28 | 8 PM \n\n\n\n\n\n\n\n\nSun Oct 29 | 3 PM
URL:https://socalpulse.com/event/turn-it-out-with-tiler-peck-friends/
LOCATION:The Soraya\, 18111 Nordhoff Street\, Northridge\, CA\, 91330\, United States
CATEGORIES:Los Angeles
ATTACH;FMTTYPE=image/jpeg:https://socalpulse.com/wp-content/uploads/2023/10/dance.jpg
END:VEVENT
BEGIN:VEVENT
DTSTART;TZID=America/Los_Angeles:20231028T200000
DTEND;TZID=America/Los_Angeles:20231028T220000
DTSTAMP:20260421T085837
CREATED:20231025T194157Z
LAST-MODIFIED:20231025T194157Z
UID:194587-1698523200-1698530400@socalpulse.com
SUMMARY:Meklit Hadero: Movement LIVE
DESCRIPTION:Movement LIVE is a vibrant blend of concert energy and narrative intimacy\, akin to a live podcast. Situated at the intersection of migration and music\, it delves into evolving identities and the concept of home. Directed by renowned Indian-American director Sophiyaa Nayar\, it engages the audience’s emotions\, intellect\, and rhythm. Ethiopian-American artist Meklit Hadero leads the show\, accompanied by LA-based artists: San Cha\, oud expert Clarissa Bitar\, and singer Chhom Nimol from Dengue Fever.
URL:https://socalpulse.com/event/meklit-hadero-movement-live/
LOCATION:CAP AT UCLA\, 10745 Dickson Ct.\, Los Angeles\, 90095\, United States
CATEGORIES:Los Angeles
ATTACH;FMTTYPE=image/jpeg:https://socalpulse.com/wp-content/uploads/2023/10/cap-ucl.jpg
END:VEVENT
BEGIN:VEVENT
DTSTART;TZID=America/Los_Angeles:20231029T190000
DTEND;TZID=America/Los_Angeles:20231029T210000
DTSTAMP:20260421T085837
CREATED:20231025T205411Z
LAST-MODIFIED:20231025T205411Z
UID:194612-1698606000-1698613200@socalpulse.com
SUMMARY:Pat Metheny: The Dream Box Tour
DESCRIPTION:Renowned American guitarist Pat Metheny is among the world’s foremost musicians\, boasting 50 recordings and an unmatched twenty Grammys across twelve categories. His ever-evolving musical prowess\, as noted by The Guardian\, keeps pushing boundaries. CAP UCLA is excited to welcome back Metheny for his captivating solo tour. \n\n\n\n\n\n\n\n\nSunday at 7 p.m.
URL:https://socalpulse.com/event/pat-metheny-the-dream-box-tour/
LOCATION:CAP AT UCLA\, 10745 Dickson Ct.\, Los Angeles\, 90095\, United States
CATEGORIES:Los Angeles
ATTACH;FMTTYPE=image/jpeg:https://socalpulse.com/wp-content/uploads/2023/10/bethany.jpg
END:VEVENT
BEGIN:VEVENT
DTSTART;TZID=America/Los_Angeles:20231031T200000
DTEND;TZID=America/Los_Angeles:20231031T220000
DTSTAMP:20260421T085837
CREATED:20231025T205724Z
LAST-MODIFIED:20231025T205724Z
UID:194615-1698782400-1698789600@socalpulse.com
SUMMARY:Halloween Organ\, Film & Music: The Phantom of the Opera
DESCRIPTION:The Walt Disney Concert Hall’s annual Halloween event showcases the 1920s classic\, “The Phantom of the Opera\,” featuring Lon Chaney’s iconic portrayal of the Phantom. The 1925 silent film will be enriched by a live organ accompaniment by Clark Wilson.
URL:https://socalpulse.com/event/halloween-organ-film-music-the-phantom-of-the-opera/
LOCATION:Walt Disney Concert Hall\, 111 S Grand Ave\, Los Angeles\, CA\, 90012\, United States
CATEGORIES:Los Angeles
ATTACH;FMTTYPE=image/jpeg:https://socalpulse.com/wp-content/uploads/2023/10/phantom-1.jpg
END:VEVENT
BEGIN:VEVENT
DTSTART;TZID=America/Los_Angeles:20231108T200000
DTEND;TZID=America/Los_Angeles:20231108T220000
DTSTAMP:20260421T085837
CREATED:20231108T181428Z
LAST-MODIFIED:20231108T181428Z
UID:194961-1699473600-1699480800@socalpulse.com
SUMMARY:Brad Mehldau Trio
DESCRIPTION:Brad Mehldau blends jazz exploration\, classical romanticism\, and pop allure on songs by Radiohead\, the Beatles\, Paul Simon\, and Nick Drake\, treating them with reverence as he untangles and re-spins their melodies.
URL:https://socalpulse.com/event/brad-mehldau-trio/
LOCATION:Walt Disney Concert Hall\, 111 S Grand Ave\, Los Angeles\, CA\, 90012\, United States
CATEGORIES:Los Angeles
ATTACH;FMTTYPE=image/jpeg:https://socalpulse.com/wp-content/uploads/2023/11/1.jpg
END:VEVENT
BEGIN:VEVENT
DTSTART;VALUE=DATE:20231109
DTEND;VALUE=DATE:20231120
DTSTAMP:20260421T085837
CREATED:20231110T172817Z
LAST-MODIFIED:20231110T172817Z
UID:194976-1699488000-1700438399@socalpulse.com
SUMMARY:The Jewish Dog
DESCRIPTION:The Jewish Dog” at The Wallis is a powerful stage adaptation of the bestselling novel by Israeli author Asher Kravitz. The production\, brought to life by the Yonatan Esterkin team\, premiered at The Wallis on November 9 and runs through November 19​​​​. This deeply human story\, performed with great skill by Roy Abramsohn\, is set against the backdrop of the Holocaust. It narrates the journey of a curious and beloved dog belonging to a German Jewish family. The dog’s story provides a unique perspective on the Holocaust\, filled with heart\, humor\, and insight\, especially after being adopted by the Nazis during World War II​
URL:https://socalpulse.com/event/the-jewish-dog/
LOCATION:The Wallis\, 9390 N. Santa Monica Blvd\, Beverly Hills\, CA\, 92010\, United States
CATEGORIES:Los Angeles
ATTACH;FMTTYPE=image/jpeg:https://socalpulse.com/wp-content/uploads/2023/11/1-1.jpg
END:VEVENT
BEGIN:VEVENT
DTSTART;TZID=America/Los_Angeles:20231109T200000
DTEND;TZID=America/Los_Angeles:20231109T220000
DTSTAMP:20260421T085837
CREATED:20231108T182432Z
LAST-MODIFIED:20231108T182432Z
UID:194967-1699560000-1699567200@socalpulse.com
SUMMARY:Midori Festival Strings Lucerne
DESCRIPTION:The program includes Honegger’s “Pastorale d’été\,” Dubugnon’s “Caprice IV\,” Schumann’s “Violin Concerto in D minor\,” and Beethoven’s “Romance in F major” and “Symphony No. 4 in B-flat Major.” Midori\, a violin virtuoso who debuted with the New York Philharmonic at 11\, joins the Swiss ensemble at The Soraya\, showcasing her dual roles as a celebrated musician and a human rights activist. A USC Distinguished Professor\, Midori will perform Beethoven’s Romance and Schumann’s enigmatic Violin Concerto\, which remained hidden posthumously for 80 years. The evening concludes with Beethoven’s infrequently performed Symphony No. 4.
URL:https://socalpulse.com/event/midori-festival-strings-lucerne/
LOCATION:The Soraya\, 18111 Nordhoff Street\, Northridge\, CA\, 91330\, United States
CATEGORIES:Los Angeles
ATTACH;FMTTYPE=image/jpeg:https://socalpulse.com/wp-content/uploads/2023/11/v.jpg
END:VEVENT
BEGIN:VEVENT
DTSTART;TZID=America/Los_Angeles:20231109T200000
DTEND;TZID=America/Los_Angeles:20231109T220000
DTSTAMP:20260421T085837
CREATED:20231108T184523Z
LAST-MODIFIED:20231108T184523Z
UID:194973-1699560000-1699567200@socalpulse.com
SUMMARY:Canto en resistencia California Festival
DESCRIPTION:Special guest singers join Gustavo Dudamel and the LA Phil to celebrate iconic protest music by Latina artists that resonates across Latin America and the world.
URL:https://socalpulse.com/event/canto-en-resistencia-california-festival/
LOCATION:Walt Disney Concert Hall\, 111 S Grand Ave\, Los Angeles\, CA\, 90012\, United States
CATEGORIES:Los Angeles
ATTACH;FMTTYPE=image/jpeg:https://socalpulse.com/wp-content/uploads/2023/11/disney.jpg
END:VEVENT
BEGIN:VEVENT
DTSTART;VALUE=DATE:20231110
DTEND;VALUE=DATE:20231113
DTSTAMP:20260421T085837
CREATED:20231110T175353Z
LAST-MODIFIED:20231110T175353Z
UID:195067-1699574400-1699833599@socalpulse.com
SUMMARY:Canto en resistencia
DESCRIPTION:Dudamel leads the LA Phil and special guests in a musical tribute to Latina American artists and activists ranging from Violeta Parra to Silvana Estrada. \nFriday at 8 p.m.\nSaturday-Sunday at 2 p.m.
URL:https://socalpulse.com/event/canto-en-resistencia/
LOCATION:Walt Disney Concert Hall\, 111 S Grand Ave\, Los Angeles\, CA\, 90012\, United States
CATEGORIES:Los Angeles
ATTACH;FMTTYPE=image/jpeg:https://socalpulse.com/wp-content/uploads/2023/11/5.jpg
END:VEVENT
BEGIN:VEVENT
DTSTART;TZID=America/Los_Angeles:20231111T193000
DTEND;TZID=America/Los_Angeles:20231111T213000
DTSTAMP:20260421T085837
CREATED:20231110T183806Z
LAST-MODIFIED:20231110T183806Z
UID:195087-1699731000-1699738200@socalpulse.com
SUMMARY:Joseph Calleja
DESCRIPTION:Maltese tenor Joseph Calleja\, celebrated for his nostalgic\, golden-age voice and likened to legendary singers by the Associated Press\, returns to BroadStage in the 2023/24 Celebrity Opera Recital Series. Acclaimed for his extensive discography and performances on prominent opera\, concert\, and TV stages\, Calleja is among today’s most sought-after tenors. His recent engagements include prestigious opera houses like the Metropolitan Opera\, Paris Opera\, and Royal Opera House\, where he earned a GRAMMY® nomination for “La Traviata.” Named Gramophone Magazine’s Artist of the Year in 2012\, Calleja is praised by NPR as “arguably today’s finest lyric tenor\,” captivating audiences with his warm tone and masterful stage presence.
URL:https://socalpulse.com/event/joseph-calleja/
LOCATION:broadstage\, 1310 11TH STREET\, Santa Monica\, CA\, 90401\, United States
CATEGORIES:Los Angeles
ATTACH;FMTTYPE=image/jpeg:https://socalpulse.com/wp-content/uploads/2023/11/8.jpg
END:VEVENT
BEGIN:VEVENT
DTSTART;TZID=America/Los_Angeles:20231111T200000
DTEND;TZID=America/Los_Angeles:20231111T220000
DTSTAMP:20260421T085837
CREATED:20231110T183321Z
LAST-MODIFIED:20231110T183341Z
UID:195084-1699732800-1699740000@socalpulse.com
SUMMARY:Nella Debuts in CAP UCLA
DESCRIPTION:Venezuelan singer Nella\, known for her rich and soulful voice\, combines her country’s folklore\, contemporary sounds\, and Andalusian influences in her Spanish-language music. She discovered her mentor and collaborator\, producer and songwriter Javier Limón\, while studying at Berklee College of Music. Nella’s career propelled forward when she appeared in the film “Everybody Knows” with Penélope Cruz and Javier Bardem\, featuring songs by Limón. Her debut album “Voy\,” released in 2019\, earned her a Latin Grammy for Best New Artist. Additionally\, Nella worked with Venezuelan conductor Gustavo Dudamel of the Los Angeles Philharmonic\, contributing to the soundtrack of “Free Color\,” a documentary about artist Carlos Cruz Diez.
URL:https://socalpulse.com/event/nella-debuts-in-cap-ucla/
LOCATION:CAP AT UCLA\, 10745 Dickson Ct.\, Los Angeles\, 90095\, United States
CATEGORIES:Los Angeles
ATTACH;FMTTYPE=image/jpeg:https://socalpulse.com/wp-content/uploads/2023/11/nella.jpg
END:VEVENT
BEGIN:VEVENT
DTSTART;TZID=America/Los_Angeles:20231114T200000
DTEND;TZID=America/Los_Angeles:20231114T220000
DTSTAMP:20260421T085837
CREATED:20231113T172712Z
LAST-MODIFIED:20231113T172712Z
UID:195102-1699992000-1699999200@socalpulse.com
SUMMARY:Chaparral and Interstates: Green Umbrella
DESCRIPTION:In a concert produced in collaboration with the Ojai Music Festival\, Vimbayi Kaziboni leads new music by California composers.
URL:https://socalpulse.com/event/chaparral-and-interstates-green-umbrella/
LOCATION:Walt Disney Concert Hall\, 111 S Grand Ave\, Los Angeles\, CA\, 90012\, United States
CATEGORIES:Los Angeles
ATTACH;FMTTYPE=image/jpeg:https://socalpulse.com/wp-content/uploads/2023/11/a1.jpg
END:VEVENT
BEGIN:VEVENT
DTSTART;TZID=America/Los_Angeles:20231115T200000
DTEND;TZID=America/Los_Angeles:20231115T220000
DTSTAMP:20260421T085837
CREATED:20231113T180003Z
LAST-MODIFIED:20231113T180003Z
UID:195108-1700078400-1700085600@socalpulse.com
SUMMARY:California Festival: FRAGMENTS 2
DESCRIPTION:Weilerstein’s FRAGMENTS 2 weaves together Bach’s Cello Suites with newly commissioned compositions for an ambitious multisensory concert experience. \n 
URL:https://socalpulse.com/event/california-festival-fragments-2/
LOCATION:Walt Disney Concert Hall\, 111 S Grand Ave\, Los Angeles\, CA\, 90012\, United States
CATEGORIES:Los Angeles
ATTACH;FMTTYPE=image/jpeg:https://socalpulse.com/wp-content/uploads/2023/11/c1.jpg
END:VEVENT
BEGIN:VEVENT
DTSTART;VALUE=DATE:20231117
DTEND;VALUE=DATE:20231120
DTSTAMP:20260421T085837
CREATED:20231113T185913Z
LAST-MODIFIED:20231113T185913Z
UID:195118-1700179200-1700438399@socalpulse.com
SUMMARY:Dudamel and the Music of Tango and Ballet
DESCRIPTION:Gustavo Dudamel and Gabriela Ortiz\, curator of the Pan-American Music Initiative\, deepen their collaboration with a program honoring activist women. It features ‘Stride’ by Tania León\, inspired by Susan B. Anthony\, which won her the Pulitzer Prize\, and Ortiz’s new ballet score\, echoing the 2019 ‘Glitter Revolution’ in Mexico City\, where women protested against sexual violence. Joining them is violinist Leticia Moreno\, celebrated for her ‘exalted lyricism and captivating power’ (El País)\, to perform Astor Piazzolla’s dramatic\, tango-infused ‘Four Seasons of Buenos Aires’ with the orchestra.
URL:https://socalpulse.com/event/dudamel-and-the-music-of-tango-and-ballet/
LOCATION:Walt Disney Concert Hall\, 111 S Grand Ave\, Los Angeles\, CA\, 90012\, United States
CATEGORIES:Los Angeles
ATTACH;FMTTYPE=image/jpeg:https://socalpulse.com/wp-content/uploads/2023/11/gut.jpg
END:VEVENT
BEGIN:VEVENT
DTSTART;TZID=America/Los_Angeles:20231117T193000
DTEND;TZID=America/Los_Angeles:20231117T213000
DTSTAMP:20260421T085837
CREATED:20231113T191755Z
LAST-MODIFIED:20231113T191755Z
UID:195125-1700249400-1700256600@socalpulse.com
SUMMARY:Takács Quartet
DESCRIPTION:Returning after a sold-out show last year\, The Takács Quartet\, celebrated for their innovative programming and virtuosity\, is back at BroadStage. This time\, they present a compelling mix of Haydn\, Beethoven\, and a new piece by Los Angeles native and esteemed violist Nokuthula Ngwenyama\, featured in the California Festival. Ngwenyama’s composition\, “Flow\,” commissioned for the Takács Quartet\, is a contemplative work on climate change. In her exploration of the natural world\, she delves into diverse phenomena like starling murmurations\, black hole collisions\, and the musical translation of protein sequences\, including Sars-Covid-2 variants\, reflecting on nature’s dynamic flow and interconnectedness. \nThe New York Times has lauded The Takács Quartet as “one of the world’s greatest string quartets.” Celebrating their 49th season\, they mark this occasion with a performance that embodies the creative spirit flourishing in California. \nNokothula Ngwenyama\, hailed by Gramophone for her “bold mesmerizing character” in music\, rose to fame at 16 after winning the Primrose International Viola Competition. She has since performed globally\, including with the Los Angeles Philharmonic\, and in prestigious venues like the Kennedy Center and the Louvre. An alumna of Crossroads School for Arts and Sciences and the Colburn School\, she furthered her studies at the Conservatoire National Supérieur de Musique de Paris as a Fulbright Scholar and holds a Master of Theological Studies from Harvard University. Ngwenyama has served as the president of the American Viola Society and director of the Primrose International Viola Competition.
URL:https://socalpulse.com/event/takacs-quartet/
LOCATION:broadstage\, 1310 11TH STREET\, Santa Monica\, CA\, 90401\, United States
CATEGORIES:Los Angeles
ATTACH;FMTTYPE=image/jpeg:https://socalpulse.com/wp-content/uploads/2023/11/t1.jpg
END:VEVENT
END:VCALENDAR