BEGIN:VCALENDAR
VERSION:2.0
PRODID:-//SoCalPulse - ECPv6.15.20//NONSGML v1.0//EN
CALSCALE:GREGORIAN
METHOD:PUBLISH
X-ORIGINAL-URL:https://socalpulse.com
X-WR-CALDESC:Events for SoCalPulse
REFRESH-INTERVAL;VALUE=DURATION:PT1H
X-Robots-Tag:noindex
X-PUBLISHED-TTL:PT1H
BEGIN:VTIMEZONE
TZID:America/Los_Angeles
BEGIN:DAYLIGHT
TZOFFSETFROM:-0800
TZOFFSETTO:-0700
TZNAME:PDT
DTSTART:20220313T100000
END:DAYLIGHT
BEGIN:STANDARD
TZOFFSETFROM:-0700
TZOFFSETTO:-0800
TZNAME:PST
DTSTART:20221106T090000
END:STANDARD
BEGIN:DAYLIGHT
TZOFFSETFROM:-0800
TZOFFSETTO:-0700
TZNAME:PDT
DTSTART:20230312T100000
END:DAYLIGHT
BEGIN:STANDARD
TZOFFSETFROM:-0700
TZOFFSETTO:-0800
TZNAME:PST
DTSTART:20231105T090000
END:STANDARD
BEGIN:DAYLIGHT
TZOFFSETFROM:-0800
TZOFFSETTO:-0700
TZNAME:PDT
DTSTART:20240310T100000
END:DAYLIGHT
BEGIN:STANDARD
TZOFFSETFROM:-0700
TZOFFSETTO:-0800
TZNAME:PST
DTSTART:20241103T090000
END:STANDARD
END:VTIMEZONE
BEGIN:VEVENT
DTSTART;TZID=America/Los_Angeles:20230905T180000
DTEND;TZID=America/Los_Angeles:20230905T200000
DTSTAMP:20260421T114608
CREATED:20230901T173919Z
LAST-MODIFIED:20230901T173919Z
UID:193203-1693936800-1693944000@socalpulse.com
SUMMARY:Mozart Under the Stars
DESCRIPTION:Experiencing Mozart under a transitioning Southern Californian sky\, from sunset to starry night\, is truly unparalleled. Nicholas McGegan\, a beloved figure at the Bowl\, conducts the Los Angeles Philharmonic in this cherished annual event\, presenting Mozart’s dynamic Don Giovanni Overture and the melodically deep “Prague” Symphony. Accompanying the orchestra\, violinist Bomsori Kim showcases Mozart’s delightful and spirited “Turkish” concerto.
URL:https://socalpulse.com/event/mozart-under-the-stars/
LOCATION:The Hollywood Bowl\, 2301 N Highland Ave\, Los Angeles\, 90068\, United States
CATEGORIES:Los Angeles
ATTACH;FMTTYPE=image/jpeg:https://socalpulse.com/wp-content/uploads/2023/09/kim.jpg
END:VEVENT
BEGIN:VEVENT
DTSTART;VALUE=DATE:20230906
DTEND;VALUE=DATE:20231002
DTSTAMP:20260421T114608
CREATED:20230929T180722Z
LAST-MODIFIED:20230929T180734Z
UID:193977-1693958400-1696204799@socalpulse.com
SUMMARY:The Sound Inside
DESCRIPTION:Professor Bella Baird takes the stage\, poised to share her newest tale\, yet some pieces don’t quite align. A chance meeting with an unexpected student risks unsettling Bella’s otherwise tranquil life. Adam Rapp’s riveting 90-minute enigma “unfolds with the intrigue of interlocking puzzles\,” as described by the Los Angeles Times\, highlighting the idea that while everyone crafts their narrative\, not all storytellers can be trusted.
URL:https://socalpulse.com/event/the-sound-inside/
LOCATION:Pasadena Playhouse\, 39 S. El Molino Avenue\, Pasadena\, CA\, 91101\, United States
CATEGORIES:Los Angeles
ATTACH;FMTTYPE=image/jpeg:https://socalpulse.com/wp-content/uploads/2023/09/pl.jpg
END:VEVENT
BEGIN:VEVENT
DTSTART;TZID=America/Los_Angeles:20230906T200000
DTEND;TZID=America/Los_Angeles:20230906T220000
DTSTAMP:20260421T114608
CREATED:20230901T174227Z
LAST-MODIFIED:20230901T174227Z
UID:193206-1694030400-1694037600@socalpulse.com
SUMMARY:Buddy Guy with Christone "Kingfish" Ingram
DESCRIPTION:The iconic blues-rock sensation\, renowned for introducing Chicago’s soulful tunes globally\, graces the Hollywood Bowl stage once more with his “Damn Right Farewell” tour! Buddy Guy\, an esteemed eight-time Grammy awardee\, has masterfully fused slick sophistication with Chicago’s raw blues\, earning him adoration worldwide. Echoing The New York Times\, sharing moments with Buddy Guy is an unparalleled experience we wholeheartedly recommend. The evening commences with a performance by Christone “Kingfish” Ingram.
URL:https://socalpulse.com/event/buddy-guy-with-christone-kingfish-ingram/
LOCATION:The Hollywood Bowl\, 2301 N Highland Ave\, Los Angeles\, 90068\, United States
CATEGORIES:Los Angeles
ATTACH;FMTTYPE=image/jpeg:https://socalpulse.com/wp-content/uploads/2023/09/buddy.jpg
END:VEVENT
BEGIN:VEVENT
DTSTART;TZID=America/Los_Angeles:20230907T200000
DTEND;TZID=America/Los_Angeles:20230907T220000
DTSTAMP:20260421T114608
CREATED:20230901T214728Z
LAST-MODIFIED:20230901T214728Z
UID:193212-1694116800-1694124000@socalpulse.com
SUMMARY:Bach and Mendelssohn
DESCRIPTION:The first half of this program illuminates Bach’s enduring and divine compositions\, including the renowned “Air on the G String” and a violin concerto spotlighting the LA Phil’s Principal Concertmaster. Under the baton of Conductor Masaaki Suzuki\, the ensemble transitions to Mendelssohn’s radiant Fourth Symphony\, a piece imbued with the charm of the composer’s sojourn in the Italian countryside.
URL:https://socalpulse.com/event/bach-and-mendelssohn/
LOCATION:The Hollywood Bowl\, 2301 N Highland Ave\, Los Angeles\, 90068\, United States
CATEGORIES:Los Angeles
ATTACH;FMTTYPE=image/jpeg:https://socalpulse.com/wp-content/uploads/2023/09/orange.jpg
END:VEVENT
BEGIN:VEVENT
DTSTART;TZID=America/Los_Angeles:20230908T200000
DTEND;TZID=America/Los_Angeles:20230908T213000
DTSTAMP:20260421T114608
CREATED:20230901T220640Z
LAST-MODIFIED:20230901T221048Z
UID:193217-1694203200-1694208600@socalpulse.com
SUMMARY:¡Viva La Tradición! Palomas Negras: Chavela\, Selena\, and More
DESCRIPTION:For generations\, trailblazing women such as Chavela Vargas\, Lola Beltran\, Lucha Villa\, Rocio Durcal\, and Selena have been at the forefront of Mexican music\, shattering norms\, redefining gender roles\, and transcending cultural boundaries. This evening\, dedicated to their indomitable spirit\, showcases the talents of LA’s beloved all-female mariachi group\, Las Colibrí\, the dynamic performer San Cha\, revered LA poet Yesika Salgado\, ranchera music’s Chicana icon Marisa Ronstadt\, and the esteemed Ballet Folklorico Ollin dance ensemble.
URL:https://socalpulse.com/event/viva-la-tradicion-palomas-negras-chavela-selena-and-more/
LOCATION:The Ford\, 2580 Cahuenga Blvd E\, Los Angeles\, 90068\, United States
CATEGORIES:Los Angeles
ATTACH;FMTTYPE=image/jpeg:https://socalpulse.com/wp-content/uploads/2023/09/ab.jpg
END:VEVENT
BEGIN:VEVENT
DTSTART;TZID=America/Los_Angeles:20230909T200000
DTEND;TZID=America/Los_Angeles:20230909T220000
DTSTAMP:20260421T114608
CREATED:20230901T223058Z
LAST-MODIFIED:20230901T223513Z
UID:193228-1694289600-1694296800@socalpulse.com
SUMMARY:Flypoet: Summer Classic
DESCRIPTION:Flypoet All-Star Spoken Word Summer Classic presents an elite selection of the country’s top spoken word talents\, culminating in a surprise act by a renowned R&B and soul artist. Join Flypoet at The Ford for a captivating evening filled with art\, music\, and mesmerizing poetic prowess.
URL:https://socalpulse.com/event/flypoet-summer-classic/
LOCATION:The Ford\, 2580 Cahuenga Blvd E\, Los Angeles\, 90068\, United States
CATEGORIES:Los Angeles
ATTACH;FMTTYPE=image/jpeg:https://socalpulse.com/wp-content/uploads/2023/09/flypoet.jpg
END:VEVENT
BEGIN:VEVENT
DTSTART;TZID=America/Los_Angeles:20230909T200000
DTEND;TZID=America/Los_Angeles:20230909T220000
DTSTAMP:20260421T114608
CREATED:20230905T164452Z
LAST-MODIFIED:20230905T164452Z
UID:193240-1694289600-1694296800@socalpulse.com
SUMMARY:Flypoet: Summer Classic
DESCRIPTION:The Flypoet All-Star Spoken Word Summer Classic showcases some of the most celebrated spoken word talents in the nation. The event is further highlighted by a surprise act from a renowned R&B and soul musician. Join Flypoet at The Ford for a memorable evening filled with art\, melodies\, and\, undoubtedly\, poetic brilliance.
URL:https://socalpulse.com/event/flypoet-summer-classic-2/
LOCATION:The Ford\, 2580 Cahuenga Blvd E\, Los Angeles\, 90068\, United States
CATEGORIES:Los Angeles
ATTACH;FMTTYPE=image/jpeg:https://socalpulse.com/wp-content/uploads/2023/09/1.jpg
END:VEVENT
BEGIN:VEVENT
DTSTART;VALUE=DATE:20230912
DTEND;VALUE=DATE:20230924
DTSTAMP:20260421T114608
CREATED:20230920T181945Z
LAST-MODIFIED:20230920T181945Z
UID:193681-1694476800-1695513599@socalpulse.com
SUMMARY:Disney’s Aladdin
DESCRIPTION:From the producer of The Lion King comes this new production of Disney’s Aladdin featuring all of the popular songs from the film as well as new music by Tony and Academy Award winner Alan Menken (Newsies) and lyrics by legendary lyricists Howard Ashman (Beauty and the Beast)\, Award winner Tim Rice (The Lion King\, Aida) and author Chad Beguelin (The Wedding Singer).
URL:https://socalpulse.com/event/disneys-aladdin/
LOCATION:Pantages Theatre\, 6233 HOLLYWOOD BOULEVARD\, Los Angeles\, CA\, 90028\, United States
CATEGORIES:Los Angeles
ATTACH;FMTTYPE=image/jpeg:https://socalpulse.com/wp-content/uploads/2023/09/a1.jpg
END:VEVENT
BEGIN:VEVENT
DTSTART;TZID=America/Los_Angeles:20230912T200000
DTEND;TZID=America/Los_Angeles:20230912T220000
DTSTAMP:20260421T114608
CREATED:20230905T170856Z
LAST-MODIFIED:20230905T170945Z
UID:193260-1694548800-1694556000@socalpulse.com
SUMMARY:The Planets
DESCRIPTION:Gustav Holst’s fan-favorite The Planets explores the astrological personalities that inhabit our solar system: from the combative Mars to the joyful Jupiter. The program features the LA Philharmonic and the Pacific Chorale.
URL:https://socalpulse.com/event/the-planets/
LOCATION:The Hollywood Bowl\, 2301 N Highland Ave\, Los Angeles\, 90068\, United States
CATEGORIES:Los Angeles
ATTACH;FMTTYPE=image/jpeg:https://socalpulse.com/wp-content/uploads/2023/09/5.jpg
END:VEVENT
BEGIN:VEVENT
DTSTART;TZID=America/Los_Angeles:20230914T200000
DTEND;TZID=America/Los_Angeles:20230914T220000
DTSTAMP:20260421T114608
CREATED:20230905T172521Z
LAST-MODIFIED:20230905T172521Z
UID:193266-1694721600-1694728800@socalpulse.com
SUMMARY:Ryan Beatty at The Hollywood Bowl
DESCRIPTION:In his Ford debut\, singer-songwriter Ryan Beatty will perform songs from his new album\nCalico as he explores the tension we feel between protecting our hearts longing for the connection that comes with true vulnerability.
URL:https://socalpulse.com/event/ryan-beatty-at-the-hollywood-bowl/
LOCATION:The Hollywood Bowl\, 2301 N Highland Ave\, Los Angeles\, 90068\, United States
CATEGORIES:Los Angeles
ATTACH;FMTTYPE=image/jpeg:https://socalpulse.com/wp-content/uploads/2023/09/ryan.jpg
END:VEVENT
BEGIN:VEVENT
DTSTART;TZID=America/Los_Angeles:20230916T200000
DTEND;TZID=America/Los_Angeles:20230916T220000
DTSTAMP:20260421T114608
CREATED:20230905T230508Z
LAST-MODIFIED:20230905T230508Z
UID:193275-1694894400-1694901600@socalpulse.com
SUMMARY:Laufey with the LA Phil
DESCRIPTION:Laufey was classically trained on piano and cello by her mother and influenced by his father’s jazz collection. These influences resulted in the “velvet-smooth harmonies” of her 2022 LP. She makes her Ford debut with her musical storytelling.
URL:https://socalpulse.com/event/laufey-with-the-la-phil/
LOCATION:The Ford\, 2580 Cahuenga Blvd E\, Los Angeles\, 90068\, United States
CATEGORIES:Los Angeles
ATTACH;FMTTYPE=image/jpeg:https://socalpulse.com/wp-content/uploads/2023/09/11.jpg
END:VEVENT
BEGIN:VEVENT
DTSTART;TZID=America/Los_Angeles:20230917T103000
DTEND;TZID=America/Los_Angeles:20230917T123000
DTSTAMP:20260421T114608
CREATED:20230905T231907Z
LAST-MODIFIED:20230905T231907Z
UID:193284-1694946600-1694953800@socalpulse.com
SUMMARY:Celebrating Samba with Viver Brasil
DESCRIPTION:Experience the joyful color and thrilling rhythms of Afro-Brazilian dance and music in this communal celebration.
URL:https://socalpulse.com/event/celebrating-samba-with-viver-brasil/
LOCATION:The Ford\, 2580 Cahuenga Blvd E\, Los Angeles\, 90068\, United States
CATEGORIES:Los Angeles
ATTACH;FMTTYPE=image/jpeg:https://socalpulse.com/wp-content/uploads/2023/09/15.jpg
END:VEVENT
BEGIN:VEVENT
DTSTART;TZID=America/Los_Angeles:20230917T190000
DTEND;TZID=America/Los_Angeles:20230917T210000
DTSTAMP:20260421T114608
CREATED:20230905T231303Z
LAST-MODIFIED:20230905T231303Z
UID:193278-1694977200-1694984400@socalpulse.com
SUMMARY:Sound of Music Sing-a-long
DESCRIPTION:Arrive early for the pre-show and costume contest before the film begins and the Hollywood Hills comes alive with the sound of music.
URL:https://socalpulse.com/event/sound-of-music-sing-a-long/
LOCATION:The Hollywood Bowl\, 2301 N Highland Ave\, Los Angeles\, 90068\, United States
CATEGORIES:Los Angeles
ATTACH;FMTTYPE=image/jpeg:https://socalpulse.com/wp-content/uploads/2023/09/12.jpg
END:VEVENT
BEGIN:VEVENT
DTSTART;TZID=America/Los_Angeles:20230917T190000
DTEND;TZID=America/Los_Angeles:20230917T210000
DTSTAMP:20260421T114608
CREATED:20230905T231552Z
LAST-MODIFIED:20230905T231552Z
UID:193281-1694977200-1694984400@socalpulse.com
SUMMARY:Pixies • Modest Mouse • Cat Power
DESCRIPTION:Three of the most influential and beloved acts in alt-rock history team up in a triple bill for the ages.
URL:https://socalpulse.com/event/pixies-modest-mouse-cat-power/
LOCATION:The Hollywood Bowl\, 2301 N Highland Ave\, Los Angeles\, 90068\, United States
CATEGORIES:Los Angeles
ATTACH;FMTTYPE=image/jpeg:https://socalpulse.com/wp-content/uploads/2023/09/13.jpg
END:VEVENT
BEGIN:VEVENT
DTSTART;TZID=America/Los_Angeles:20230917T193000
DTEND;TZID=America/Los_Angeles:20230917T210000
DTSTAMP:20260421T114608
CREATED:20230905T232431Z
LAST-MODIFIED:20230905T232431Z
UID:193288-1694979000-1694984400@socalpulse.com
SUMMARY:Lise Davidsen\, soprano
DESCRIPTION:With a unique and powerful voice that has been described as “one-in-a-million\,” Norweigan-born soprano Lise Davidsen makes her much-anticipated broadstage debut as part of the Celebrity Opera Recital Series.
URL:https://socalpulse.com/event/lise-davidsen-soprano/
LOCATION:broadstage\, 1310 11TH STREET\, Santa Monica\, CA\, 90401\, United States
CATEGORIES:Los Angeles
ATTACH;FMTTYPE=image/jpeg:https://socalpulse.com/wp-content/uploads/2023/09/17.jpg
END:VEVENT
BEGIN:VEVENT
DTSTART;TZID=America/Los_Angeles:20230920T200000
DTEND;TZID=America/Los_Angeles:20230920T220000
DTSTAMP:20260421T114608
CREATED:20230905T232950Z
LAST-MODIFIED:20230905T232950Z
UID:193295-1695240000-1695247200@socalpulse.com
SUMMARY:Love in Exile
DESCRIPTION:Jazz pianist Vijay Iyer\, Grammy award-winning singer Arooj Aftab and multi-instrumentalist Shahzad Ismaily use their distinct backgrounds and histories to collaborate in one singular voice for a program that has a timeless beauty and harmony that crosses the boundaries of genres and cultures.
URL:https://socalpulse.com/event/love-in-exile/
LOCATION:The Ford\, 2580 Cahuenga Blvd E\, Los Angeles\, 90068\, United States
CATEGORIES:Los Angeles
ATTACH;FMTTYPE=image/jpeg:https://socalpulse.com/wp-content/uploads/2023/09/18.jpg
END:VEVENT
BEGIN:VEVENT
DTSTART;TZID=America/Los_Angeles:20230920T200000
DTEND;TZID=America/Los_Angeles:20230920T220000
DTSTAMP:20260421T114608
CREATED:20230905T233435Z
LAST-MODIFIED:20230905T233544Z
UID:193298-1695240000-1695247200@socalpulse.com
SUMMARY:Promises
DESCRIPTION:An all-star lineup featuring Floating Points with Shabaka Hutchings\, Kieran Hebden\, Dan Snaith\, Kara-Lis Coverdale\, Hinako Omori\, Jeffrey Makinson\, John Escreet\, Lara Serafin with special guests Sun Ra Arkestra performs Promises\, the acclaimed 2021 album-length composition recorded with the late tenor saxophonist Pharoah Sanders \n.
URL:https://socalpulse.com/event/promises/
LOCATION:The Hollywood Bowl\, 2301 N Highland Ave\, Los Angeles\, 90068\, United States
CATEGORIES:Los Angeles
ATTACH;FMTTYPE=image/jpeg:https://socalpulse.com/wp-content/uploads/2023/09/19.jpg
END:VEVENT
BEGIN:VEVENT
DTSTART;TZID=America/Los_Angeles:20230920T200000
DTEND;TZID=America/Los_Angeles:20230920T220000
DTSTAMP:20260421T114608
CREATED:20230919T171836Z
LAST-MODIFIED:20230919T171836Z
UID:193638-1695240000-1695247200@socalpulse.com
SUMMARY:Love in Exile
DESCRIPTION:Jazz pianist Vijay Iyer\, Grammy award-winning singer Arooj Aftab and multi-instrumentalist Shahzad Ismaily use their distinct backgrounds and histories to collaborate in one singular voice for a program that has a timeless beauty and harmony that crosses the boundaries of genres and cultures.
URL:https://socalpulse.com/event/love-in-exile-2/
LOCATION:The Ford\, 2580 Cahuenga Blvd E\, Los Angeles\, 90068\, United States
CATEGORIES:Los Angeles
ATTACH;FMTTYPE=image/jpeg:https://socalpulse.com/wp-content/uploads/2023/09/a.jpg
END:VEVENT
BEGIN:VEVENT
DTSTART;TZID=America/Los_Angeles:20230920T200000
DTEND;TZID=America/Los_Angeles:20230920T223000
DTSTAMP:20260421T114608
CREATED:20230919T172207Z
LAST-MODIFIED:20230919T172207Z
UID:193641-1695240000-1695249000@socalpulse.com
SUMMARY:Promises
DESCRIPTION:An all-star lineup featuring Floating Points with Shabaka Hutchings\, Kieran Hebden\, Dan Snaith\, Kara-Lis Coverdale\, Hinako Omori\, Jeffrey Makinson\, John Escreet\, Lara Serafin with special guests Sun Ra Arkestra performs Promises\, the acclaimed 2021 album-length composition recorded with the late tenor saxophonist Pharoah Sanders.
URL:https://socalpulse.com/event/promises-2/
LOCATION:The Hollywood Bowl\, 2301 N Highland Ave\, Los Angeles\, 90068\, United States
CATEGORIES:Los Angeles
ATTACH;FMTTYPE=image/jpeg:https://socalpulse.com/wp-content/uploads/2023/09/b.jpg
END:VEVENT
BEGIN:VEVENT
DTSTART;TZID=America/Los_Angeles:20230922T200000
DTEND;TZID=America/Los_Angeles:20230922T220000
DTSTAMP:20260421T114608
CREATED:20230905T234702Z
LAST-MODIFIED:20230905T234702Z
UID:193308-1695412800-1695420000@socalpulse.com
SUMMARY:
DESCRIPTION:Two incomparable jazz talents come together—vocalist Dee Dee Bridgewater and jazz pianist Bill Charlap—for a virtuosic program that includes interpretations of Ellington\, Porter\, Sondheim\, and others across the musical spectrum.  
URL:https://socalpulse.com/event/193308/
LOCATION:CAP AT UCLA\, 10745 Dickson Ct.\, Los Angeles\, 90095\, United States
CATEGORIES:Los Angeles
ATTACH;FMTTYPE=image/jpeg:https://socalpulse.com/wp-content/uploads/2023/09/22.jpg
END:VEVENT
BEGIN:VEVENT
DTSTART;TZID=America/Los_Angeles:20230922T200000
DTEND;TZID=America/Los_Angeles:20230922T220000
DTSTAMP:20260421T114608
CREATED:20230919T173559Z
LAST-MODIFIED:20230919T173559Z
UID:193651-1695412800-1695420000@socalpulse.com
SUMMARY:Dee Dee Bridgewater and Bill Charlap
DESCRIPTION:Two incomparable jazz talents come together—vocalist Dee Dee Bridgewater and jazz pianist Bill Charlap—for a virtuosic program that includes interpretations of Ellington\, Porter\, Sondheim\, and others across the musical spectrum.
URL:https://socalpulse.com/event/dee-dee-bridgewater-and-bill-charlap/
LOCATION:Royce Hall\, 10745 Dickson Ct\, Los Angeles\, CA\, United States
CATEGORIES:Los Angeles
ATTACH;FMTTYPE=image/jpeg:https://socalpulse.com/wp-content/uploads/2023/09/e.jpg
END:VEVENT
BEGIN:VEVENT
DTSTART;VALUE=DATE:20230923
DTEND;VALUE=DATE:20231016
DTSTAMP:20260421T114608
CREATED:20230929T174140Z
LAST-MODIFIED:20230929T174151Z
UID:193956-1695427200-1697414399@socalpulse.com
SUMMARY:Don Giovanni
DESCRIPTION:In the heat of the moment\, the notorious Don Giovanni (aka Don Juan) murders the father of one of his conquests\, unwittingly unleashing an ominous force from beyond the grave. Accustomed to getting away with anything and everything\, he must now face the music as years of cruelty and debauchery come due.
URL:https://socalpulse.com/event/don-giovanni/
LOCATION:Dorothy Chandler Pavilion\, 135 N Grand Avenue\, Los Angeles\, CA\, 90012\, United States
CATEGORIES:Los Angeles
ATTACH;FMTTYPE=image/jpeg:https://socalpulse.com/wp-content/uploads/2023/09/don.jpg
END:VEVENT
BEGIN:VEVENT
DTSTART;TZID=America/Los_Angeles:20230923T070000
DTEND;TZID=America/Los_Angeles:20230923T210000
DTSTAMP:20260421T114608
CREATED:20230920T192438Z
LAST-MODIFIED:20230920T192506Z
UID:193707-1695452400-1695502800@socalpulse.com
SUMMARY:Los Fabulosos Cadillacs and Los Auténticos Decadentes
DESCRIPTION:Rising jazz vocalist and two-time Grammy Award-winner Samara Joy takes the stage with her powerful\, soulful sound.
URL:https://socalpulse.com/event/los-fabulosos-cadillacs-and-los-autenticos-decadentes/
LOCATION:The Hollywood Bowl\, 2301 N Highland Ave\, Los Angeles\, 90068\, United States
CATEGORIES:Los Angeles
ATTACH;FMTTYPE=image/jpeg:https://socalpulse.com/wp-content/uploads/2023/09/c3.jpg
END:VEVENT
BEGIN:VEVENT
DTSTART;TZID=America/Los_Angeles:20230923T193000
DTEND;TZID=America/Los_Angeles:20230923T213000
DTSTAMP:20260421T114608
CREATED:20230920T184210Z
LAST-MODIFIED:20230920T184210Z
UID:193693-1695497400-1695504600@socalpulse.com
SUMMARY:Stanley Clarke & Hiromi
DESCRIPTION:Two Grammy winning jazz greats—bassist\, recording artist and Artist in Residence\, Stanley Clarke and jazz pianist Hiromi—join forces for a not-to-be-missed night of music that will have audiences on their feet dancing.
URL:https://socalpulse.com/event/stanley-clarke-hiromi/
LOCATION:broadstage\, 1310 11TH STREET\, Santa Monica\, CA\, 90401\, United States
CATEGORIES:Los Angeles
ATTACH;FMTTYPE=image/jpeg:https://socalpulse.com/wp-content/uploads/2023/09/a9.jpg
END:VEVENT
BEGIN:VEVENT
DTSTART;TZID=America/Los_Angeles:20230923T200000
DTEND;TZID=America/Los_Angeles:20230923T200000
DTSTAMP:20260421T114608
CREATED:20230920T182747Z
LAST-MODIFIED:20230920T182747Z
UID:193684-1695499200-1695499200@socalpulse.com
SUMMARY:Selena
DESCRIPTION:In honor of Hispanic Heritage Month\, the Ford presents Selena\, the film about a young singer’s rise to stardom. The evening with feature Selena-inspired musical performances.
URL:https://socalpulse.com/event/selena/
LOCATION:The Ford\, 2580 Cahuenga Blvd E\, Los Angeles\, 90068\, United States
CATEGORIES:Los Angeles
ATTACH;FMTTYPE=image/jpeg:https://socalpulse.com/wp-content/uploads/2023/09/a4.jpg
END:VEVENT
BEGIN:VEVENT
DTSTART;TZID=America/Los_Angeles:20230923T200000
DTEND;TZID=America/Los_Angeles:20230923T220000
DTSTAMP:20260421T114608
CREATED:20230920T183107Z
LAST-MODIFIED:20230920T183123Z
UID:193687-1695499200-1695506400@socalpulse.com
SUMMARY:John Legend
DESCRIPTION:A full orchestra and gospel choir join Lohn Legend for one-night-only at the Hollywood Bowl. The evening will feature reimaginings of his greatest hits as well as selections from his album LEGEND recently released via Republic Records.
URL:https://socalpulse.com/event/john-legend/
LOCATION:The Hollywood Bowl\, 2301 N Highland Ave\, Los Angeles\, 90068\, United States
CATEGORIES:Los Angeles
ATTACH;FMTTYPE=image/jpeg:https://socalpulse.com/wp-content/uploads/2023/09/a6.jpg
END:VEVENT
BEGIN:VEVENT
DTSTART;TZID=America/Los_Angeles:20230923T200000
DTEND;TZID=America/Los_Angeles:20230923T220000
DTSTAMP:20260421T114608
CREATED:20230920T185422Z
LAST-MODIFIED:20230920T185422Z
UID:193699-1695499200-1695506400@socalpulse.com
SUMMARY:J.Ivy and Ensemble
DESCRIPTION:Grammy Award-winning poet\, spoken work artist and songwriter\, J. Ivy is joined on the Nimoy stage by singer Tarrey Torrae and other local musicians as they explore the healing power of words.
URL:https://socalpulse.com/event/j-ivy-and-ensemble/
LOCATION:The Nimoy\, 1262 Westwood Blvd\, Los Angeles\, 90024\, United States
CATEGORIES:Los Angeles
ATTACH;FMTTYPE=image/jpeg:https://socalpulse.com/wp-content/uploads/2023/09/c1.jpg
END:VEVENT
BEGIN:VEVENT
DTSTART;VALUE=DATE:20230927
DTEND;VALUE=DATE:20230929
DTSTAMP:20260421T114608
CREATED:20230920T195554Z
LAST-MODIFIED:20230920T195554Z
UID:193720-1695772800-1695945599@socalpulse.com
SUMMARY:Japanese Breakfast
DESCRIPTION:Michelle Zauner’s latest album\, the Grammy-nominated Jubilee\, tackles the feelings of joy. Her band makes their Walt Disney Concert Hall debut with a set of songs that are grounded in Zauner’s early day in the punk underground.
URL:https://socalpulse.com/event/japanese-breakfast/
LOCATION:Walt Disney Concert Hall\, 111 S Grand Ave\, Los Angeles\, CA\, 90012\, United States
CATEGORIES:Los Angeles
ATTACH;FMTTYPE=image/jpeg:https://socalpulse.com/wp-content/uploads/2023/09/x1.jpg
END:VEVENT
BEGIN:VEVENT
DTSTART;TZID=America/Los_Angeles:20230928T193000
DTEND;TZID=America/Los_Angeles:20230928T213000
DTSTAMP:20260421T114608
CREATED:20230920T200132Z
LAST-MODIFIED:20230920T200132Z
UID:193723-1695929400-1695936600@socalpulse.com
SUMMARY:Off the Grid
DESCRIPTION:Get away from the daily grind and go “Off the Grid” with Theatricum’s resident improv comedy troupe for an evening of laughs.
URL:https://socalpulse.com/event/off-the-grid/
LOCATION:Theatricum\, 1419 N Topanga Canyon Blvd\, Topanga\, CA\, 90290\, United States
CATEGORIES:Los Angeles
ATTACH;FMTTYPE=image/jpeg:https://socalpulse.com/wp-content/uploads/2023/09/g2-1.jpg
END:VEVENT
BEGIN:VEVENT
DTSTART;TZID=America/Los_Angeles:20230928T200000
DTEND;TZID=America/Los_Angeles:20230928T220000
DTSTAMP:20260421T114608
CREATED:20230920T200550Z
LAST-MODIFIED:20230920T200550Z
UID:193726-1695931200-1695938400@socalpulse.com
SUMMARY:Hermanos Gutiérrez
DESCRIPTION:Brothers\, Alejandro and Estevan Gutiérrez play guitar  in tandem with an intricate and unspoken intuition. Witness the depths of their connection as they perform from their latest album\, El Bueno Y El Malo.
URL:https://socalpulse.com/event/hermanos-gutierrez/
LOCATION:The Ford\, 2580 Cahuenga Blvd E\, Los Angeles\, 90068\, United States
CATEGORIES:Los Angeles
ATTACH;FMTTYPE=image/jpeg:https://socalpulse.com/wp-content/uploads/2023/09/as.jpg
END:VEVENT
END:VCALENDAR