BEGIN:VCALENDAR
VERSION:2.0
PRODID:-//SoCalPulse - ECPv6.15.20//NONSGML v1.0//EN
CALSCALE:GREGORIAN
METHOD:PUBLISH
X-ORIGINAL-URL:https://socalpulse.com
X-WR-CALDESC:Events for SoCalPulse
REFRESH-INTERVAL;VALUE=DURATION:PT1H
X-Robots-Tag:noindex
X-PUBLISHED-TTL:PT1H
BEGIN:VTIMEZONE
TZID:America/Los_Angeles
BEGIN:DAYLIGHT
TZOFFSETFROM:-0800
TZOFFSETTO:-0700
TZNAME:PDT
DTSTART:20250309T100000
END:DAYLIGHT
BEGIN:STANDARD
TZOFFSETFROM:-0700
TZOFFSETTO:-0800
TZNAME:PST
DTSTART:20251102T090000
END:STANDARD
BEGIN:DAYLIGHT
TZOFFSETFROM:-0800
TZOFFSETTO:-0700
TZNAME:PDT
DTSTART:20260308T100000
END:DAYLIGHT
BEGIN:STANDARD
TZOFFSETFROM:-0700
TZOFFSETTO:-0800
TZNAME:PST
DTSTART:20261101T090000
END:STANDARD
BEGIN:DAYLIGHT
TZOFFSETFROM:-0800
TZOFFSETTO:-0700
TZNAME:PDT
DTSTART:20270314T100000
END:DAYLIGHT
BEGIN:STANDARD
TZOFFSETFROM:-0700
TZOFFSETTO:-0800
TZNAME:PST
DTSTART:20271107T090000
END:STANDARD
END:VTIMEZONE
BEGIN:VEVENT
DTSTART;TZID=America/Los_Angeles:20260516T193000
DTEND;TZID=America/Los_Angeles:20260516T213000
DTSTAMP:20260422T151451
CREATED:20260421T170627Z
LAST-MODIFIED:20260421T170627Z
UID:214779-1778959800-1778967000@socalpulse.com
SUMMARY:Bang on a Can All-Stars: Ryuichi Sakamoto
DESCRIPTION:In this powerful live tribute to composer Ryuichi Sakamoto\, the Bang on a Can All-Stars breathe new life into the iconic 1996 album. With arrangements by Ken Thomson\, the ensemble reimagines selections from some of his most unforgettable works\, including The Sheltering Sky\, Wuthering Height\, and more.
URL:https://socalpulse.com/event/bang-on-a-can-all-stars-ryuichi-sakamoto/
LOCATION:The Wallis\, 9390 N. Santa Monica Blvd\, Beverly Hills\, CA\, 92010\, United States
CATEGORIES:Los Angeles
ATTACH;FMTTYPE=image/jpeg:https://socalpulse.com/wp-content/uploads/2026/04/14.jpg
END:VEVENT
BEGIN:VEVENT
DTSTART;TZID=America/Los_Angeles:20260517T160000
DTEND;TZID=America/Los_Angeles:20260517T180000
DTSTAMP:20260422T151451
CREATED:20260421T171021Z
LAST-MODIFIED:20260421T171021Z
UID:214783-1779033600-1779040800@socalpulse.com
SUMMARY:Martín + Marwood + Mozart
DESCRIPTION:Music Director Jaime Martín guides LACO through Mozart’s vibrant “Haffner” symphony and Tchaikovsky’s “Mozartiana” suite—a set of loving transfigurations that recast Mozart’s style through the lush textures of the late 19th century.
URL:https://socalpulse.com/event/martin-marwood-mozart/
LOCATION:The Wallis\, 9390 N. Santa Monica Blvd\, Beverly Hills\, CA\, 92010\, United States
CATEGORIES:Los Angeles
ATTACH;FMTTYPE=image/jpeg:https://socalpulse.com/wp-content/uploads/2026/04/15.jpg
END:VEVENT
BEGIN:VEVENT
DTSTART;VALUE=DATE:20260519
DTEND;VALUE=DATE:20260523
DTSTAMP:20260422T151451
CREATED:20260421T171237Z
LAST-MODIFIED:20260421T171237Z
UID:214786-1779148800-1779494399@socalpulse.com
SUMMARY:Die Walküre Act I
DESCRIPTION:Following the LA Phil’s acclaimed production ofDas Rheingold\, Gustavo Dudamel\, famed architect Frank Gehry\, and director Alberto Arvelo take on the second installment in Wagner’s grand Ring Cycle:Die Walküre. Envisioned as a three-part saga with each act standing on its own\, this production boasts a cast of international opera superstars who bring to life a grand tale of love\, fate\, duty\, and self-determination.
URL:https://socalpulse.com/event/die-walkure-act-i/
LOCATION:Walt Disney Concert Hall\, 111 S Grand Ave\, Los Angeles\, CA\, 90012\, United States
CATEGORIES:Los Angeles
ATTACH;FMTTYPE=image/jpeg:https://socalpulse.com/wp-content/uploads/2026/04/Dudamel.jpg
END:VEVENT
BEGIN:VEVENT
DTSTART;VALUE=DATE:20260520
DTEND;VALUE=DATE:20260524
DTSTAMP:20260422T151451
CREATED:20260421T171348Z
LAST-MODIFIED:20260421T171348Z
UID:214789-1779235200-1779580799@socalpulse.com
SUMMARY:Die Walküre Act II
DESCRIPTION:Following the LA Phil’s acclaimed production ofDas Rheingold\, Gustavo Dudamel\, famed architect Frank Gehry\, and director Alberto Arvelo take on the second installment in Wagner’s grand Ring Cycle:Die Walküre. Envisioned as a three-part saga with each act standing on its own\, this production boasts a cast of international opera superstars who bring to life a grand tale of love\, fate\, duty\, and self-determination.
URL:https://socalpulse.com/event/die-walkure-act-ii/
LOCATION:Walt Disney Concert Hall\, 111 S Grand Ave\, Los Angeles\, CA\, 90012\, United States
CATEGORIES:Los Angeles
ATTACH;FMTTYPE=image/jpeg:https://socalpulse.com/wp-content/uploads/2026/04/Dudamel.jpg
END:VEVENT
BEGIN:VEVENT
DTSTART;VALUE=DATE:20260521
DTEND;VALUE=DATE:20260624
DTSTAMP:20260422T151451
CREATED:20260421T171722Z
LAST-MODIFIED:20260421T171722Z
UID:214794-1779321600-1782259199@socalpulse.com
SUMMARY:Die Walküre Act III
DESCRIPTION:Following the LA Phil’s acclaimed production of Das Rheingold\, Gustavo Dudamel\, famed architect Frank Gehry\, and director Alberto Arvelo take on the second installment in Wagner’s grand Ring Cycle: Die Walküre. Envisioned as a three-part saga with each act standing on its own\, this production boasts a cast of international opera superstars who bring to life a grand tale of love\, fate\, duty\, and self-determination.
URL:https://socalpulse.com/event/die-walkure-act-iii/
LOCATION:Walt Disney Concert Hall\, 111 S Grand Ave\, Los Angeles\, CA\, 90012\, United States
CATEGORIES:Los Angeles
ATTACH;FMTTYPE=image/jpeg:https://socalpulse.com/wp-content/uploads/2026/04/Dudamel.jpg
END:VEVENT
BEGIN:VEVENT
DTSTART;VALUE=DATE:20260530
DTEND;VALUE=DATE:20260701
DTSTAMP:20260422T151451
CREATED:20260421T171557Z
LAST-MODIFIED:20260421T171557Z
UID:214791-1780099200-1782863999@socalpulse.com
SUMMARY:Primary Trust
DESCRIPTION:Kenneth\, a bookstore worker in a small town\, spends his evenings drinking at the local bar. When he is laid off\, Kenneth faces challenges he has long avoided. It is a story of new beginnings\, old friends\, and finding the courage to see the world for the first time.
URL:https://socalpulse.com/event/primary-trust-2/
LOCATION:Mark Taper Forum\, 135 N. Grand Avenue\, Los Angeles\, 90012\, United States
CATEGORIES:Los Angeles
ATTACH;FMTTYPE=image/jpeg:https://socalpulse.com/wp-content/uploads/2026/04/16.jpg
END:VEVENT
END:VCALENDAR