BEGIN:VCALENDAR
VERSION:2.0
PRODID:-//SoCalPulse - ECPv6.15.20//NONSGML v1.0//EN
CALSCALE:GREGORIAN
METHOD:PUBLISH
X-ORIGINAL-URL:https://socalpulse.com
X-WR-CALDESC:Events for SoCalPulse
REFRESH-INTERVAL;VALUE=DURATION:PT1H
X-Robots-Tag:noindex
X-PUBLISHED-TTL:PT1H
BEGIN:VTIMEZONE
TZID:America/Los_Angeles
BEGIN:DAYLIGHT
TZOFFSETFROM:-0800
TZOFFSETTO:-0700
TZNAME:PDT
DTSTART:20250309T100000
END:DAYLIGHT
BEGIN:STANDARD
TZOFFSETFROM:-0700
TZOFFSETTO:-0800
TZNAME:PST
DTSTART:20251102T090000
END:STANDARD
BEGIN:DAYLIGHT
TZOFFSETFROM:-0800
TZOFFSETTO:-0700
TZNAME:PDT
DTSTART:20260308T100000
END:DAYLIGHT
BEGIN:STANDARD
TZOFFSETFROM:-0700
TZOFFSETTO:-0800
TZNAME:PST
DTSTART:20261101T090000
END:STANDARD
BEGIN:DAYLIGHT
TZOFFSETFROM:-0800
TZOFFSETTO:-0700
TZNAME:PDT
DTSTART:20270314T100000
END:DAYLIGHT
BEGIN:STANDARD
TZOFFSETFROM:-0700
TZOFFSETTO:-0800
TZNAME:PST
DTSTART:20271107T090000
END:STANDARD
END:VTIMEZONE
BEGIN:VEVENT
DTSTART;TZID=America/Los_Angeles:20260503T193000
DTEND;TZID=America/Los_Angeles:20260503T213000
DTSTAMP:20260419T164051
CREATED:20260417T172157Z
LAST-MODIFIED:20260417T172157Z
UID:214701-1777836600-1777843800@socalpulse.com
SUMMARY:Anna Lapwood\, Organ Recital
DESCRIPTION:Internet sensation Anna Lapwood\, returns to Walt Disney Concert Hall to perform a selection of music that unleashes the power of 6\,134 pipes. The program will include familiar music from films like The Hunchback of Notre Dame\, The Davini Code and Star Wars Episode 1—The Phantom Menace. \n 
URL:https://socalpulse.com/event/anna-lapwood-organ-recital/
LOCATION:Walt Disney Concert Hall\, 111 S Grand Ave\, Los Angeles\, CA\, 90012\, United States
CATEGORIES:Los Angeles
ATTACH;FMTTYPE=image/jpeg:https://socalpulse.com/wp-content/uploads/2026/04/4.jpg
END:VEVENT
BEGIN:VEVENT
DTSTART;VALUE=DATE:20260504
DTEND;VALUE=DATE:20260505
DTSTAMP:20260419T164051
CREATED:20260417T172616Z
LAST-MODIFIED:20260417T172616Z
UID:214710-1777852800-1777939199@socalpulse.com
SUMMARY:Pat Metheny
DESCRIPTION:20-time Grammy winner Pat Metheny returns to Walt Disney Concert Hall for the first time in 15 years.  His music spans jazz\, new age\, rock and fusion—a versatile artist who has won a Grammy in 10 different categories.
URL:https://socalpulse.com/event/pat-metheny/
LOCATION:Walt Disney Concert Hall\, 111 S Grand Ave\, Los Angeles\, CA\, 90012\, United States
CATEGORIES:Los Angeles
ATTACH;FMTTYPE=image/jpeg:https://socalpulse.com/wp-content/uploads/2026/04/Pat-metheny.jpg
END:VEVENT
BEGIN:VEVENT
DTSTART;VALUE=DATE:20260505
DTEND;VALUE=DATE:20260506
DTSTAMP:20260419T164051
CREATED:20260417T172932Z
LAST-MODIFIED:20260417T172932Z
UID:214713-1777939200-1778025599@socalpulse.com
SUMMARY:Smith\, Cabezas & Childs
DESCRIPTION:Los Angeles-based composer and jazz pianist Billy Childs builds upon Gabriella Smith’s natural themes when his trio joins her for John Cage’s Child of Tree\,  which asks its performers to use plant-based instruments including amplified cactus.
URL:https://socalpulse.com/event/smith-cabezas-childs/
LOCATION:Walt Disney Concert Hall\, 111 S Grand Ave\, Los Angeles\, CA\, 90012\, United States
CATEGORIES:Los Angeles
ATTACH;FMTTYPE=image/jpeg:https://socalpulse.com/wp-content/uploads/2026/04/lap.jpg
END:VEVENT
BEGIN:VEVENT
DTSTART;TZID=America/Los_Angeles:20260506T200000
DTEND;TZID=America/Los_Angeles:20260506T220000
DTSTAMP:20260419T164051
CREATED:20260417T173334Z
LAST-MODIFIED:20260417T173334Z
UID:214716-1778097600-1778104800@socalpulse.com
SUMMARY:Waxahatchee & MJ Lenderman
DESCRIPTION:Waxahatchee\, along with frequent collaborator and indie-rock stalwart MJ Lenderman is joined by special guest Brennan Wedle for an evening of up-close performances\, solo and together.
URL:https://socalpulse.com/event/waxahatchee-mj-lenderman/
LOCATION:Walt Disney Concert Hall\, 111 S Grand Ave\, Los Angeles\, CA\, 90012\, United States
CATEGORIES:Los Angeles
ATTACH;FMTTYPE=image/jpeg:https://socalpulse.com/wp-content/uploads/2026/04/5.jpg
END:VEVENT
BEGIN:VEVENT
DTSTART;VALUE=DATE:20260507
DTEND;VALUE=DATE:20260510
DTSTAMP:20260419T164051
CREATED:20260417T173710Z
LAST-MODIFIED:20260417T173710Z
UID:214719-1778112000-1778371199@socalpulse.com
SUMMARY:Mozart\, Say & Tchaikovsky
DESCRIPTION:A centennial tribute to Robert Rauschenberg unfolds through Dancing with Bob: Rauschenberg\, Brown & Cunningham Onstage\, spotlighting his boundary-pushing collaborations with choreographers Trisha Brown and Merce Cunningham. The program brings together the Trisha Brown Dance Company and the Merce Cunningham Trust\, featuring Brown’s set and reset—a hypnotic\, fluid work set to a bewitching electronic score by Laurie Anderson—alongside Cunningham’s rarely staged travelogue\, a playful and absurd 1977 piece created with John Cage and Rauschenberg. Together\, the performance captures a moment when dance\, sound\, and visual art collided to reshape contemporary performance.
URL:https://socalpulse.com/event/mozart-say-tchaikovsky/
LOCATION:The Wallis\, 9390 N. Santa Monica Blvd\, Beverly Hills\, CA\, 92010\, United States
CATEGORIES:Los Angeles
ATTACH;FMTTYPE=image/jpeg:https://socalpulse.com/wp-content/uploads/2026/04/wallis.jpg
END:VEVENT
BEGIN:VEVENT
DTSTART;VALUE=DATE:20260508
DTEND;VALUE=DATE:20260511
DTSTAMP:20260419T164051
CREATED:20260417T174014Z
LAST-MODIFIED:20260417T174014Z
UID:214722-1778198400-1778457599@socalpulse.com
SUMMARY:Rachmaninoff & Szymanowski
DESCRIPTION:Swiss conductor Lorenzo Viotti makes his LA Phil debut with violinist Lisa Batiashvili for an impassioned program of late-Romantic gems by Szymanowski and Rachmaninoff.
URL:https://socalpulse.com/event/rachmaninoff-szymanowski/
LOCATION:Walt Disney Concert Hall\, 111 S Grand Ave\, Los Angeles\, CA\, 90012\, United States
CATEGORIES:Los Angeles
ATTACH;FMTTYPE=image/jpeg:https://socalpulse.com/wp-content/uploads/2026/04/violin.jpg
END:VEVENT
END:VCALENDAR