BEGIN:VCALENDAR
VERSION:2.0
PRODID:-//SoCalPulse - ECPv6.15.20//NONSGML v1.0//EN
CALSCALE:GREGORIAN
METHOD:PUBLISH
X-WR-CALNAME:SoCalPulse
X-ORIGINAL-URL:https://socalpulse.com
X-WR-CALDESC:Events for SoCalPulse
REFRESH-INTERVAL;VALUE=DURATION:PT1H
X-Robots-Tag:noindex
X-PUBLISHED-TTL:PT1H
BEGIN:VTIMEZONE
TZID:America/Los_Angeles
BEGIN:DAYLIGHT
TZOFFSETFROM:-0800
TZOFFSETTO:-0700
TZNAME:PDT
DTSTART:20240310T100000
END:DAYLIGHT
BEGIN:STANDARD
TZOFFSETFROM:-0700
TZOFFSETTO:-0800
TZNAME:PST
DTSTART:20241103T090000
END:STANDARD
BEGIN:DAYLIGHT
TZOFFSETFROM:-0800
TZOFFSETTO:-0700
TZNAME:PDT
DTSTART:20250309T100000
END:DAYLIGHT
BEGIN:STANDARD
TZOFFSETFROM:-0700
TZOFFSETTO:-0800
TZNAME:PST
DTSTART:20251102T090000
END:STANDARD
BEGIN:DAYLIGHT
TZOFFSETFROM:-0800
TZOFFSETTO:-0700
TZNAME:PDT
DTSTART:20260308T100000
END:DAYLIGHT
BEGIN:STANDARD
TZOFFSETFROM:-0700
TZOFFSETTO:-0800
TZNAME:PST
DTSTART:20261101T090000
END:STANDARD
END:VTIMEZONE
BEGIN:VEVENT
DTSTART;VALUE=DATE:20251001
DTEND;VALUE=DATE:20251110
DTSTAMP:20260425T092851
CREATED:20250912T172343Z
LAST-MODIFIED:20250912T172343Z
UID:210237-1759276800-1762732799@socalpulse.com
SUMMARY:Jaja’s African Hair Braiding
DESCRIPTION:Step into Jaja’s African Hair Braiding in Harlem\, where West African immigrant braiders work their magic on locals’ locks. Beneath the surface of this riotous comedy lies a current of uncertainty\, pushing this close-knit community to confront challenges of being outsiders in their own neighborhood.
URL:https://socalpulse.com/event/jajas-african-hair-braiding/
LOCATION:Mark Taper Forum\, 135 N. Grand Avenue\, Los Angeles\, 90012\, United States
CATEGORIES:Los Angeles
ATTACH;FMTTYPE=image/jpeg:https://socalpulse.com/wp-content/uploads/2025/09/1.jpg
END:VEVENT
BEGIN:VEVENT
DTSTART;TZID=America/Los_Angeles:20251004T000000
DTEND;TZID=America/Los_Angeles:20251201T220000
DTSTAMP:20260425T092851
CREATED:20250905T032513Z
LAST-MODIFIED:20260203T224937Z
UID:210127-1759536000-1764626400@socalpulse.com
SUMMARY:Featured: Martha Graham Dance Company's 100th Anniversary
DESCRIPTION:The Martha Graham Dance Company’s centennial continues with three monumental pieces: Graham’s 1947 Night Journey\, a rarely seen work based on Oedipus; We the People\, with a folk score by Rhiannon Giddens\, a 2024 creation inspired by Graham’s longstanding sociopolitical critique; and a world premiere entitled En Masse that extends The Soraya’s commitment to Graham’s collaborations with composers. This new commission\, choreographed by Hope Boykin\, is a first-ever pairing of Graham and Leonard Bernstein. Their posthumous partnership\, inspired by a musical excerpt discovered in their correspondence\, headlines Graham’s worldwide centennial. Wild Up performs Christopher Rountree’s new arrangement of Bernstein\, as well as William Schuman’s score for Night Journey.
URL:https://socalpulse.com/event/test-martha-graham-dance-company-100th-anniversary/
LOCATION:The Soraya\, 18111 Nordhoff Street\, Northridge\, CA\, 91330\, United States
CATEGORIES:Los Angeles
ATTACH;FMTTYPE=image/jpeg:https://socalpulse.com/wp-content/uploads/2025/09/Test_Ad-1.jpg
END:VEVENT
BEGIN:VEVENT
DTSTART;VALUE=DATE:20251012
DTEND;VALUE=DATE:20251110
DTSTAMP:20260425T092851
CREATED:20250915T180207Z
LAST-MODIFIED:20250915T180207Z
UID:210289-1760227200-1762732799@socalpulse.com
SUMMARY:Joe Turner’s Come and Gone
DESCRIPTION:A powerful and poetic play set in a Pittsburgh boarding house in 1911 that follows a group of men and women searching for lost family\, identity\, and purpose in the aftermath of slavery and during the Great Migration. With rich characters and lyrical dialogue\, the play explores themes of freedom\, self-discovery\, and the enduring power of community and spiritual healing.
URL:https://socalpulse.com/event/joe-turners-come-and-gone/
LOCATION:A Noise Within\, 3352 E. Foothill Blvd.\, Pasadena\, CA\, 91107\, United States
CATEGORIES:Los Angeles
ATTACH;FMTTYPE=image/jpeg:https://socalpulse.com/wp-content/uploads/2025/09/16.jpg
END:VEVENT
BEGIN:VEVENT
DTSTART;VALUE=DATE:20251031
DTEND;VALUE=DATE:20251124
DTSTAMP:20260425T092851
CREATED:20250916T014956Z
LAST-MODIFIED:20250916T014956Z
UID:210350-1761868800-1763942399@socalpulse.com
SUMMARY:Peter Pan Goes Wrong
DESCRIPTION:The team behind the hilarious hit\, The Play That Goes Wrong\, bring their trademark comic mayhem to the J. M. Barrie classic Peter Pan. The much-loved members of The Cornley Drama Society once again battle against technical hitches\, flying mishaps and cast disputes on their way to Neverland with hilarious and (of course) disastrous results.
URL:https://socalpulse.com/event/peter-pan-goes-wrong-2/
LOCATION:La Mirada Theatre\, 14900 La Mirada Blvd\, La Mirada\, 90638\, United States
CATEGORIES:Los Angeles
ATTACH;FMTTYPE=image/jpeg:https://socalpulse.com/wp-content/uploads/2025/09/peterpan.jpg
END:VEVENT
END:VCALENDAR