BEGIN:VCALENDAR
VERSION:2.0
PRODID:-//SoCalPulse - ECPv6.15.20//NONSGML v1.0//EN
CALSCALE:GREGORIAN
METHOD:PUBLISH
X-ORIGINAL-URL:https://socalpulse.com
X-WR-CALDESC:Events for SoCalPulse
REFRESH-INTERVAL;VALUE=DURATION:PT1H
X-Robots-Tag:noindex
X-PUBLISHED-TTL:PT1H
BEGIN:VTIMEZONE
TZID:America/Los_Angeles
BEGIN:DAYLIGHT
TZOFFSETFROM:-0800
TZOFFSETTO:-0700
TZNAME:PDT
DTSTART:20240310T100000
END:DAYLIGHT
BEGIN:STANDARD
TZOFFSETFROM:-0700
TZOFFSETTO:-0800
TZNAME:PST
DTSTART:20241103T090000
END:STANDARD
BEGIN:DAYLIGHT
TZOFFSETFROM:-0800
TZOFFSETTO:-0700
TZNAME:PDT
DTSTART:20250309T100000
END:DAYLIGHT
BEGIN:STANDARD
TZOFFSETFROM:-0700
TZOFFSETTO:-0800
TZNAME:PST
DTSTART:20251102T090000
END:STANDARD
BEGIN:DAYLIGHT
TZOFFSETFROM:-0800
TZOFFSETTO:-0700
TZNAME:PDT
DTSTART:20260308T100000
END:DAYLIGHT
BEGIN:STANDARD
TZOFFSETFROM:-0700
TZOFFSETTO:-0800
TZNAME:PST
DTSTART:20261101T090000
END:STANDARD
END:VTIMEZONE
BEGIN:VEVENT
DTSTART;VALUE=DATE:20250504
DTEND;VALUE=DATE:20250602
DTSTAMP:20260422T230202
CREATED:20250506T160528Z
LAST-MODIFIED:20250506T160528Z
UID:207698-1746316800-1748822399@socalpulse.com
SUMMARY:A Man of No Importance
DESCRIPTION:An amateur theater group in Dublin is determined to stage a version of Oscar Wilde’s Salome at their leader’s church despite the objections of church authorities in this intimate musical\, a queer coming-out story inspired by the 1994 film starring Albert Finney.
URL:https://socalpulse.com/event/a-man-of-no-importance/
LOCATION:A Noise Within\, 3352 E. Foothill Blvd.\, Pasadena\, CA\, 91107\, United States
CATEGORIES:Los Angeles
ATTACH;FMTTYPE=image/jpeg:https://socalpulse.com/wp-content/uploads/2025/05/A-Man-of-No-Importance.jpg
END:VEVENT
BEGIN:VEVENT
DTSTART;VALUE=DATE:20250507
DTEND;VALUE=DATE:20250602
DTSTAMP:20260422T230202
CREATED:20250506T160846Z
LAST-MODIFIED:20250506T160846Z
UID:207701-1746576000-1748822399@socalpulse.com
SUMMARY:Life of Pi
DESCRIPTION:Direct from Broadway\, Life of Pi  is based on a novel that sold more than 15 million copies—a tale about a sixteen-year-old boy who survives on a lifeboat with his four furry companions.
URL:https://socalpulse.com/event/life-of-pi/
LOCATION:Ahmanson Theatre\, 135 N Grand Ave\, Los Angeles\, CA\, 90012\, United States
CATEGORIES:Los Angeles
ATTACH;FMTTYPE=image/jpeg:https://socalpulse.com/wp-content/uploads/2025/05/lifeofpi.jpg
END:VEVENT
BEGIN:VEVENT
DTSTART;VALUE=DATE:20250512
DTEND;VALUE=DATE:20250610
DTSTAMP:20260422T230202
CREATED:20250506T165129Z
LAST-MODIFIED:20250506T165129Z
UID:207729-1747008000-1749513599@socalpulse.com
SUMMARY:Misalliance
DESCRIPTION:George Bernard Shaw’s high-flying comedy about eight marriage proposals and a plane crash that take place all in one afternoon. What should have been a celebration of upcoming nuptials into aristocracy becomes wildly unexpected upon the unexpected arrival of uninvited guests.
URL:https://socalpulse.com/event/misalliance/
LOCATION:A Noise Within\, 3352 E. Foothill Blvd.\, Pasadena\, CA\, 91107\, United States
CATEGORIES:Los Angeles
ATTACH;FMTTYPE=image/jpeg:https://socalpulse.com/wp-content/uploads/2025/05/Misalliance.jpg
END:VEVENT
BEGIN:VEVENT
DTSTART;VALUE=DATE:20250514
DTEND;VALUE=DATE:20250609
DTSTAMP:20260422T230202
CREATED:20250506T165743Z
LAST-MODIFIED:20250506T165743Z
UID:207738-1747180800-1749427199@socalpulse.com
SUMMARY:A Doll’s House Part 2
DESCRIPTION:Bold\, satisfying\, and packed with razor-sharp twists\, Lucas Hnath’s Tony-nominated play dives into the messy reality of what it means to be a woman living on your own terms.
URL:https://socalpulse.com/event/a-dolls-house-part-2/
LOCATION:Pasadena Playhouse\, 39 S. El Molino Avenue\, Pasadena\, CA\, 91101\, United States
CATEGORIES:Los Angeles
ATTACH;FMTTYPE=image/jpeg:https://socalpulse.com/wp-content/uploads/2025/05/adoollhouse.jpg
END:VEVENT
BEGIN:VEVENT
DTSTART;VALUE=DATE:20250529
DTEND;VALUE=DATE:20250602
DTSTAMP:20260422T230202
CREATED:20250509T173148Z
LAST-MODIFIED:20250509T173148Z
UID:207860-1748476800-1748822399@socalpulse.com
SUMMARY:Tchaikovsky & Pereira
DESCRIPTION:Percussionist-turned-conductor Gustavo Gimeno leads the symphony after guiding the orchestra through the suspenseful brass-filled suite of love and obsession from Alfred Hitchcock’s Vertigo before a world premiere spotlighting two of the LA Phil’s own when Principal Percussionist Matthew Howard performs the new concerto by Principal Timpanist and composer Joseph Pereira.
URL:https://socalpulse.com/event/tchaikovsky-pereira/
LOCATION:Walt Disney Concert Hall\, 111 S Grand Ave\, Los Angeles\, CA\, 90012\, United States
CATEGORIES:Los Angeles
ATTACH;FMTTYPE=image/png:https://socalpulse.com/wp-content/uploads/2025/05/lapjil3.png
END:VEVENT
BEGIN:VEVENT
DTSTART;VALUE=DATE:20250529
DTEND;VALUE=DATE:20250727
DTSTAMP:20260422T230202
CREATED:20250509T172947Z
LAST-MODIFIED:20250509T172947Z
UID:207857-1748476800-1753574399@socalpulse.com
SUMMARY:Hamlet
DESCRIPTION:It’s been half a century since Hamlet was produced at the Taper. Tony Award® nominated visionary\, Robert O’Hara\, who directed the landmark box office hit Slave Play\, returns to stage one of the most famous tales ever told in a new\, Hitchcockian noir adaptation.
URL:https://socalpulse.com/event/hamlet/
LOCATION:Mark Taper Forum\, 135 N. Grand Avenue\, Los Angeles\, 90012\, United States
CATEGORIES:Los Angeles
ATTACH;FMTTYPE=image/png:https://socalpulse.com/wp-content/uploads/2025/05/hamlet.png
END:VEVENT
BEGIN:VEVENT
DTSTART;VALUE=DATE:20250531
DTEND;VALUE=DATE:20250622
DTSTAMP:20260422T230202
CREATED:20250509T174233Z
LAST-MODIFIED:20250509T174233Z
UID:207869-1748649600-1750550399@socalpulse.com
SUMMARY:Rigoletto
DESCRIPTION:When the decadent Duke of Mantua sets his sights on Rigoletto’s young daughter\, it’s enough to send the carefree court jester into a deadly rage. But revenge comes at a price. Verdi master James Conlon conducts one of the most heartbreaking operas of them all.
URL:https://socalpulse.com/event/rigoletto/
LOCATION:Dorothy Chandler Pavilion\, 135 N Grand Avenue\, Los Angeles\, CA\, 90012\, United States
CATEGORIES:Los Angeles
ATTACH;FMTTYPE=image/png:https://socalpulse.com/wp-content/uploads/2025/05/Rogoletto.png
END:VEVENT
BEGIN:VEVENT
DTSTART;VALUE=DATE:20250531
DTEND;VALUE=DATE:20250622
DTSTAMP:20260422T230202
CREATED:20250516T174041Z
LAST-MODIFIED:20250516T174041Z
UID:208011-1748649600-1750550399@socalpulse.com
SUMMARY:Rigoletto
DESCRIPTION:When the decadent Duke of Mantua sets his sights on Rigoletto’s young daughter\, it’s enough to send the carefree court jester into a deadly rage. But revenge comes at a price. Verdi master James Conlon conducts one of the most heartbreaking operas of them all.
URL:https://socalpulse.com/event/rigoletto-2/
LOCATION:Dorothy Chandler Pavilion\, 135 N Grand Avenue\, Los Angeles\, CA\, 90012\, United States
CATEGORIES:Los Angeles
ATTACH;FMTTYPE=image/png:https://socalpulse.com/wp-content/uploads/2025/05/Rigolotto.png
END:VEVENT
BEGIN:VEVENT
DTSTART;TZID=America/Los_Angeles:20250601T190000
DTEND;TZID=America/Los_Angeles:20250601T210000
DTSTAMP:20260422T230202
CREATED:20250516T175029Z
LAST-MODIFIED:20250516T175029Z
UID:208014-1748804400-1748811600@socalpulse.com
SUMMARY:New Renaissance
DESCRIPTION:The Los Angeles Master Chorale’s 60th Anniversary season concludes with a spectacular mash-up of music from the English Tudor period and the new choral Renaissance happening right here in L.A. The second part of the program points toward the future with works by several influential L.A. based composers who are particularly close to the Chorale\, including Matthew Brown\, Eric Whitacre\, Dale Trumbore\, Reena Esmail\, Germaine Franco\, Michael Abels and Darita Seth.
URL:https://socalpulse.com/event/new-renaissance/
LOCATION:Walt Disney Concert Hall\, 111 S Grand Ave\, Los Angeles\, CA\, 90012\, United States
CATEGORIES:Los Angeles
ATTACH;FMTTYPE=image/png:https://socalpulse.com/wp-content/uploads/2025/05/New-Renaissance.png
END:VEVENT
END:VCALENDAR