BEGIN:VCALENDAR
VERSION:2.0
PRODID:-//SoCalPulse - ECPv6.15.20//NONSGML v1.0//EN
CALSCALE:GREGORIAN
METHOD:PUBLISH
X-WR-CALNAME:SoCalPulse
X-ORIGINAL-URL:https://socalpulse.com
X-WR-CALDESC:Events for SoCalPulse
REFRESH-INTERVAL;VALUE=DURATION:PT1H
X-Robots-Tag:noindex
X-PUBLISHED-TTL:PT1H
BEGIN:VTIMEZONE
TZID:America/Los_Angeles
BEGIN:DAYLIGHT
TZOFFSETFROM:-0800
TZOFFSETTO:-0700
TZNAME:PDT
DTSTART:20240310T100000
END:DAYLIGHT
BEGIN:STANDARD
TZOFFSETFROM:-0700
TZOFFSETTO:-0800
TZNAME:PST
DTSTART:20241103T090000
END:STANDARD
BEGIN:DAYLIGHT
TZOFFSETFROM:-0800
TZOFFSETTO:-0700
TZNAME:PDT
DTSTART:20250309T100000
END:DAYLIGHT
BEGIN:STANDARD
TZOFFSETFROM:-0700
TZOFFSETTO:-0800
TZNAME:PST
DTSTART:20251102T090000
END:STANDARD
BEGIN:DAYLIGHT
TZOFFSETFROM:-0800
TZOFFSETTO:-0700
TZNAME:PDT
DTSTART:20260308T100000
END:DAYLIGHT
BEGIN:STANDARD
TZOFFSETFROM:-0700
TZOFFSETTO:-0800
TZNAME:PST
DTSTART:20261101T090000
END:STANDARD
END:VTIMEZONE
BEGIN:VEVENT
DTSTART;VALUE=DATE:20250504
DTEND;VALUE=DATE:20250602
DTSTAMP:20260422T203511
CREATED:20250506T160528Z
LAST-MODIFIED:20250506T160528Z
UID:207698-1746316800-1748822399@socalpulse.com
SUMMARY:A Man of No Importance
DESCRIPTION:An amateur theater group in Dublin is determined to stage a version of Oscar Wilde’s Salome at their leader’s church despite the objections of church authorities in this intimate musical\, a queer coming-out story inspired by the 1994 film starring Albert Finney.
URL:https://socalpulse.com/event/a-man-of-no-importance/
LOCATION:A Noise Within\, 3352 E. Foothill Blvd.\, Pasadena\, CA\, 91107\, United States
CATEGORIES:Los Angeles
ATTACH;FMTTYPE=image/jpeg:https://socalpulse.com/wp-content/uploads/2025/05/A-Man-of-No-Importance.jpg
END:VEVENT
BEGIN:VEVENT
DTSTART;VALUE=DATE:20250507
DTEND;VALUE=DATE:20250602
DTSTAMP:20260422T203511
CREATED:20250506T160846Z
LAST-MODIFIED:20250506T160846Z
UID:207701-1746576000-1748822399@socalpulse.com
SUMMARY:Life of Pi
DESCRIPTION:Direct from Broadway\, Life of Pi  is based on a novel that sold more than 15 million copies—a tale about a sixteen-year-old boy who survives on a lifeboat with his four furry companions.
URL:https://socalpulse.com/event/life-of-pi/
LOCATION:Ahmanson Theatre\, 135 N Grand Ave\, Los Angeles\, CA\, 90012\, United States
CATEGORIES:Los Angeles
ATTACH;FMTTYPE=image/jpeg:https://socalpulse.com/wp-content/uploads/2025/05/lifeofpi.jpg
END:VEVENT
BEGIN:VEVENT
DTSTART;VALUE=DATE:20250508
DTEND;VALUE=DATE:20250512
DTSTAMP:20260422T203511
CREATED:20250506T161308Z
LAST-MODIFIED:20250506T161308Z
UID:207707-1746662400-1747007999@socalpulse.com
SUMMARY:Esa-Pekka Salonen Leads Debussy & Boulez
DESCRIPTION:Composer/conductor Esa-Pekka Salonen contrasts two iconic French composers\, Boulez and Debussy as he leads the LA Phil and the Fantasie with pianist Pierre-Laurent Aimard.
URL:https://socalpulse.com/event/esa-pekka-salonen-leads-debussy-boulez/
LOCATION:Walt Disney Concert Hall\, 111 S Grand Ave\, Los Angeles\, CA\, 90012\, United States
CATEGORIES:Los Angeles
ATTACH;FMTTYPE=image/jpeg:https://socalpulse.com/wp-content/uploads/2025/05/3.jpg
END:VEVENT
BEGIN:VEVENT
DTSTART;TZID=America/Los_Angeles:20250508T193000
DTEND;TZID=America/Los_Angeles:20250508T213000
DTSTAMP:20260422T203511
CREATED:20250506T161053Z
LAST-MODIFIED:20250506T161053Z
UID:207704-1746732600-1746739800@socalpulse.com
SUMMARY:Earth After Dark
DESCRIPTION:Babak Tafreshi\, photojournalist\, cinematographer and National Geographic Explorer spent his career documenting the unbelievable beauty of the night sky and working to connect people through the shared experience of simply looking up.
URL:https://socalpulse.com/event/earth-after-dark/
LOCATION:broadstage\, 1310 11TH STREET\, Santa Monica\, CA\, 90401\, United States
CATEGORIES:Los Angeles
ATTACH;FMTTYPE=image/jpeg:https://socalpulse.com/wp-content/uploads/2025/05/Earth.jpg
END:VEVENT
END:VCALENDAR