BEGIN:VCALENDAR
VERSION:2.0
PRODID:-//SoCalPulse - ECPv6.15.20//NONSGML v1.0//EN
CALSCALE:GREGORIAN
METHOD:PUBLISH
X-WR-CALNAME:SoCalPulse
X-ORIGINAL-URL:https://socalpulse.com
X-WR-CALDESC:Events for SoCalPulse
REFRESH-INTERVAL;VALUE=DURATION:PT1H
X-Robots-Tag:noindex
X-PUBLISHED-TTL:PT1H
BEGIN:VTIMEZONE
TZID:America/Los_Angeles
BEGIN:DAYLIGHT
TZOFFSETFROM:-0800
TZOFFSETTO:-0700
TZNAME:PDT
DTSTART:20240310T100000
END:DAYLIGHT
BEGIN:STANDARD
TZOFFSETFROM:-0700
TZOFFSETTO:-0800
TZNAME:PST
DTSTART:20241103T090000
END:STANDARD
BEGIN:DAYLIGHT
TZOFFSETFROM:-0800
TZOFFSETTO:-0700
TZNAME:PDT
DTSTART:20250309T100000
END:DAYLIGHT
BEGIN:STANDARD
TZOFFSETFROM:-0700
TZOFFSETTO:-0800
TZNAME:PST
DTSTART:20251102T090000
END:STANDARD
BEGIN:DAYLIGHT
TZOFFSETFROM:-0800
TZOFFSETTO:-0700
TZNAME:PDT
DTSTART:20260308T100000
END:DAYLIGHT
BEGIN:STANDARD
TZOFFSETFROM:-0700
TZOFFSETTO:-0800
TZNAME:PST
DTSTART:20261101T090000
END:STANDARD
END:VTIMEZONE
BEGIN:VEVENT
DTSTART;VALUE=DATE:20250323
DTEND;VALUE=DATE:20250421
DTSTAMP:20260422T141835
CREATED:20250325T165553Z
LAST-MODIFIED:20250325T165553Z
UID:206785-1742688000-1745193599@socalpulse.com
SUMMARY:Jane Eyre
DESCRIPTION:The orphaned Jane Eyre takes a position working as governess at Thornfield Hall for the brooding Edward Rochester. The strong-willed heroine falls in love with her mysterious employer\, but the discovery of a dark secret forces the young governess to make a heart-wrenching decision that changes their lives forever.
URL:https://socalpulse.com/event/jane-eyre/
LOCATION:A Noise Within\, 3352 E. Foothill Blvd.\, Pasadena\, CA\, 91107\, United States
CATEGORIES:Los Angeles
ATTACH;FMTTYPE=image/jpeg:https://socalpulse.com/wp-content/uploads/2025/03/jane.jpg
END:VEVENT
BEGIN:VEVENT
DTSTART;VALUE=DATE:20250402
DTEND;VALUE=DATE:20250407
DTSTAMP:20260422T141835
CREATED:20250328T174744Z
LAST-MODIFIED:20250328T174744Z
UID:206934-1743552000-1743983999@socalpulse.com
SUMMARY:Alvin Ailey American Dance Theater
DESCRIPTION:Returning to The Music Center’s Dorothy Chandler Pavilion as part of an exclusive Southern California multi-year residency\, Alvin Ailey American Dance Theater presents cutting-edge contemporary premieres and classics including Mr. Ailey’s signature work Revelations.
URL:https://socalpulse.com/event/alvin-ailey-american-dance-theater-2/
LOCATION:Dorothy Chandler Pavilion\, 135 N Grand Avenue\, Los Angeles\, CA\, 90012\, United States
CATEGORIES:Los Angeles
ATTACH;FMTTYPE=image/jpeg:https://socalpulse.com/wp-content/uploads/2025/03/alvin-Ailey.jpg
END:VEVENT
BEGIN:VEVENT
DTSTART;VALUE=DATE:20250402
DTEND;VALUE=DATE:20250505
DTSTAMP:20260422T141835
CREATED:20250328T174540Z
LAST-MODIFIED:20250328T174540Z
UID:206931-1743552000-1746403199@socalpulse.com
SUMMARY:Regency Girls
DESCRIPTION:A world premiere musical comedy about Elinor Benton who is pregnant\, unmarried\, and living in 19th-century England. What’s a young woman to do? Facing certain ruin\, she gathers up her best friends and sets off on the ultimate road trip to find the one woman who might offer a chance to change her fate.
URL:https://socalpulse.com/event/regency-girls/
LOCATION:The Old Globe\, 1363 Old Globe Way\, San Diego\, 92101\, United States
CATEGORIES:Los Angeles
ATTACH;FMTTYPE=image/jpeg:https://socalpulse.com/wp-content/uploads/2025/03/Regency.jpg
END:VEVENT
BEGIN:VEVENT
DTSTART;VALUE=DATE:20250403
DTEND;VALUE=DATE:20250405
DTSTAMP:20260422T141835
CREATED:20250328T174949Z
LAST-MODIFIED:20250328T174949Z
UID:206937-1743638400-1743811199@socalpulse.com
SUMMARY:Yo-Yo Ma\, Williams & Dudamel
DESCRIPTION:The friendship between legendary cellist Yo-Yo Ma and conductor John Williams led to Williams writing music with Ma’s cello in mind. Williams and Gustavo Dudamel share a similar friendship and the trio come together for a night of Williams’ music.
URL:https://socalpulse.com/event/yo-yo-ma-williams-dudamel/
LOCATION:Walt Disney Concert Hall\, 111 S Grand Ave\, Los Angeles\, CA\, 90012\, United States
CATEGORIES:Los Angeles
ATTACH;FMTTYPE=image/jpeg:https://socalpulse.com/wp-content/uploads/2025/03/Yoyomama.jpg
END:VEVENT
BEGIN:VEVENT
DTSTART;VALUE=DATE:20250404
DTEND;VALUE=DATE:20250405
DTSTAMP:20260422T141835
CREATED:20250328T175340Z
LAST-MODIFIED:20250328T175340Z
UID:206943-1743724800-1743811199@socalpulse.com
SUMMARY:Emmet Cohen Trio
DESCRIPTION:Jazz pianist/composer Emmet Cohen makes his BroadStage debut with his trio. Emmet Cohen has performed at top venues and festivals worldwide\, and with over ten albums and frequent collaborations with jazz legends.
URL:https://socalpulse.com/event/emmet-cohen-trio/
LOCATION:broadstage\, 1310 11TH STREET\, Santa Monica\, CA\, 90401\, United States
CATEGORIES:Los Angeles
ATTACH;FMTTYPE=image/jpeg:https://socalpulse.com/wp-content/uploads/2025/03/Emmet.jpg
END:VEVENT
END:VCALENDAR