BEGIN:VCALENDAR
VERSION:2.0
PRODID:-//SoCalPulse - ECPv6.15.20//NONSGML v1.0//EN
CALSCALE:GREGORIAN
METHOD:PUBLISH
X-ORIGINAL-URL:https://socalpulse.com
X-WR-CALDESC:Events for SoCalPulse
REFRESH-INTERVAL;VALUE=DURATION:PT1H
X-Robots-Tag:noindex
X-PUBLISHED-TTL:PT1H
BEGIN:VTIMEZONE
TZID:America/Los_Angeles
BEGIN:DAYLIGHT
TZOFFSETFROM:-0800
TZOFFSETTO:-0700
TZNAME:PDT
DTSTART:20240310T100000
END:DAYLIGHT
BEGIN:STANDARD
TZOFFSETFROM:-0700
TZOFFSETTO:-0800
TZNAME:PST
DTSTART:20241103T090000
END:STANDARD
BEGIN:DAYLIGHT
TZOFFSETFROM:-0800
TZOFFSETTO:-0700
TZNAME:PDT
DTSTART:20250309T100000
END:DAYLIGHT
BEGIN:STANDARD
TZOFFSETFROM:-0700
TZOFFSETTO:-0800
TZNAME:PST
DTSTART:20251102T090000
END:STANDARD
BEGIN:DAYLIGHT
TZOFFSETFROM:-0800
TZOFFSETTO:-0700
TZNAME:PDT
DTSTART:20260308T100000
END:DAYLIGHT
BEGIN:STANDARD
TZOFFSETFROM:-0700
TZOFFSETTO:-0800
TZNAME:PST
DTSTART:20261101T090000
END:STANDARD
END:VTIMEZONE
BEGIN:VEVENT
DTSTART;VALUE=DATE:20250323
DTEND;VALUE=DATE:20250421
DTSTAMP:20260422T182758
CREATED:20250325T165553Z
LAST-MODIFIED:20250325T165553Z
UID:206785-1742688000-1745193599@socalpulse.com
SUMMARY:Jane Eyre
DESCRIPTION:The orphaned Jane Eyre takes a position working as governess at Thornfield Hall for the brooding Edward Rochester. The strong-willed heroine falls in love with her mysterious employer\, but the discovery of a dark secret forces the young governess to make a heart-wrenching decision that changes their lives forever.
URL:https://socalpulse.com/event/jane-eyre/
LOCATION:A Noise Within\, 3352 E. Foothill Blvd.\, Pasadena\, CA\, 91107\, United States
CATEGORIES:Los Angeles
ATTACH;FMTTYPE=image/jpeg:https://socalpulse.com/wp-content/uploads/2025/03/jane.jpg
END:VEVENT
BEGIN:VEVENT
DTSTART;VALUE=DATE:20250329
DTEND;VALUE=DATE:20250330
DTSTAMP:20260422T182758
CREATED:20250325T171118Z
LAST-MODIFIED:20250325T171118Z
UID:206802-1743206400-1743292799@socalpulse.com
SUMMARY:Exodus
DESCRIPTION:Highlighting Pacific Chorale’s chamber choir in a double chorus\, along with Baroque orchestra Bach Collegium San Diego\, encounter Handel’s riveting and powerful biblical oratorio\, Israel in Egypt.
URL:https://socalpulse.com/event/exodus/
LOCATION:Our Lady Queen of Angels Catholic Church\, 535 N Main Street\, Los Angeles\, CA\, 90012\, United States
CATEGORIES:Los Angeles
ATTACH;FMTTYPE=image/jpeg:https://socalpulse.com/wp-content/uploads/2025/03/Chorus.jpg
END:VEVENT
BEGIN:VEVENT
DTSTART;VALUE=DATE:20250329
DTEND;VALUE=DATE:20250330
DTSTAMP:20260422T182758
CREATED:20250325T171647Z
LAST-MODIFIED:20250325T171647Z
UID:206805-1743206400-1743292799@socalpulse.com
SUMMARY:Simone Porter & Blake Pouliot\, violin
DESCRIPTION:Three young virtuosos share the stage for an unforgettable evening of classical brilliance: pianist Hsin-I Huang with violinists Simone Porter and Blake Pouliot. The wide-ranging program includes a variety of works including the Eagles’ instantly recognizable tune\, “Hotel California\,” Korngold’s beautiful Suite from Much Ado About Nothing\, and the Danse Russe from Stravinsky’s Petrushka.
URL:https://socalpulse.com/event/simone-porter-blake-pouliot-violin/
LOCATION:broadstage\, 1310 11TH STREET\, Santa Monica\, CA\, 90401\, United States
CATEGORIES:Los Angeles
ATTACH;FMTTYPE=image/jpeg:https://socalpulse.com/wp-content/uploads/2025/03/broad.jpg
END:VEVENT
END:VCALENDAR