BEGIN:VCALENDAR
VERSION:2.0
PRODID:-//SoCalPulse - ECPv6.15.20//NONSGML v1.0//EN
CALSCALE:GREGORIAN
METHOD:PUBLISH
X-ORIGINAL-URL:https://socalpulse.com
X-WR-CALDESC:Events for SoCalPulse
REFRESH-INTERVAL;VALUE=DURATION:PT1H
X-Robots-Tag:noindex
X-PUBLISHED-TTL:PT1H
BEGIN:VTIMEZONE
TZID:America/Los_Angeles
BEGIN:DAYLIGHT
TZOFFSETFROM:-0800
TZOFFSETTO:-0700
TZNAME:PDT
DTSTART:20240310T100000
END:DAYLIGHT
BEGIN:STANDARD
TZOFFSETFROM:-0700
TZOFFSETTO:-0800
TZNAME:PST
DTSTART:20241103T090000
END:STANDARD
BEGIN:DAYLIGHT
TZOFFSETFROM:-0800
TZOFFSETTO:-0700
TZNAME:PDT
DTSTART:20250309T100000
END:DAYLIGHT
BEGIN:STANDARD
TZOFFSETFROM:-0700
TZOFFSETTO:-0800
TZNAME:PST
DTSTART:20251102T090000
END:STANDARD
BEGIN:DAYLIGHT
TZOFFSETFROM:-0800
TZOFFSETTO:-0700
TZNAME:PDT
DTSTART:20260308T100000
END:DAYLIGHT
BEGIN:STANDARD
TZOFFSETFROM:-0700
TZOFFSETTO:-0800
TZNAME:PST
DTSTART:20261101T090000
END:STANDARD
END:VTIMEZONE
BEGIN:VEVENT
DTSTART;VALUE=DATE:20250124
DTEND;VALUE=DATE:20250217
DTSTAMP:20260422T115119
CREATED:20250121T180636Z
LAST-MODIFIED:20250121T180636Z
UID:205344-1737676800-1739750399@socalpulse.com
SUMMARY:The Play that Goes Wrong
DESCRIPTION:The Cornley Drama Society is putting on a 1920s murder mystery\, but as the title suggests\, everything that can go wrong… does!  The accident-prone thespians battle against all odds to make it through to their final curtain call with hilarious consequences!
URL:https://socalpulse.com/event/the-play-that-goes-wrong/
LOCATION:La Mirada Theatre\, 14900 La Mirada Blvd\, La Mirada\, 90638\, United States
CATEGORIES:Los Angeles
ATTACH;FMTTYPE=image/png:https://socalpulse.com/wp-content/uploads/2025/01/the-play-goes-worng.png
END:VEVENT
BEGIN:VEVENT
DTSTART;VALUE=DATE:20250129
DTEND;VALUE=DATE:20250310
DTSTAMP:20260422T115119
CREATED:20250121T182057Z
LAST-MODIFIED:20250121T182057Z
UID:205360-1738108800-1741564799@socalpulse.com
SUMMARY:Fake It Until You Make It
DESCRIPTION:A bold world premiere comedy from Los Angeles-based playwright\, Larissa FastHorse\, who focuses her keen sense of satire to examine Native American perspectives on contemporary life.
URL:https://socalpulse.com/event/fake-it-until-you-make-it/
LOCATION:Mark Taper Forum\, 135 N. Grand Avenue\, Los Angeles\, 90012\, United States
CATEGORIES:Los Angeles
ATTACH;FMTTYPE=image/png:https://socalpulse.com/wp-content/uploads/2025/01/Fake-it-Until-you-Make-it.png
END:VEVENT
BEGIN:VEVENT
DTSTART;VALUE=DATE:20250130
DTEND;VALUE=DATE:20250203
DTSTAMP:20260422T115119
CREATED:20250121T182411Z
LAST-MODIFIED:20250121T182411Z
UID:205363-1738195200-1738540799@socalpulse.com
SUMMARY:Schubert\, Strauss & Saariaho
DESCRIPTION:Conductor Susanna Mälkki leads the Los Angeles Philharmonic in Schubert’s chilling yet charming two-movement symphony\, nicknamed the “Unfinished.”
URL:https://socalpulse.com/event/schubert-strauss-saariaho/
LOCATION:Walt Disney Concert Hall\, 111 S Grand Ave\, Los Angeles\, CA\, 90012\, United States
CATEGORIES:Los Angeles
ATTACH;FMTTYPE=image/png:https://socalpulse.com/wp-content/uploads/2025/01/Schubert-Strauss-Saariaho.png
END:VEVENT
BEGIN:VEVENT
DTSTART;VALUE=DATE:20250130
DTEND;VALUE=DATE:20250203
DTSTAMP:20260422T115119
CREATED:20250125T224818Z
LAST-MODIFIED:20250125T224921Z
UID:205436-1738195200-1738540799@socalpulse.com
SUMMARY:Schubert\, Strauss & Saariaho
DESCRIPTION:Conductor Susanna Mälkki leads the Los Angeles Philharmonic in Schubert’s chilling yet \ncharming two-movement symphony\, nicknamed the “Unfinished.”
URL:https://socalpulse.com/event/schubert-strauss-saariaho-2/
LOCATION:Walt Disney Concert Hall\, 111 S Grand Ave\, Los Angeles\, CA\, 90012\, United States
CATEGORIES:Los Angeles
ATTACH;FMTTYPE=image/png:https://socalpulse.com/wp-content/uploads/2025/01/Schubert-Strauss-Saariaho-1.png
END:VEVENT
BEGIN:VEVENT
DTSTART;TZID=America/Los_Angeles:20250201T193000
DTEND;TZID=America/Los_Angeles:20250201T213000
DTSTAMP:20260422T115119
CREATED:20250125T223239Z
LAST-MODIFIED:20250125T223239Z
UID:205428-1738438200-1738445400@socalpulse.com
SUMMARY:Kelli O'Hara in Concert
DESCRIPTION:From her Tony-winning performance in The King and I\, to starring in The Hours at the Met and The Gilded Ageon HBO\, Kelli O’Hara dazzles at every turn. Her eagerly anticipated company debut\, in concert with the LA Opera Orchestra\, promises a heart-filling evening of beloved show tunes and more.
URL:https://socalpulse.com/event/kelli-ohara-in-concert/
LOCATION:Dorothy Chandler Pavilion\, 135 N Grand Avenue\, Los Angeles\, CA\, 90012\, United States
CATEGORIES:Los Angeles
ATTACH;FMTTYPE=image/png:https://socalpulse.com/wp-content/uploads/2025/01/Kelly-O-Hara.png
END:VEVENT
BEGIN:VEVENT
DTSTART;TZID=America/Los_Angeles:20250201T200000
DTEND;TZID=America/Los_Angeles:20250201T220000
DTSTAMP:20260422T115119
CREATED:20250125T222708Z
LAST-MODIFIED:20250125T222708Z
UID:205425-1738440000-1738447200@socalpulse.com
SUMMARY:Celebrating MTT With Yuja Wang
DESCRIPTION:Michael Tilson Thomas has been part of the LA Phil family for more than five decades\, and the orchestra celebrates MTT’s 80th birthday with a not-to-be-missed special night of music.
URL:https://socalpulse.com/event/celebrating-mtt-with-yuja-wang/
LOCATION:Walt Disney Concert Hall\, 111 S Grand Ave\, Los Angeles\, CA\, 90012\, United States
CATEGORIES:Los Angeles
ATTACH;FMTTYPE=image/png:https://socalpulse.com/wp-content/uploads/2025/01/MIT.png
END:VEVENT
END:VCALENDAR