BEGIN:VCALENDAR
VERSION:2.0
PRODID:-//SoCalPulse - ECPv6.15.20//NONSGML v1.0//EN
CALSCALE:GREGORIAN
METHOD:PUBLISH
X-ORIGINAL-URL:https://socalpulse.com
X-WR-CALDESC:Events for SoCalPulse
REFRESH-INTERVAL;VALUE=DURATION:PT1H
X-Robots-Tag:noindex
X-PUBLISHED-TTL:PT1H
BEGIN:VTIMEZONE
TZID:America/Los_Angeles
BEGIN:DAYLIGHT
TZOFFSETFROM:-0800
TZOFFSETTO:-0700
TZNAME:PDT
DTSTART:20240310T100000
END:DAYLIGHT
BEGIN:STANDARD
TZOFFSETFROM:-0700
TZOFFSETTO:-0800
TZNAME:PST
DTSTART:20241103T090000
END:STANDARD
BEGIN:DAYLIGHT
TZOFFSETFROM:-0800
TZOFFSETTO:-0700
TZNAME:PDT
DTSTART:20250309T100000
END:DAYLIGHT
BEGIN:STANDARD
TZOFFSETFROM:-0700
TZOFFSETTO:-0800
TZNAME:PST
DTSTART:20251102T090000
END:STANDARD
BEGIN:DAYLIGHT
TZOFFSETFROM:-0800
TZOFFSETTO:-0700
TZNAME:PDT
DTSTART:20260308T100000
END:DAYLIGHT
BEGIN:STANDARD
TZOFFSETFROM:-0700
TZOFFSETTO:-0800
TZNAME:PST
DTSTART:20261101T090000
END:STANDARD
END:VTIMEZONE
BEGIN:VEVENT
DTSTART;VALUE=DATE:20250124
DTEND;VALUE=DATE:20250217
DTSTAMP:20260422T091736
CREATED:20250121T180636Z
LAST-MODIFIED:20250121T180636Z
UID:205344-1737676800-1739750399@socalpulse.com
SUMMARY:The Play that Goes Wrong
DESCRIPTION:The Cornley Drama Society is putting on a 1920s murder mystery\, but as the title suggests\, everything that can go wrong… does!  The accident-prone thespians battle against all odds to make it through to their final curtain call with hilarious consequences!
URL:https://socalpulse.com/event/the-play-that-goes-wrong/
LOCATION:La Mirada Theatre\, 14900 La Mirada Blvd\, La Mirada\, 90638\, United States
CATEGORIES:Los Angeles
ATTACH;FMTTYPE=image/png:https://socalpulse.com/wp-content/uploads/2025/01/the-play-goes-worng.png
END:VEVENT
BEGIN:VEVENT
DTSTART;TZID=America/Los_Angeles:20250128T200000
DTEND;TZID=America/Los_Angeles:20250128T220000
DTSTAMP:20260422T091736
CREATED:20250121T181823Z
LAST-MODIFIED:20250121T181823Z
UID:205357-1738094400-1738101600@socalpulse.com
SUMMARY:LA Phil Etudes with John Adams
DESCRIPTION:John and Samantha Williams Creative Chair John Adams returns for the second installment of the LA Phil Etudes each performed by an LA Phil musician. The program will also include a world premiere by Noah Jenkins.
URL:https://socalpulse.com/event/la-phil-etudes-with-john-adams/
LOCATION:Walt Disney Concert Hall\, 111 S Grand Ave\, Los Angeles\, CA\, 90012\, United States
CATEGORIES:Los Angeles
ATTACH;FMTTYPE=image/png:https://socalpulse.com/wp-content/uploads/2025/01/Etudes.png
END:VEVENT
END:VCALENDAR