BEGIN:VCALENDAR
VERSION:2.0
PRODID:-//SoCalPulse - ECPv6.15.20//NONSGML v1.0//EN
CALSCALE:GREGORIAN
METHOD:PUBLISH
X-WR-CALNAME:SoCalPulse
X-ORIGINAL-URL:https://socalpulse.com
X-WR-CALDESC:Events for SoCalPulse
REFRESH-INTERVAL;VALUE=DURATION:PT1H
X-Robots-Tag:noindex
X-PUBLISHED-TTL:PT1H
BEGIN:VTIMEZONE
TZID:America/Los_Angeles
BEGIN:DAYLIGHT
TZOFFSETFROM:-0800
TZOFFSETTO:-0700
TZNAME:PDT
DTSTART:20230312T100000
END:DAYLIGHT
BEGIN:STANDARD
TZOFFSETFROM:-0700
TZOFFSETTO:-0800
TZNAME:PST
DTSTART:20231105T090000
END:STANDARD
BEGIN:DAYLIGHT
TZOFFSETFROM:-0800
TZOFFSETTO:-0700
TZNAME:PDT
DTSTART:20240310T100000
END:DAYLIGHT
BEGIN:STANDARD
TZOFFSETFROM:-0700
TZOFFSETTO:-0800
TZNAME:PST
DTSTART:20241103T090000
END:STANDARD
BEGIN:DAYLIGHT
TZOFFSETFROM:-0800
TZOFFSETTO:-0700
TZNAME:PDT
DTSTART:20250309T100000
END:DAYLIGHT
BEGIN:STANDARD
TZOFFSETFROM:-0700
TZOFFSETTO:-0800
TZNAME:PST
DTSTART:20251102T090000
END:STANDARD
END:VTIMEZONE
BEGIN:VTIMEZONE
TZID:America/Los_Angeles
BEGIN:DAYLIGHT
TZOFFSETFROM:-0800
TZOFFSETTO:-0700
TZNAME:PDT
DTSTART:20230312T100000
END:DAYLIGHT
BEGIN:STANDARD
TZOFFSETFROM:-0700
TZOFFSETTO:-0800
TZNAME:PST
DTSTART:20231105T090000
END:STANDARD
BEGIN:DAYLIGHT
TZOFFSETFROM:-0800
TZOFFSETTO:-0700
TZNAME:PDT
DTSTART:20240310T100000
END:DAYLIGHT
BEGIN:STANDARD
TZOFFSETFROM:-0700
TZOFFSETTO:-0800
TZNAME:PST
DTSTART:20241103T090000
END:STANDARD
BEGIN:DAYLIGHT
TZOFFSETFROM:-0800
TZOFFSETTO:-0700
TZNAME:PDT
DTSTART:20250309T100000
END:DAYLIGHT
BEGIN:STANDARD
TZOFFSETFROM:-0700
TZOFFSETTO:-0800
TZNAME:PST
DTSTART:20251102T090000
END:STANDARD
END:VTIMEZONE
BEGIN:VEVENT
DTSTART;VALUE=DATE:20240209
DTEND;VALUE=DATE:20241209
DTSTAMP:20260421T231306
CREATED:20240130T174112Z
LAST-MODIFIED:20240130T174112Z
UID:197016-1707436800-1733702399@socalpulse.com
SUMMARY:CicLAvia Announces 2024 Schedule
DESCRIPTION:Experience the heart of Los Angeles like never before with CicLAvia’s 2024 line-up of car-free events\, transforming streets into vibrant spaces for walking\, biking\, and play. Their expanded schedule features traditional open-street events spanning 4-7 miles\, alongside two innovative CicLAminis – intimate 1-2 mile routes designed for a leisurely exploration of neighborhood gems. Dive into a world of activities including self-guided walking tours\, scavenger hunts\, street games\, and a rich tapestry of local business and cultural experiences. CicLAvia invites all ages to join in the fun\, fostering community connections and a healthier\, happier Los Angeles. \nWHERE & WHEN: CicLAvia 2024 Schedule (subject to change) \n– February 9: Los Angeles Ale Works hosts CicLAvia Season Launch Party and Fundraiser with re-release of seek-la-VEE-ah\, a signature West Coast India Pale Ale\, @Ivy Station Complex\, Culver City\, during Night Market\, 5pm – 10pm (more details announced soon) \n\n– February 25: CicLAvia—Melrose\, Connecting Fairfax\, Larchmont\, Melrose Hill and East Hollywood\, 9am – 3pm \n  \n– April 21: CicLAvia—Venice Blvd\, Connecting Palms\, Mar Vista and Venice\, presented by Metro\, 9am – 4pm \n  \n– May 19: CicLAmini—Wilmington\, New route\, 10am – 3pm \n  \n– June 23: CicLAvia—South LA\, Connecting communities along Western Ave\, presented by Metro\, 9am – 4pm \n  \n– August 18: CicLAvia—Meet the Hollywoods\, Connecting West Hollywood\, Hollywood and East Hollywood\, presented by Metro\, 9am – 4pm \n  \n– September 15: CicLAmini—Lincoln Heights\, New route\, Time TBD \n  \n– October 13: CicLAvia—Heart of LA\, Connecting Boyle Heights\, Chinatown\, Downtown and Echo Park\, presented by Metro\, 9am – 4pm (annual anchor route & fan favorite) \n \n– December 8: CicLAvia—The Valley\, Connecting NoHo\, Studio City and Sherman Oaks\, 9am – 3pm
URL:https://socalpulse.com/event/ciclavia-announces-2024-schedule/
LOCATION:CA
CATEGORIES:Los Angeles
ATTACH;FMTTYPE=image/jpeg:https://socalpulse.com/wp-content/uploads/2024/01/cic-1.jpg
END:VEVENT
BEGIN:VEVENT
DTSTART;VALUE=DATE:20240920
DTEND;VALUE=DATE:20241014
DTSTAMP:20260421T231306
CREATED:20240903T195848Z
LAST-MODIFIED:20240903T195848Z
UID:202658-1726790400-1728863999@socalpulse.com
SUMMARY:Waitress
DESCRIPTION:Brought to life on Broadway by a groundbreaking all-female creative team\, Waitress features original music and lyrics by six-time Grammy nominee Sara Bareilles and book by acclaimed screenwriter Jessie Nelson. It is inspired by the beloved film about finding happiness in unexpected places.
URL:https://socalpulse.com/event/waitress/
LOCATION:La Mirada Theatre\, 14900 La Mirada Blvd\, La Mirada\, 90638\, United States
CATEGORIES:Los Angeles
ATTACH;FMTTYPE=image/jpeg:https://socalpulse.com/wp-content/uploads/2024/09/Waitress.jpg
END:VEVENT
BEGIN:VEVENT
DTSTART;VALUE=DATE:20240921
DTEND;VALUE=DATE:20241014
DTSTAMP:20260421T231306
CREATED:20240903T130004Z
LAST-MODIFIED:20240903T130004Z
UID:202644-1726876800-1728863999@socalpulse.com
SUMMARY:Madame Butterfly
DESCRIPTION:James Conlon opens the 2024/25 season conducting Puccini’s unforgettable classic starring Korean soprano Karah Son as the tragic heroine trying to find her way in a world dominated by men.
URL:https://socalpulse.com/event/madame-butterfly/
LOCATION:Dorothy Chandler Pavilion\, 135 N Grand Avenue\, Los Angeles\, CA\, 90012\, United States
CATEGORIES:Los Angeles
ATTACH;FMTTYPE=image/jpeg:https://socalpulse.com/wp-content/uploads/2024/09/madame.jpg
END:VEVENT
BEGIN:VEVENT
DTSTART;VALUE=DATE:20241002
DTEND;VALUE=DATE:20241111
DTSTAMP:20260421T231306
CREATED:20241001T173244Z
LAST-MODIFIED:20241001T173244Z
UID:203124-1727827200-1731283199@socalpulse.com
SUMMARY:American Idiot
DESCRIPTION:Slinging razor guitars\, thundering drums\, and an anti-hero named Johnny. A groundbreaking American musical with music from Green Day’s multi-platinum album in an all-new production directed by Artistic Director Snehal Desai.
URL:https://socalpulse.com/event/american-idiot/
LOCATION:Mark Taper Forum\, 135 N. Grand Avenue\, Los Angeles\, 90012\, United States
CATEGORIES:Los Angeles
ATTACH;FMTTYPE=image/jpeg:https://socalpulse.com/wp-content/uploads/2024/10/Untitled-2.jpg
END:VEVENT
BEGIN:VEVENT
DTSTART;TZID=America/Los_Angeles:20241012T100000
DTEND;TZID=America/Los_Angeles:20241012T150000
DTSTAMP:20260421T231306
CREATED:20241009T233923Z
LAST-MODIFIED:20241011T233938Z
UID:203373-1728727200-1728745200@socalpulse.com
SUMMARY:LUCY PET FOODS SURFIN’ HALLOWEEN PARTY AND FREE VACCINE CLINIC THIS SATURDAY   DCH Subaru of Thousand Oaks Hosts Tail-Wagging Day for Dogs and Cats
DESCRIPTION:Lucy Pet Foods is celebrating all things four-legged this Saturday\, October 12\, at their Surfin’ Halloween Party\, taking place at DCH Subaru in Thousand Oaks. Dress your pet and win prizes in the Halloween contest\, sign up for surfing lessons for your canine companion or adopt a dog or cat from Agoura Animal Care Center. Lucy Pet’s Mobile Clinic will also be on-site offering free vaccines to pre-registered dogs and cats.
URL:https://socalpulse.com/event/lucy-pet-foods-surfin-halloween-party-and-free-vaccine-clinic-this-saturday-dch-subaru-of-thousand-oaks-hosts-tail-wagging-day-for-dogs-and-cats/
LOCATION:DCH SUbaru Thousand Oaks\, 3725 Auto Mall Drive\, Thousand Oaks\, CA\, 91362\, United States
CATEGORIES:Los Angeles
ATTACH;FMTTYPE=image/png:https://socalpulse.com/wp-content/uploads/2024/10/Screenshot-2024-10-11-at-4.37.43 PM.png
END:VEVENT
END:VCALENDAR