BEGIN:VCALENDAR
VERSION:2.0
PRODID:-//SoCalPulse - ECPv6.15.20//NONSGML v1.0//EN
CALSCALE:GREGORIAN
METHOD:PUBLISH
X-WR-CALNAME:SoCalPulse
X-ORIGINAL-URL:https://socalpulse.com
X-WR-CALDESC:Events for SoCalPulse
REFRESH-INTERVAL;VALUE=DURATION:PT1H
X-Robots-Tag:noindex
X-PUBLISHED-TTL:PT1H
BEGIN:VTIMEZONE
TZID:America/Los_Angeles
BEGIN:DAYLIGHT
TZOFFSETFROM:-0800
TZOFFSETTO:-0700
TZNAME:PDT
DTSTART:20230312T100000
END:DAYLIGHT
BEGIN:STANDARD
TZOFFSETFROM:-0700
TZOFFSETTO:-0800
TZNAME:PST
DTSTART:20231105T090000
END:STANDARD
BEGIN:DAYLIGHT
TZOFFSETFROM:-0800
TZOFFSETTO:-0700
TZNAME:PDT
DTSTART:20240310T100000
END:DAYLIGHT
BEGIN:STANDARD
TZOFFSETFROM:-0700
TZOFFSETTO:-0800
TZNAME:PST
DTSTART:20241103T090000
END:STANDARD
BEGIN:DAYLIGHT
TZOFFSETFROM:-0800
TZOFFSETTO:-0700
TZNAME:PDT
DTSTART:20250309T100000
END:DAYLIGHT
BEGIN:STANDARD
TZOFFSETFROM:-0700
TZOFFSETTO:-0800
TZNAME:PST
DTSTART:20251102T090000
END:STANDARD
END:VTIMEZONE
BEGIN:VTIMEZONE
TZID:America/Los_Angeles
BEGIN:DAYLIGHT
TZOFFSETFROM:-0800
TZOFFSETTO:-0700
TZNAME:PDT
DTSTART:20230312T100000
END:DAYLIGHT
BEGIN:STANDARD
TZOFFSETFROM:-0700
TZOFFSETTO:-0800
TZNAME:PST
DTSTART:20231105T090000
END:STANDARD
BEGIN:DAYLIGHT
TZOFFSETFROM:-0800
TZOFFSETTO:-0700
TZNAME:PDT
DTSTART:20240310T100000
END:DAYLIGHT
BEGIN:STANDARD
TZOFFSETFROM:-0700
TZOFFSETTO:-0800
TZNAME:PST
DTSTART:20241103T090000
END:STANDARD
BEGIN:DAYLIGHT
TZOFFSETFROM:-0800
TZOFFSETTO:-0700
TZNAME:PDT
DTSTART:20250309T100000
END:DAYLIGHT
BEGIN:STANDARD
TZOFFSETFROM:-0700
TZOFFSETTO:-0800
TZNAME:PST
DTSTART:20251102T090000
END:STANDARD
END:VTIMEZONE
BEGIN:VEVENT
DTSTART;VALUE=DATE:20240209
DTEND;VALUE=DATE:20241209
DTSTAMP:20260421T231327
CREATED:20240130T174112Z
LAST-MODIFIED:20240130T174112Z
UID:197016-1707436800-1733702399@socalpulse.com
SUMMARY:CicLAvia Announces 2024 Schedule
DESCRIPTION:Experience the heart of Los Angeles like never before with CicLAvia’s 2024 line-up of car-free events\, transforming streets into vibrant spaces for walking\, biking\, and play. Their expanded schedule features traditional open-street events spanning 4-7 miles\, alongside two innovative CicLAminis – intimate 1-2 mile routes designed for a leisurely exploration of neighborhood gems. Dive into a world of activities including self-guided walking tours\, scavenger hunts\, street games\, and a rich tapestry of local business and cultural experiences. CicLAvia invites all ages to join in the fun\, fostering community connections and a healthier\, happier Los Angeles. \nWHERE & WHEN: CicLAvia 2024 Schedule (subject to change) \n– February 9: Los Angeles Ale Works hosts CicLAvia Season Launch Party and Fundraiser with re-release of seek-la-VEE-ah\, a signature West Coast India Pale Ale\, @Ivy Station Complex\, Culver City\, during Night Market\, 5pm – 10pm (more details announced soon) \n\n– February 25: CicLAvia—Melrose\, Connecting Fairfax\, Larchmont\, Melrose Hill and East Hollywood\, 9am – 3pm \n  \n– April 21: CicLAvia—Venice Blvd\, Connecting Palms\, Mar Vista and Venice\, presented by Metro\, 9am – 4pm \n  \n– May 19: CicLAmini—Wilmington\, New route\, 10am – 3pm \n  \n– June 23: CicLAvia—South LA\, Connecting communities along Western Ave\, presented by Metro\, 9am – 4pm \n  \n– August 18: CicLAvia—Meet the Hollywoods\, Connecting West Hollywood\, Hollywood and East Hollywood\, presented by Metro\, 9am – 4pm \n  \n– September 15: CicLAmini—Lincoln Heights\, New route\, Time TBD \n  \n– October 13: CicLAvia—Heart of LA\, Connecting Boyle Heights\, Chinatown\, Downtown and Echo Park\, presented by Metro\, 9am – 4pm (annual anchor route & fan favorite) \n \n– December 8: CicLAvia—The Valley\, Connecting NoHo\, Studio City and Sherman Oaks\, 9am – 3pm
URL:https://socalpulse.com/event/ciclavia-announces-2024-schedule/
LOCATION:CA
CATEGORIES:Los Angeles
ATTACH;FMTTYPE=image/jpeg:https://socalpulse.com/wp-content/uploads/2024/01/cic-1.jpg
END:VEVENT
BEGIN:VEVENT
DTSTART;VALUE=DATE:20240402
DTEND;VALUE=DATE:20240408
DTSTAMP:20260421T231327
CREATED:20240402T171758Z
LAST-MODIFIED:20240402T172046Z
UID:198549-1712016000-1712534399@socalpulse.com
SUMMARY:One of the Good Ones
DESCRIPTION:The stage is set for the ultimate familial confrontation with the world debut of this fresh comedy\, brought to life by Pasadena Playhouse. When the family’s “ideal” Latina daughter introduces her boyfriend to her parents\, it triggers a revealing showcase of the family’s prejudices and assumptions. Amid escalating tensions and a cascade of comedic moments\, they must wade through the complexities of familial relationships and the limits of acceptance. This journey explores the perennial question: what does it really mean to be an American? Prepare to fall in love with your new favorite family in this sidesplitting and sincere narrative from Gloria Calderón Kellett\, the co-creator and showrunner of Netflix’s One Day at a Time.
URL:https://socalpulse.com/event/one-of-the-good-ones/
LOCATION:Pasadena Playhouse\, 39 S. El Molino Avenue\, Pasadena\, CA\, 91101\, United States
CATEGORIES:Los Angeles
ATTACH;FMTTYPE=image/jpeg:https://socalpulse.com/wp-content/uploads/2024/04/1.jpg
END:VEVENT
BEGIN:VEVENT
DTSTART;VALUE=DATE:20240402
DTEND;VALUE=DATE:20240429
DTSTAMP:20260421T231327
CREATED:20240402T172811Z
LAST-MODIFIED:20240402T172821Z
UID:198557-1712016000-1714348799@socalpulse.com
SUMMARY:Fat Ham
DESCRIPTION:Meet Juicy\, a young\, queer Black man whose dead father shows up at the family BBQ asking that his murder be avenged\, in the west coast premiere of Fat Ham\, a hilarious and profound take on Hamlet.
URL:https://socalpulse.com/event/fat-ham/
LOCATION:Geffen Playhouse\, 10886 Le Conte Avenue\, Los Angeles\, CA\, 90024\, United States
CATEGORIES:Los Angeles
ATTACH;FMTTYPE=image/jpeg:https://socalpulse.com/wp-content/uploads/2024/04/15.jpg
END:VEVENT
BEGIN:VEVENT
DTSTART;VALUE=DATE:20240402
DTEND;VALUE=DATE:20240429
DTSTAMP:20260421T231327
CREATED:20240402T175111Z
LAST-MODIFIED:20240402T175111Z
UID:198566-1712016000-1714348799@socalpulse.com
SUMMARY:Funny Girl
DESCRIPTION:This Broadway revival about the indomitable Fanny Brice from Lower East Side\,  features one of the most iconic scores of all time\, including “Don’t Rain on my Parade\,” and “People”. Let her take you on a journey to stage stardom.
URL:https://socalpulse.com/event/funny-girl/
LOCATION:Ahmanson Theatre\, 135 N Grand Ave\, Los Angeles\, CA\, 90012\, United States
CATEGORIES:Los Angeles
ATTACH;FMTTYPE=image/jpeg:https://socalpulse.com/wp-content/uploads/2024/04/17.jpg
END:VEVENT
BEGIN:VEVENT
DTSTART;VALUE=DATE:20240406
DTEND;VALUE=DATE:20240408
DTSTAMP:20260421T231327
CREATED:20240405T152524Z
LAST-MODIFIED:20240405T152524Z
UID:198677-1712361600-1712534399@socalpulse.com
SUMMARY:I Believe: The Music of Bach\, Bonds & Robles
DESCRIPTION:From Bach and Bonds to Robles\, this program is filled with music with great strength of purpose in every phrase and note.
URL:https://socalpulse.com/event/i-believe-the-music-of-bach-bonds-robles/
LOCATION:Walt Disney Concert Hall\, 111 S Grand Ave\, Los Angeles\, CA\, 90012\, United States
CATEGORIES:Los Angeles
ATTACH;FMTTYPE=image/jpeg:https://socalpulse.com/wp-content/uploads/2024/04/001.jpg
END:VEVENT
BEGIN:VEVENT
DTSTART;VALUE=DATE:20240406
DTEND;VALUE=DATE:20240428
DTSTAMP:20260421T231327
CREATED:20240405T152832Z
LAST-MODIFIED:20240405T152832Z
UID:198680-1712361600-1714262399@socalpulse.com
SUMMARY:La Traviata
DESCRIPTION:Verdi master James Conlon conducts one of opera’s most enduring tragedies about young Violetta whose life in the fast lane is disrupted by a fresh-faced suitor that offers her an unexpected taste of true love.
URL:https://socalpulse.com/event/la-traviata/
LOCATION:Dorothy Chandler Pavilion\, 135 N Grand Avenue\, Los Angeles\, CA\, 90012\, United States
CATEGORIES:Los Angeles
ATTACH;FMTTYPE=image/jpeg:https://socalpulse.com/wp-content/uploads/2024/04/002.jpg
END:VEVENT
BEGIN:VEVENT
DTSTART;TZID=America/Los_Angeles:20240406T200000
DTEND;TZID=America/Los_Angeles:20240406T220000
DTSTAMP:20260421T231327
CREATED:20240405T152207Z
LAST-MODIFIED:20240405T152214Z
UID:198674-1712433600-1712440800@socalpulse.com
SUMMARY:Flamenco Vivo presents Fronteras
DESCRIPTION:Flamenco Vivo Carlota Santana\, one of America’s leading flamenco companies\, presents Fronteras\, a new work choreographed by two of flamenco’s most exciting artists: José Maldonado and Karen Lugo- with an original score by Jose Luis de la Paz that will be performed live \n.
URL:https://socalpulse.com/event/flamenco-vivo-presents-fronteras/
LOCATION:La Mirada Theatre\, 14900 La Mirada Blvd\, La Mirada\, 90638\, United States
CATEGORIES:Los Angeles
ATTACH;FMTTYPE=image/jpeg:https://socalpulse.com/wp-content/uploads/2024/04/000.jpg
END:VEVENT
END:VCALENDAR