BEGIN:VCALENDAR
VERSION:2.0
PRODID:-//SoCalPulse - ECPv6.15.20//NONSGML v1.0//EN
CALSCALE:GREGORIAN
METHOD:PUBLISH
X-WR-CALNAME:SoCalPulse
X-ORIGINAL-URL:https://socalpulse.com
X-WR-CALDESC:Events for SoCalPulse
REFRESH-INTERVAL;VALUE=DURATION:PT1H
X-Robots-Tag:noindex
X-PUBLISHED-TTL:PT1H
BEGIN:VTIMEZONE
TZID:America/Los_Angeles
BEGIN:DAYLIGHT
TZOFFSETFROM:-0800
TZOFFSETTO:-0700
TZNAME:PDT
DTSTART:20230312T100000
END:DAYLIGHT
BEGIN:STANDARD
TZOFFSETFROM:-0700
TZOFFSETTO:-0800
TZNAME:PST
DTSTART:20231105T090000
END:STANDARD
BEGIN:DAYLIGHT
TZOFFSETFROM:-0800
TZOFFSETTO:-0700
TZNAME:PDT
DTSTART:20240310T100000
END:DAYLIGHT
BEGIN:STANDARD
TZOFFSETFROM:-0700
TZOFFSETTO:-0800
TZNAME:PST
DTSTART:20241103T090000
END:STANDARD
BEGIN:DAYLIGHT
TZOFFSETFROM:-0800
TZOFFSETTO:-0700
TZNAME:PDT
DTSTART:20250309T100000
END:DAYLIGHT
BEGIN:STANDARD
TZOFFSETFROM:-0700
TZOFFSETTO:-0800
TZNAME:PST
DTSTART:20251102T090000
END:STANDARD
END:VTIMEZONE
BEGIN:VTIMEZONE
TZID:America/Los_Angeles
BEGIN:DAYLIGHT
TZOFFSETFROM:-0800
TZOFFSETTO:-0700
TZNAME:PDT
DTSTART:20230312T100000
END:DAYLIGHT
BEGIN:STANDARD
TZOFFSETFROM:-0700
TZOFFSETTO:-0800
TZNAME:PST
DTSTART:20231105T090000
END:STANDARD
BEGIN:DAYLIGHT
TZOFFSETFROM:-0800
TZOFFSETTO:-0700
TZNAME:PDT
DTSTART:20240310T100000
END:DAYLIGHT
BEGIN:STANDARD
TZOFFSETFROM:-0700
TZOFFSETTO:-0800
TZNAME:PST
DTSTART:20241103T090000
END:STANDARD
BEGIN:DAYLIGHT
TZOFFSETFROM:-0800
TZOFFSETTO:-0700
TZNAME:PDT
DTSTART:20250309T100000
END:DAYLIGHT
BEGIN:STANDARD
TZOFFSETFROM:-0700
TZOFFSETTO:-0800
TZNAME:PST
DTSTART:20251102T090000
END:STANDARD
END:VTIMEZONE
BEGIN:VEVENT
DTSTART;VALUE=DATE:20240209
DTEND;VALUE=DATE:20241209
DTSTAMP:20260421T215227
CREATED:20240130T174112Z
LAST-MODIFIED:20240130T174112Z
UID:197016-1707436800-1733702399@socalpulse.com
SUMMARY:CicLAvia Announces 2024 Schedule
DESCRIPTION:Experience the heart of Los Angeles like never before with CicLAvia’s 2024 line-up of car-free events\, transforming streets into vibrant spaces for walking\, biking\, and play. Their expanded schedule features traditional open-street events spanning 4-7 miles\, alongside two innovative CicLAminis – intimate 1-2 mile routes designed for a leisurely exploration of neighborhood gems. Dive into a world of activities including self-guided walking tours\, scavenger hunts\, street games\, and a rich tapestry of local business and cultural experiences. CicLAvia invites all ages to join in the fun\, fostering community connections and a healthier\, happier Los Angeles. \nWHERE & WHEN: CicLAvia 2024 Schedule (subject to change) \n– February 9: Los Angeles Ale Works hosts CicLAvia Season Launch Party and Fundraiser with re-release of seek-la-VEE-ah\, a signature West Coast India Pale Ale\, @Ivy Station Complex\, Culver City\, during Night Market\, 5pm – 10pm (more details announced soon) \n\n– February 25: CicLAvia—Melrose\, Connecting Fairfax\, Larchmont\, Melrose Hill and East Hollywood\, 9am – 3pm \n  \n– April 21: CicLAvia—Venice Blvd\, Connecting Palms\, Mar Vista and Venice\, presented by Metro\, 9am – 4pm \n  \n– May 19: CicLAmini—Wilmington\, New route\, 10am – 3pm \n  \n– June 23: CicLAvia—South LA\, Connecting communities along Western Ave\, presented by Metro\, 9am – 4pm \n  \n– August 18: CicLAvia—Meet the Hollywoods\, Connecting West Hollywood\, Hollywood and East Hollywood\, presented by Metro\, 9am – 4pm \n  \n– September 15: CicLAmini—Lincoln Heights\, New route\, Time TBD \n  \n– October 13: CicLAvia—Heart of LA\, Connecting Boyle Heights\, Chinatown\, Downtown and Echo Park\, presented by Metro\, 9am – 4pm (annual anchor route & fan favorite) \n \n– December 8: CicLAvia—The Valley\, Connecting NoHo\, Studio City and Sherman Oaks\, 9am – 3pm
URL:https://socalpulse.com/event/ciclavia-announces-2024-schedule/
LOCATION:CA
CATEGORIES:Los Angeles
ATTACH;FMTTYPE=image/jpeg:https://socalpulse.com/wp-content/uploads/2024/01/cic-1.jpg
END:VEVENT
BEGIN:VEVENT
DTSTART;VALUE=DATE:20240326
DTEND;VALUE=DATE:20240401
DTSTAMP:20260421T215227
CREATED:20240320T202403Z
LAST-MODIFIED:20240320T202403Z
UID:198182-1711411200-1711929599@socalpulse.com
SUMMARY:Alex Edelman’s “Just For Us”
DESCRIPTION:In the wake of a string of online anti-Semitic rhetoric\, stand-up comic Edelman decides to go straight to the source where he covertly attends a meeting of White Nationalists and comes face-to-face with the people behind the hates.
URL:https://socalpulse.com/event/alex-edelmans-just-for-us/
LOCATION:Mark Taper Forum\, 135 N. Grand Avenue\, Los Angeles\, 90012\, United States
CATEGORIES:Los Angeles
ATTACH;FMTTYPE=image/jpeg:https://socalpulse.com/wp-content/uploads/2024/03/3-2.jpg
END:VEVENT
BEGIN:VEVENT
DTSTART;VALUE=DATE:20240328
DTEND;VALUE=DATE:20240331
DTSTAMP:20260421T215227
CREATED:20240320T205445Z
LAST-MODIFIED:20240320T223815Z
UID:198197-1711584000-1711843199@socalpulse.com
SUMMARY:Michael Tilson Thomas Leads Tchaikovsky
DESCRIPTION:The four tableaus of Igor Stravinsky’s Petrushka are vividly brought to life by Michael Tilson Thomas\, who actually met the composer in Los Angeles in his youth. Thomas once described Stravinsky as an “amazing mind that was searching always for the most original solution” to his inventions\, and he brings that keen understanding to conducting Stravinsky’s work. Tchaikovsky wrote his Fourth Symphony as a mirror to the many conflicts in his life\, wrestling with fate and personal turmoil\, leading to a passionate thrill ride of a symphony. \nThursday\, March 28 at 8 p.m.\nFriday\, March 29 at 11 a.m.\nSaturday\, March 30 at 8 p.m.
URL:https://socalpulse.com/event/michael-tilson-thomas-leads-tchaikovsky/
LOCATION:Walt Disney Concert Hall\, 111 S Grand Ave\, Los Angeles\, CA\, 90012\, United States
CATEGORIES:Los Angeles
ATTACH;FMTTYPE=image/jpeg:https://socalpulse.com/wp-content/uploads/2024/03/13-1.jpg
END:VEVENT
BEGIN:VEVENT
DTSTART;VALUE=DATE:20240330
DTEND;VALUE=DATE:20240401
DTSTAMP:20260421T215227
CREATED:20240320T223019Z
LAST-MODIFIED:20240320T223019Z
UID:198213-1711756800-1711929599@socalpulse.com
SUMMARY:Traditions: Pergolesi’s Stabat Mater
DESCRIPTION:The Los Angeles Chamber Orchestra\, led by Jaime Martín\, presents a series of timeless works that spotlight singular voices within the collective music-making experience. Guest artists John Holiday and Amanda Forsythe join LACO. \nMarch 30 at 8 p.m. ALEX THEATRE\nMarch 31 at 7 p.m. ROYCE HALL
URL:https://socalpulse.com/event/traditions-pergolesis-stabat-mater/
LOCATION:Royce Hall\, 10745 Dickson Ct\, Los Angeles\, CA\, United States
CATEGORIES:Los Angeles
ATTACH;FMTTYPE=image/jpeg:https://socalpulse.com/wp-content/uploads/2024/03/20.jpg
END:VEVENT
BEGIN:VEVENT
DTSTART;VALUE=DATE:20240330
DTEND;VALUE=DATE:20240401
DTSTAMP:20260421T215227
CREATED:20240320T223526Z
LAST-MODIFIED:20240320T223534Z
UID:198220-1711756800-1711929599@socalpulse.com
SUMMARY:Traditions: Pergolesi’s Stabat Mater
DESCRIPTION:The Los Angeles Chamber Orchestra\, led by Jaime Martín\, presents a series of timeless works that spotlight singular voices within the collective music-making experience. Guest artists John Holiday and Amanda Forsythe join LACO. \n\nSATURDAY\, MAR 30 | 8 PM | ALEX THEATRE\nSUNDAY\, MAR 31 | 7 PM | ROYCE HALL
URL:https://socalpulse.com/event/traditions-pergolesis-stabat-mater-2/
LOCATION:Royce Hall\, 10745 Dickson Ct\, Los Angeles\, CA\, United States
CATEGORIES:Los Angeles
ATTACH;FMTTYPE=image/jpeg:https://socalpulse.com/wp-content/uploads/2024/03/20.jpg
END:VEVENT
BEGIN:VEVENT
DTSTART;TZID=America/Los_Angeles:20240330T193000
DTEND;TZID=America/Los_Angeles:20240330T213000
DTSTAMP:20260421T215227
CREATED:20240320T223235Z
LAST-MODIFIED:20240320T223608Z
UID:198217-1711827000-1711834200@socalpulse.com
SUMMARY:Stanley Clarke N•4EVER
DESCRIPTION:BroadStage’s new Artist in Residence\, Stanley Clarke\, is a celebrated acoustic and electric bass player who returns with his new band 4EVER for a night of jazz harmony\, rock\, funk\, R&B\, hip-hop\, fusion and more.
URL:https://socalpulse.com/event/stanley-clarke-n4ever/
LOCATION:broadstage\, 1310 11TH STREET\, Santa Monica\, CA\, 90401\, United States
CATEGORIES:Los Angeles
ATTACH;FMTTYPE=image/jpeg:https://socalpulse.com/wp-content/uploads/2024/03/21.jpg
END:VEVENT
END:VCALENDAR