BEGIN:VCALENDAR
VERSION:2.0
PRODID:-//SoCalPulse - ECPv6.15.20//NONSGML v1.0//EN
CALSCALE:GREGORIAN
METHOD:PUBLISH
X-ORIGINAL-URL:https://socalpulse.com
X-WR-CALDESC:Events for SoCalPulse
REFRESH-INTERVAL;VALUE=DURATION:PT1H
X-Robots-Tag:noindex
X-PUBLISHED-TTL:PT1H
BEGIN:VTIMEZONE
TZID:America/Los_Angeles
BEGIN:DAYLIGHT
TZOFFSETFROM:-0800
TZOFFSETTO:-0700
TZNAME:PDT
DTSTART:20230312T100000
END:DAYLIGHT
BEGIN:STANDARD
TZOFFSETFROM:-0700
TZOFFSETTO:-0800
TZNAME:PST
DTSTART:20231105T090000
END:STANDARD
BEGIN:DAYLIGHT
TZOFFSETFROM:-0800
TZOFFSETTO:-0700
TZNAME:PDT
DTSTART:20240310T100000
END:DAYLIGHT
BEGIN:STANDARD
TZOFFSETFROM:-0700
TZOFFSETTO:-0800
TZNAME:PST
DTSTART:20241103T090000
END:STANDARD
BEGIN:DAYLIGHT
TZOFFSETFROM:-0800
TZOFFSETTO:-0700
TZNAME:PDT
DTSTART:20250309T100000
END:DAYLIGHT
BEGIN:STANDARD
TZOFFSETFROM:-0700
TZOFFSETTO:-0800
TZNAME:PST
DTSTART:20251102T090000
END:STANDARD
END:VTIMEZONE
BEGIN:VEVENT
DTSTART;VALUE=DATE:20240207
DTEND;VALUE=DATE:20240318
DTSTAMP:20260421T185324
CREATED:20240206T234742Z
LAST-MODIFIED:20240206T234742Z
UID:197199-1707264000-1710719999@socalpulse.com
SUMMARY:Black Cypress Bayou
DESCRIPTION:The world premiere of Black Cypress Bayou\, a hilarious\, suspenseful play about loyalty\, healing\, and comeuppance. Set on a summer night in Texas\, secrets begin to surface when the richest\, meanest man in town is found dead.
URL:https://socalpulse.com/event/black-cypress-bayou/
LOCATION:Geffen Playhouse\, 10886 Le Conte Avenue\, Los Angeles\, CA\, 90024\, United States
CATEGORIES:Los Angeles
ATTACH;FMTTYPE=image/jpeg:https://socalpulse.com/wp-content/uploads/2024/02/geffen.jpg
END:VEVENT
BEGIN:VEVENT
DTSTART;VALUE=DATE:20240209
DTEND;VALUE=DATE:20241209
DTSTAMP:20260421T185324
CREATED:20240130T174112Z
LAST-MODIFIED:20240130T174112Z
UID:197016-1707436800-1733702399@socalpulse.com
SUMMARY:CicLAvia Announces 2024 Schedule
DESCRIPTION:Experience the heart of Los Angeles like never before with CicLAvia’s 2024 line-up of car-free events\, transforming streets into vibrant spaces for walking\, biking\, and play. Their expanded schedule features traditional open-street events spanning 4-7 miles\, alongside two innovative CicLAminis – intimate 1-2 mile routes designed for a leisurely exploration of neighborhood gems. Dive into a world of activities including self-guided walking tours\, scavenger hunts\, street games\, and a rich tapestry of local business and cultural experiences. CicLAvia invites all ages to join in the fun\, fostering community connections and a healthier\, happier Los Angeles. \nWHERE & WHEN: CicLAvia 2024 Schedule (subject to change) \n– February 9: Los Angeles Ale Works hosts CicLAvia Season Launch Party and Fundraiser with re-release of seek-la-VEE-ah\, a signature West Coast India Pale Ale\, @Ivy Station Complex\, Culver City\, during Night Market\, 5pm – 10pm (more details announced soon) \n\n– February 25: CicLAvia—Melrose\, Connecting Fairfax\, Larchmont\, Melrose Hill and East Hollywood\, 9am – 3pm \n  \n– April 21: CicLAvia—Venice Blvd\, Connecting Palms\, Mar Vista and Venice\, presented by Metro\, 9am – 4pm \n  \n– May 19: CicLAmini—Wilmington\, New route\, 10am – 3pm \n  \n– June 23: CicLAvia—South LA\, Connecting communities along Western Ave\, presented by Metro\, 9am – 4pm \n  \n– August 18: CicLAvia—Meet the Hollywoods\, Connecting West Hollywood\, Hollywood and East Hollywood\, presented by Metro\, 9am – 4pm \n  \n– September 15: CicLAmini—Lincoln Heights\, New route\, Time TBD \n  \n– October 13: CicLAvia—Heart of LA\, Connecting Boyle Heights\, Chinatown\, Downtown and Echo Park\, presented by Metro\, 9am – 4pm (annual anchor route & fan favorite) \n \n– December 8: CicLAvia—The Valley\, Connecting NoHo\, Studio City and Sherman Oaks\, 9am – 3pm
URL:https://socalpulse.com/event/ciclavia-announces-2024-schedule/
LOCATION:CA
CATEGORIES:Los Angeles
ATTACH;FMTTYPE=image/jpeg:https://socalpulse.com/wp-content/uploads/2024/01/cic-1.jpg
END:VEVENT
BEGIN:VEVENT
DTSTART;VALUE=DATE:20240224
DTEND;VALUE=DATE:20240318
DTSTAMP:20260421T185324
CREATED:20240227T180952Z
LAST-MODIFIED:20240227T180952Z
UID:197718-1708732800-1710719999@socalpulse.com
SUMMARY:Double Feature: Highway 1\, USA\, and The Dwarf
DESCRIPTION:LA Opera presents a double feature of one-act gems about love. The Dwarf is an impossible romance—a one-sided love story by Oscar Wilde brought to life through a romantic score. Highway 1\, USA by African American composer William Grant Still follows a hardworking Black couple determined to build a better life\, but their sacrifices turn out to be misguided.
URL:https://socalpulse.com/event/double-feature-highway-1-usa-and-the-dwarf/
LOCATION:Dorothy Chandler Pavilion\, 135 N Grand Avenue\, Los Angeles\, CA\, 90012\, United States
CATEGORIES:Los Angeles
ATTACH;FMTTYPE=image/jpeg:https://socalpulse.com/wp-content/uploads/2024/02/laopera.jpg
END:VEVENT
END:VCALENDAR