BEGIN:VCALENDAR
VERSION:2.0
PRODID:-//SoCalPulse - ECPv6.15.20//NONSGML v1.0//EN
CALSCALE:GREGORIAN
METHOD:PUBLISH
X-WR-CALNAME:SoCalPulse
X-ORIGINAL-URL:https://socalpulse.com
X-WR-CALDESC:Events for SoCalPulse
REFRESH-INTERVAL;VALUE=DURATION:PT1H
X-Robots-Tag:noindex
X-PUBLISHED-TTL:PT1H
BEGIN:VTIMEZONE
TZID:America/Los_Angeles
BEGIN:DAYLIGHT
TZOFFSETFROM:-0800
TZOFFSETTO:-0700
TZNAME:PDT
DTSTART:20230312T100000
END:DAYLIGHT
BEGIN:STANDARD
TZOFFSETFROM:-0700
TZOFFSETTO:-0800
TZNAME:PST
DTSTART:20231105T090000
END:STANDARD
BEGIN:DAYLIGHT
TZOFFSETFROM:-0800
TZOFFSETTO:-0700
TZNAME:PDT
DTSTART:20240310T100000
END:DAYLIGHT
BEGIN:STANDARD
TZOFFSETFROM:-0700
TZOFFSETTO:-0800
TZNAME:PST
DTSTART:20241103T090000
END:STANDARD
BEGIN:DAYLIGHT
TZOFFSETFROM:-0800
TZOFFSETTO:-0700
TZNAME:PDT
DTSTART:20250309T100000
END:DAYLIGHT
BEGIN:STANDARD
TZOFFSETFROM:-0700
TZOFFSETTO:-0800
TZNAME:PST
DTSTART:20251102T090000
END:STANDARD
END:VTIMEZONE
BEGIN:VEVENT
DTSTART;VALUE=DATE:20240113
DTEND;VALUE=DATE:20240129
DTSTAMP:20260421T124636
CREATED:20240114T011758Z
LAST-MODIFIED:20240114T011758Z
UID:196603-1705104000-1706486399@socalpulse.com
SUMMARY:Both And (a Play About Laughing While Black)
DESCRIPTION:Experience a unique and powerful theater performance with ‘Both And (A Play About Laughing While Black)’\, created and performed by Carolyn Ratteray. This show combines clowning\, poetic language\, and an impressive solo performance to explore the essence of Black happiness. The story follows Teayanna\, who finds herself in a mysterious realm between life and death while trying to assist her dying mother. \nDuring her journey\, Teayanna encounters ancestral wisdom\, reflects on the history of the Middle Passage\, and discovers unexpected secrets in her mother’s purse. This play is a captivating blend of humor\, raw truth\, and enthusiasm\, offering a profound reflection on reconnecting with joy.
URL:https://socalpulse.com/event/both-and-a-play-about-laughing-while-black/
LOCATION:The Wallis\, 9390 N. Santa Monica Blvd\, Beverly Hills\, CA\, 92010\, United States
CATEGORIES:Los Angeles
ATTACH;FMTTYPE=image/jpeg:https://socalpulse.com/wp-content/uploads/2024/01/1-1.jpg
END:VEVENT
END:VCALENDAR