BEGIN:VCALENDAR
VERSION:2.0
PRODID:-//SoCalPulse - ECPv6.15.20//NONSGML v1.0//EN
CALSCALE:GREGORIAN
METHOD:PUBLISH
X-ORIGINAL-URL:https://socalpulse.com
X-WR-CALDESC:Events for SoCalPulse
REFRESH-INTERVAL;VALUE=DURATION:PT1H
X-Robots-Tag:noindex
X-PUBLISHED-TTL:PT1H
BEGIN:VTIMEZONE
TZID:America/Los_Angeles
BEGIN:DAYLIGHT
TZOFFSETFROM:-0800
TZOFFSETTO:-0700
TZNAME:PDT
DTSTART:20230312T100000
END:DAYLIGHT
BEGIN:STANDARD
TZOFFSETFROM:-0700
TZOFFSETTO:-0800
TZNAME:PST
DTSTART:20231105T090000
END:STANDARD
BEGIN:DAYLIGHT
TZOFFSETFROM:-0800
TZOFFSETTO:-0700
TZNAME:PDT
DTSTART:20240310T100000
END:DAYLIGHT
BEGIN:STANDARD
TZOFFSETFROM:-0700
TZOFFSETTO:-0800
TZNAME:PST
DTSTART:20241103T090000
END:STANDARD
BEGIN:DAYLIGHT
TZOFFSETFROM:-0800
TZOFFSETTO:-0700
TZNAME:PDT
DTSTART:20250309T100000
END:DAYLIGHT
BEGIN:STANDARD
TZOFFSETFROM:-0700
TZOFFSETTO:-0800
TZNAME:PST
DTSTART:20251102T090000
END:STANDARD
END:VTIMEZONE
BEGIN:VEVENT
DTSTART;VALUE=DATE:20240106
DTEND;VALUE=DATE:20240108
DTSTAMP:20260421T113022
CREATED:20240105T184742Z
LAST-MODIFIED:20240105T184742Z
UID:196467-1704499200-1704671999@socalpulse.com
SUMMARY:Mozart's "Prague" Symphony
DESCRIPTION:Former Dudamel Fellow Gemma New and the LA Phil capture the complexities and sophistications of Mozart’s “Prague” symphony. \nSaturday at 8 p.m.\nSunday at 2 p.m. \nWalt Disney Concert Hall\, 111 S. Grand Ave.\, Los Angeles
URL:https://socalpulse.com/event/mozarts-prague-symphony/
LOCATION:Walt Disney Concert Hall\, 111 S Grand Ave\, Los Angeles\, CA\, 90012\, United States
CATEGORIES:Los Angeles
ATTACH;FMTTYPE=image/jpeg:https://socalpulse.com/wp-content/uploads/2024/01/3.jpg
END:VEVENT
BEGIN:VEVENT
DTSTART;TZID=America/Los_Angeles:20240107T193000
DTEND;TZID=America/Los_Angeles:20240107T213000
DTSTAMP:20260421T113022
CREATED:20240105T184457Z
LAST-MODIFIED:20240105T184457Z
UID:196464-1704655800-1704663000@socalpulse.com
SUMMARY:Christian Schmitt
DESCRIPTION:A regular performer on the global stage\, the German virtuoso returns to Walt Disney Concert Hall to breathe life into its organ “Hurricane Mama” once again. \n Walt Disney Concert Hall\, 111 S. Grand Ave.\, Los Angeles.
URL:https://socalpulse.com/event/christian-schmitt/
LOCATION:Walt Disney Concert Hall\, 111 S Grand Ave\, Los Angeles\, CA\, 90012\, United States
CATEGORIES:Los Angeles
ATTACH;FMTTYPE=image/jpeg:https://socalpulse.com/wp-content/uploads/2024/01/2.jpg
END:VEVENT
END:VCALENDAR