BEGIN:VCALENDAR
VERSION:2.0
PRODID:-//SoCalPulse - ECPv6.15.20//NONSGML v1.0//EN
CALSCALE:GREGORIAN
METHOD:PUBLISH
X-WR-CALNAME:SoCalPulse
X-ORIGINAL-URL:https://socalpulse.com
X-WR-CALDESC:Events for SoCalPulse
REFRESH-INTERVAL;VALUE=DURATION:PT1H
X-Robots-Tag:noindex
X-PUBLISHED-TTL:PT1H
BEGIN:VTIMEZONE
TZID:America/Los_Angeles
BEGIN:DAYLIGHT
TZOFFSETFROM:-0800
TZOFFSETTO:-0700
TZNAME:PDT
DTSTART:20220313T100000
END:DAYLIGHT
BEGIN:STANDARD
TZOFFSETFROM:-0700
TZOFFSETTO:-0800
TZNAME:PST
DTSTART:20221106T090000
END:STANDARD
BEGIN:DAYLIGHT
TZOFFSETFROM:-0800
TZOFFSETTO:-0700
TZNAME:PDT
DTSTART:20230312T100000
END:DAYLIGHT
BEGIN:STANDARD
TZOFFSETFROM:-0700
TZOFFSETTO:-0800
TZNAME:PST
DTSTART:20231105T090000
END:STANDARD
BEGIN:DAYLIGHT
TZOFFSETFROM:-0800
TZOFFSETTO:-0700
TZNAME:PDT
DTSTART:20240310T100000
END:DAYLIGHT
BEGIN:STANDARD
TZOFFSETFROM:-0700
TZOFFSETTO:-0800
TZNAME:PST
DTSTART:20241103T090000
END:STANDARD
END:VTIMEZONE
BEGIN:VEVENT
DTSTART;VALUE=DATE:20230611
DTEND;VALUE=DATE:20230922
DTSTAMP:20260421T030951
CREATED:20230905T234027Z
LAST-MODIFIED:20230905T234027Z
UID:193301-1686441600-1695340799@socalpulse.com
SUMMARY:A Midsummer Night’s Dream
DESCRIPTION:The magical outdoor setting of Will Geer’s Theatricum Botanicum transforms into an enchanted forest for this signature production for lovers.
URL:https://socalpulse.com/event/a-midsummer-nights-dream/
LOCATION:Theatricum\, 1419 N Topanga Canyon Blvd\, Topanga\, CA\, 90290\, United States
CATEGORIES:Los Angeles
ATTACH;FMTTYPE=image/jpeg:https://socalpulse.com/wp-content/uploads/2023/09/20.jpg
END:VEVENT
BEGIN:VEVENT
DTSTART;VALUE=DATE:20230611
DTEND;VALUE=DATE:20230922
DTSTAMP:20260421T030951
CREATED:20230919T172511Z
LAST-MODIFIED:20230919T172511Z
UID:193644-1686441600-1695340799@socalpulse.com
SUMMARY:A Midsummer Night’s Dream
DESCRIPTION:The magical outdoor setting of Will Geer’s Theatricum Botanicum transforms into an enchanted forest for this signature production for lovers.
URL:https://socalpulse.com/event/a-midsummer-nights-dream-2/
LOCATION:Theatricum\, 1419 N Topanga Canyon Blvd\, Topanga\, CA\, 90290\, United States
CATEGORIES:Los Angeles
ATTACH;FMTTYPE=image/jpeg:https://socalpulse.com/wp-content/uploads/2023/09/c.jpg
END:VEVENT
BEGIN:VEVENT
DTSTART;TZID=America/Los_Angeles:20230715T080000
DTEND;TZID=America/Los_Angeles:20231007T170000
DTSTAMP:20260421T030951
CREATED:20230929T175137Z
LAST-MODIFIED:20230929T175137Z
UID:193965-1689408000-1696698000@socalpulse.com
SUMMARY:A Perfect Ganesh
DESCRIPTION:Terrence McNally’s play about two friends that travel to India and is guided by the Hindu god Ganesha who leads them towards the revelation that sometimes the greatest journey is surviving life.
URL:https://socalpulse.com/event/a-perfect-ganesh/
LOCATION:Theatricum\, 1419 N Topanga Canyon Blvd\, Topanga\, CA\, 90290\, United States
CATEGORIES:Los Angeles
ATTACH;FMTTYPE=image/png:https://socalpulse.com/wp-content/uploads/2023/09/Screenshot-2023-09-29-at-10.49.29-AM.png
END:VEVENT
BEGIN:VEVENT
DTSTART;VALUE=DATE:20230801
DTEND;VALUE=DATE:20230911
DTSTAMP:20260421T030951
CREATED:20230905T165658Z
LAST-MODIFIED:20230905T165658Z
UID:193250-1690848000-1694390399@socalpulse.com
SUMMARY:Les Misérables
DESCRIPTION:This Tony Award-winning musical tells the story of broken dreams and unrequited love\, passion\, sacrifice and redemption—a timeless tale set in 19th century France.
URL:https://socalpulse.com/event/les-miserables/
LOCATION:Pantages Theatre\, 6233 HOLLYWOOD BOULEVARD\, Los Angeles\, CA\, 90028\, United States
CATEGORIES:Los Angeles
ATTACH;FMTTYPE=image/jpeg:https://socalpulse.com/wp-content/uploads/2023/09/2.jpg
END:VEVENT
BEGIN:VEVENT
DTSTART;VALUE=DATE:20230820
DTEND;VALUE=DATE:20230918
DTSTAMP:20260421T030951
CREATED:20230905T232638Z
LAST-MODIFIED:20230905T232638Z
UID:193291-1692489600-1694995199@socalpulse.com
SUMMARY:Our Dear Dead Drug Lord
DESCRIPTION:In this fierce and feverish world premiere comedy from breakout playwright Alexis Scheer\, a gang of teenage girls gathers in an abandoned treehouse to summon the ghost of Pablo Escobar. Are they messing with the actual spirit of the infamous cartel kingpin? Or are they really just messing with each other?
URL:https://socalpulse.com/event/our-dear-dead-drug-lord/
LOCATION:Ahmanson Theatre\, 135 N Grand Ave\, Los Angeles\, CA\, 90012\, United States
CATEGORIES:Los Angeles
ATTACH;FMTTYPE=image/jpeg:https://socalpulse.com/wp-content/uploads/2023/09/16.jpg
END:VEVENT
BEGIN:VEVENT
DTSTART;VALUE=DATE:20230827
DTEND;VALUE=DATE:20230925
DTSTAMP:20260421T030951
CREATED:20230920T194128Z
LAST-MODIFIED:20230920T194128Z
UID:193713-1693094400-1695599999@socalpulse.com
SUMMARY:The Bluest Eye
DESCRIPTION:A stunning adaptation of Nobel and Pulitzer Prize-winner Toni Morrison’s debut novel about three young Black girls who strive to make sense of love\, sisterhood\, abuse and hate.
URL:https://socalpulse.com/event/the-bluest-eye/
LOCATION:A Noise Within\, 3352 E. Foothill Blvd.\, Pasadena\, CA\, 91107\, United States
CATEGORIES:Los Angeles
ATTACH;FMTTYPE=image/jpeg:https://socalpulse.com/wp-content/uploads/2023/09/v1.jpg
END:VEVENT
BEGIN:VEVENT
DTSTART;TZID=America/Los_Angeles:20230903T180000
DTEND;TZID=America/Los_Angeles:20230903T200000
DTSTAMP:20260421T030951
CREATED:20230901T172135Z
LAST-MODIFIED:20230901T172135Z
UID:193186-1693764000-1693771200@socalpulse.com
SUMMARY:Os Mutantes Ghost Funk Orchestra
DESCRIPTION:Emerging during the transformative late 1960s in Brazil\, amidst political upheaval and the rise of psychedelic tunes\, Os Mutantes played a pivotal role in the tropicália movement. Blending fierce guitar sounds with traditional Brazilian beats and a forward-looking soulful essence\, their melodies often drew parallels with the Beatles. Icons such as Beck\, Flea\, and David Byrne count them as influences. They showcased their enduring spark in their debut at the Ford.
URL:https://socalpulse.com/event/os-mutantes-ghost-funk-orchestra/
LOCATION:The Ford\, 2580 Cahuenga Blvd E\, Los Angeles\, 90068\, United States
CATEGORIES:Los Angeles
ATTACH;FMTTYPE=image/jpeg:https://socalpulse.com/wp-content/uploads/2023/09/seg.jpg
END:VEVENT
BEGIN:VEVENT
DTSTART;TZID=America/Los_Angeles:20230903T193000
DTEND;TZID=America/Los_Angeles:20230903T220000
DTSTAMP:20260421T030951
CREATED:20230901T172535Z
LAST-MODIFIED:20230901T172535Z
UID:193189-1693769400-1693778400@socalpulse.com
SUMMARY:Air Supply x Michael Bolton
DESCRIPTION:Two titans of romantic rock join forces for an evening filled with legendary tunes and memorable classics. Air Supply\, known for 80s anthems like “All Out of Love” and “Lost in Love”\, pairs perfectly with Michael Bolton\, whose distinctive voice and heartfelt songs\, such as the Grammy-winning “When a Man Loves a Woman” and “How Am I Supposed to Live Without You”\, dominated the charts.
URL:https://socalpulse.com/event/air-supply-x-michael-bolton/
LOCATION:The Hollywood Bowl\, 2301 N Highland Ave\, Los Angeles\, 90068\, United States
CATEGORIES:Los Angeles
ATTACH;FMTTYPE=image/jpeg:https://socalpulse.com/wp-content/uploads/2023/09/michael.jpg
END:VEVENT
END:VCALENDAR