BEGIN:VCALENDAR
VERSION:2.0
PRODID:-//SoCalPulse - ECPv6.15.20//NONSGML v1.0//EN
CALSCALE:GREGORIAN
METHOD:PUBLISH
X-ORIGINAL-URL:https://socalpulse.com
X-WR-CALDESC:Events for SoCalPulse
REFRESH-INTERVAL;VALUE=DURATION:PT1H
X-Robots-Tag:noindex
X-PUBLISHED-TTL:PT1H
BEGIN:VTIMEZONE
TZID:America/Los_Angeles
BEGIN:DAYLIGHT
TZOFFSETFROM:-0800
TZOFFSETTO:-0700
TZNAME:PDT
DTSTART:20240310T100000
END:DAYLIGHT
BEGIN:STANDARD
TZOFFSETFROM:-0700
TZOFFSETTO:-0800
TZNAME:PST
DTSTART:20241103T090000
END:STANDARD
BEGIN:DAYLIGHT
TZOFFSETFROM:-0800
TZOFFSETTO:-0700
TZNAME:PDT
DTSTART:20250309T100000
END:DAYLIGHT
BEGIN:STANDARD
TZOFFSETFROM:-0700
TZOFFSETTO:-0800
TZNAME:PST
DTSTART:20251102T090000
END:STANDARD
BEGIN:DAYLIGHT
TZOFFSETFROM:-0800
TZOFFSETTO:-0700
TZNAME:PDT
DTSTART:20260308T100000
END:DAYLIGHT
BEGIN:STANDARD
TZOFFSETFROM:-0700
TZOFFSETTO:-0800
TZNAME:PST
DTSTART:20261101T090000
END:STANDARD
BEGIN:DAYLIGHT
TZOFFSETFROM:-0800
TZOFFSETTO:-0700
TZNAME:PDT
DTSTART:20270314T100000
END:DAYLIGHT
BEGIN:STANDARD
TZOFFSETFROM:-0700
TZOFFSETTO:-0800
TZNAME:PST
DTSTART:20271107T090000
END:STANDARD
END:VTIMEZONE
BEGIN:VTIMEZONE
TZID:America/Los_Angeles
BEGIN:DAYLIGHT
TZOFFSETFROM:-0800
TZOFFSETTO:-0700
TZNAME:PDT
DTSTART:20240310T100000
END:DAYLIGHT
BEGIN:STANDARD
TZOFFSETFROM:-0700
TZOFFSETTO:-0800
TZNAME:PST
DTSTART:20241103T090000
END:STANDARD
BEGIN:DAYLIGHT
TZOFFSETFROM:-0800
TZOFFSETTO:-0700
TZNAME:PDT
DTSTART:20250309T100000
END:DAYLIGHT
BEGIN:STANDARD
TZOFFSETFROM:-0700
TZOFFSETTO:-0800
TZNAME:PST
DTSTART:20251102T090000
END:STANDARD
BEGIN:DAYLIGHT
TZOFFSETFROM:-0800
TZOFFSETTO:-0700
TZNAME:PDT
DTSTART:20260308T100000
END:DAYLIGHT
BEGIN:STANDARD
TZOFFSETFROM:-0700
TZOFFSETTO:-0800
TZNAME:PST
DTSTART:20261101T090000
END:STANDARD
END:VTIMEZONE
BEGIN:VEVENT
DTSTART;TZID=America/Los_Angeles:20251004T000000
DTEND;TZID=America/Los_Angeles:20251201T220000
DTSTAMP:20260425T132432
CREATED:20250905T032513Z
LAST-MODIFIED:20260203T224937Z
UID:210127-1759536000-1764626400@socalpulse.com
SUMMARY:Featured: Martha Graham Dance Company's 100th Anniversary
DESCRIPTION:The Martha Graham Dance Company’s centennial continues with three monumental pieces: Graham’s 1947 Night Journey\, a rarely seen work based on Oedipus; We the People\, with a folk score by Rhiannon Giddens\, a 2024 creation inspired by Graham’s longstanding sociopolitical critique; and a world premiere entitled En Masse that extends The Soraya’s commitment to Graham’s collaborations with composers. This new commission\, choreographed by Hope Boykin\, is a first-ever pairing of Graham and Leonard Bernstein. Their posthumous partnership\, inspired by a musical excerpt discovered in their correspondence\, headlines Graham’s worldwide centennial. Wild Up performs Christopher Rountree’s new arrangement of Bernstein\, as well as William Schuman’s score for Night Journey.
URL:https://socalpulse.com/event/test-martha-graham-dance-company-100th-anniversary/
LOCATION:The Soraya\, 18111 Nordhoff Street\, Northridge\, CA\, 91330\, United States
CATEGORIES:Los Angeles
ATTACH;FMTTYPE=image/jpeg:https://socalpulse.com/wp-content/uploads/2025/09/Test_Ad-1.jpg
END:VEVENT
BEGIN:VEVENT
DTSTART;VALUE=DATE:20251113
DTEND;VALUE=DATE:20251208
DTSTAMP:20260425T132432
CREATED:20250926T174346Z
LAST-MODIFIED:20251007T222251Z
UID:210604-1762992000-1765151999@socalpulse.com
SUMMARY:Paranormal Activity
DESCRIPTION:An original story set in the world of the terrifying Paranormal Activity film franchise\, this world premiere play will haunt you long after the lights go out
URL:https://socalpulse.com/event/paranormal-activity/
LOCATION:Ahmanson Theatre\, 135 N Grand Ave\, Los Angeles\, CA\, 90012\, United States
CATEGORIES:Los Angeles
ATTACH;FMTTYPE=image/jpeg:https://socalpulse.com/wp-content/uploads/2025/09/9.jpg
END:VEVENT
BEGIN:VEVENT
DTSTART;VALUE=DATE:20251205
DTEND;VALUE=DATE:20260105
DTSTAMP:20260425T132432
CREATED:20251017T171609Z
LAST-MODIFIED:20251017T171609Z
UID:211086-1764892800-1767571199@socalpulse.com
SUMMARY:The Enormous Crocodile
DESCRIPTION:The Enormous Crocodile is weaving his way through the jungle of Los Angeles. This mischievous musical\, perfect for the whole family\, is based on Roald Dahl’s snappy book and has toe-tapping tunes and a menagerie of puppets.
URL:https://socalpulse.com/event/the-enormous-crocodile/
LOCATION:Kirk Douglas Theatre\, 9820 Washington Blvd\, Culver City\, CA\, 90232\, United States
CATEGORIES:Los Angeles
ATTACH;FMTTYPE=image/jpeg:https://socalpulse.com/wp-content/uploads/2025/10/3.jpg
END:VEVENT
BEGIN:VEVENT
DTSTART;TZID=America/Los_Angeles:20251205T193000
DTEND;TZID=America/Los_Angeles:20251205T213000
DTSTAMP:20260425T132432
CREATED:20251017T171325Z
LAST-MODIFIED:20251017T171325Z
UID:211083-1764963000-1764970200@socalpulse.com
SUMMARY:Dakhabrakha
DESCRIPTION:In a night of spellbinding rhythm and sound\, DakhaBrakha brings their self-styled “ethno-chaos” to The Wallis from Kyiv\, Ukraine. Their music is a blend of worldy music from India\, Africa\, and the Middle East.
URL:https://socalpulse.com/event/dakhabrakha-2/
LOCATION:The Wallis\, 9390 N. Santa Monica Blvd\, Beverly Hills\, CA\, 92010\, United States
CATEGORIES:Los Angeles
ATTACH;FMTTYPE=image/jpeg:https://socalpulse.com/wp-content/uploads/2025/10/2.jpg
END:VEVENT
BEGIN:VEVENT
DTSTART;TZID=America/Los_Angeles:20251206T193000
DTEND;TZID=America/Los_Angeles:20251206T213000
DTSTAMP:20260425T132432
CREATED:20251017T172142Z
LAST-MODIFIED:20251017T172142Z
UID:211092-1765049400-1765056600@socalpulse.com
SUMMARY:Colburn School: Smetana’s Ma Vlast
DESCRIPTION:Under the baton of celebrated conductor Kevin John Edusei\, the Colburn Orchestra returns to The Wallis. Soloist Sieun Park portrays a modern-day King Solomon\, who navigates a richly textured soundscape representing the allure of beauty and temptation.
URL:https://socalpulse.com/event/colburn-school-smetanas-ma-vlast/
LOCATION:The Wallis\, 9390 N. Santa Monica Blvd\, Beverly Hills\, CA\, 92010\, United States
CATEGORIES:Los Angeles
ATTACH;FMTTYPE=image/jpeg:https://socalpulse.com/wp-content/uploads/2025/10/5.jpg
END:VEVENT
BEGIN:VEVENT
DTSTART;TZID=America/Los_Angeles:20251207T140000
DTEND;TZID=America/Los_Angeles:20251207T160000
DTSTAMP:20260425T132432
CREATED:20251017T173058Z
LAST-MODIFIED:20251017T173058Z
UID:211101-1765116000-1765123200@socalpulse.com
SUMMARY:Ben Bliss
DESCRIPTION:Master Mozartean Ben Bliss has conquered stages from the Metropolitan Opera to Vienna and Paris—not to mention standout performances with LA Opera and the LA Philharmonic.
URL:https://socalpulse.com/event/ben-bliss/
LOCATION:The Wallis\, 9390 N. Santa Monica Blvd\, Beverly Hills\, CA\, 92010\, United States
CATEGORIES:Los Angeles
ATTACH;FMTTYPE=image/jpeg:https://socalpulse.com/wp-content/uploads/2025/10/9.jpg
END:VEVENT
BEGIN:VEVENT
DTSTART;VALUE=DATE:20251211
DTEND;VALUE=DATE:20251214
DTSTAMP:20260425T132432
CREATED:20251017T174135Z
LAST-MODIFIED:20251017T174135Z
UID:211110-1765411200-1765670399@socalpulse.com
SUMMARY:Bodytraffic
DESCRIPTION:This eclectic program showcases BODYTRAFFIC’s dazzling versatility with four distinct pieces that celebrate bold style\, storytelling\, and movement.
URL:https://socalpulse.com/event/bodytraffic-2/
LOCATION:The Wallis\, 9390 N. Santa Monica Blvd\, Beverly Hills\, CA\, 92010\, United States
CATEGORIES:Los Angeles
ATTACH;FMTTYPE=image/jpeg:https://socalpulse.com/wp-content/uploads/2025/10/12.jpg
END:VEVENT
BEGIN:VEVENT
DTSTART;TZID=America/Los_Angeles:20251214T190000
DTEND;TZID=America/Los_Angeles:20251214T210000
DTSTAMP:20260425T132432
CREATED:20251020T172411Z
LAST-MODIFIED:20251020T172411Z
UID:211124-1765738800-1765746000@socalpulse.com
SUMMARY:English Cathedral Christmas
DESCRIPTION:The Master Chorale’s beloved holiday concert returns with English Cathedral Christmas\, led by conductor Grant Gershon. 62 singers and an organist transport you to the majesty of Canterbury Cathedral for a centuries-old English holiday tradition.
URL:https://socalpulse.com/event/english-cathedral-christmas/
LOCATION:Walt Disney Concert Hall\, 111 S Grand Ave\, Los Angeles\, CA\, 90012\, United States
CATEGORIES:Los Angeles
ATTACH;FMTTYPE=image/jpeg:https://socalpulse.com/wp-content/uploads/2025/10/31.jpg
END:VEVENT
BEGIN:VEVENT
DTSTART;TZID=America/Los_Angeles:20251219T193000
DTEND;TZID=America/Los_Angeles:20251219T213000
DTSTAMP:20260425T132432
CREATED:20251103T205247Z
LAST-MODIFIED:20251103T205247Z
UID:211488-1766172600-1766179800@socalpulse.com
SUMMARY:Piotr Beczata
DESCRIPTION:Tenor Piotr Beczala\, on eof the most coveted performers in opera\, returns to BroadStage for an unforgettable evening as he graces the stage with his extraordinary voice.
URL:https://socalpulse.com/event/piotr-beczata/
LOCATION:broadstage\, 1310 11TH STREET\, Santa Monica\, CA\, 90401\, United States
CATEGORIES:Los Angeles
ATTACH;FMTTYPE=image/jpeg:https://socalpulse.com/wp-content/uploads/2025/11/Piotr.jpg
END:VEVENT
BEGIN:VEVENT
DTSTART;TZID=America/Los_Angeles:20251220T080000
DTEND;TZID=America/Los_Angeles:20251220T170000
DTSTAMP:20260425T132432
CREATED:20251103T205614Z
LAST-MODIFIED:20251103T205614Z
UID:211495-1766217600-1766250000@socalpulse.com
SUMMARY:Carols for Kids
DESCRIPTION:A new LA Master Chorale tradition designed for kids under 6. This family-friendly event features favorite childhood carols\, holiday-themed activities\, and a photo with Santa.
URL:https://socalpulse.com/event/carols-for-kids/
LOCATION:Walt Disney Concert Hall\, 111 S Grand Ave\, Los Angeles\, CA\, 90012\, United States
CATEGORIES:Los Angeles
ATTACH;FMTTYPE=image/jpeg:https://socalpulse.com/wp-content/uploads/2025/11/Carol.jpg
END:VEVENT
BEGIN:VEVENT
DTSTART;TZID=America/Los_Angeles:20251220T140000
DTEND;TZID=America/Los_Angeles:20251220T160000
DTSTAMP:20260425T132432
CREATED:20251103T210415Z
LAST-MODIFIED:20251103T210611Z
UID:211499-1766239200-1766246400@socalpulse.com
SUMMARY:Festival of Carols
DESCRIPTION:The Master Chorale brings back perennial holiday favorites Festival of Carols \, featuring spectacular arrangements of traditional carols from around the world. Hear some of your favorite carols and explore new songs
URL:https://socalpulse.com/event/festival-of-carols-2/
LOCATION:Walt Disney Concert Hall\, 111 S Grand Ave\, Los Angeles\, CA\, 90012\, United States
CATEGORIES:Los Angeles
ATTACH;FMTTYPE=image/jpeg:https://socalpulse.com/wp-content/uploads/2025/11/FESTIVAL.jpg
END:VEVENT
BEGIN:VEVENT
DTSTART;TZID=America/Los_Angeles:20251221T190000
DTEND;TZID=America/Los_Angeles:20251221T210000
DTSTAMP:20260425T132432
CREATED:20251103T214602Z
LAST-MODIFIED:20251103T214602Z
UID:211502-1766343600-1766350800@socalpulse.com
SUMMARY:Handel’s Messiah
DESCRIPTION:Experience the Grammy Award-winning voices of the Master Chorale in the iconic holiday masterpiece—Handel’s Messiah as led by conductor Grant Gershon.
URL:https://socalpulse.com/event/handels-messiah/
LOCATION:Walt Disney Concert Hall\, 111 S Grand Ave\, Los Angeles\, CA\, 90012\, United States
CATEGORIES:Los Angeles
ATTACH;FMTTYPE=image/jpeg:https://socalpulse.com/wp-content/uploads/2025/11/Handels-Messiah.jpg
END:VEVENT
BEGIN:VEVENT
DTSTART;TZID=America/Los_Angeles:20251222T193000
DTEND;TZID=America/Los_Angeles:20251222T213000
DTSTAMP:20260425T132432
CREATED:20251103T215024Z
LAST-MODIFIED:20251103T215024Z
UID:211508-1766431800-1766439000@socalpulse.com
SUMMARY:Messiah Sing-Along
DESCRIPTION:Join 20 singers\, soloists\, the chamber orchestra\, and two thousand other voices in the 45th anniversary celebration of music and community.
URL:https://socalpulse.com/event/messiah-sing-along/
LOCATION:Walt Disney Concert Hall\, 111 S Grand Ave\, Los Angeles\, CA\, 90012\, United States
CATEGORIES:Los Angeles
ATTACH;FMTTYPE=image/jpeg:https://socalpulse.com/wp-content/uploads/2025/11/Messiah-Sing-Along.jpg
END:VEVENT
END:VCALENDAR