BEGIN:VCALENDAR
VERSION:2.0
PRODID:-//SoCalPulse - ECPv6.15.20//NONSGML v1.0//EN
CALSCALE:GREGORIAN
METHOD:PUBLISH
X-ORIGINAL-URL:https://socalpulse.com
X-WR-CALDESC:Events for SoCalPulse
REFRESH-INTERVAL;VALUE=DURATION:PT1H
X-Robots-Tag:noindex
X-PUBLISHED-TTL:PT1H
BEGIN:VTIMEZONE
TZID:America/Los_Angeles
BEGIN:DAYLIGHT
TZOFFSETFROM:-0800
TZOFFSETTO:-0700
TZNAME:PDT
DTSTART:20240310T100000
END:DAYLIGHT
BEGIN:STANDARD
TZOFFSETFROM:-0700
TZOFFSETTO:-0800
TZNAME:PST
DTSTART:20241103T090000
END:STANDARD
BEGIN:DAYLIGHT
TZOFFSETFROM:-0800
TZOFFSETTO:-0700
TZNAME:PDT
DTSTART:20250309T100000
END:DAYLIGHT
BEGIN:STANDARD
TZOFFSETFROM:-0700
TZOFFSETTO:-0800
TZNAME:PST
DTSTART:20251102T090000
END:STANDARD
BEGIN:DAYLIGHT
TZOFFSETFROM:-0800
TZOFFSETTO:-0700
TZNAME:PDT
DTSTART:20260308T100000
END:DAYLIGHT
BEGIN:STANDARD
TZOFFSETFROM:-0700
TZOFFSETTO:-0800
TZNAME:PST
DTSTART:20261101T090000
END:STANDARD
END:VTIMEZONE
BEGIN:VTIMEZONE
TZID:America/Los_Angeles
BEGIN:DAYLIGHT
TZOFFSETFROM:-0800
TZOFFSETTO:-0700
TZNAME:PDT
DTSTART:20240310T100000
END:DAYLIGHT
BEGIN:STANDARD
TZOFFSETFROM:-0700
TZOFFSETTO:-0800
TZNAME:PST
DTSTART:20241103T090000
END:STANDARD
BEGIN:DAYLIGHT
TZOFFSETFROM:-0800
TZOFFSETTO:-0700
TZNAME:PDT
DTSTART:20250309T100000
END:DAYLIGHT
BEGIN:STANDARD
TZOFFSETFROM:-0700
TZOFFSETTO:-0800
TZNAME:PST
DTSTART:20251102T090000
END:STANDARD
BEGIN:DAYLIGHT
TZOFFSETFROM:-0800
TZOFFSETTO:-0700
TZNAME:PDT
DTSTART:20260308T100000
END:DAYLIGHT
BEGIN:STANDARD
TZOFFSETFROM:-0700
TZOFFSETTO:-0800
TZNAME:PST
DTSTART:20261101T090000
END:STANDARD
END:VTIMEZONE
BEGIN:VEVENT
DTSTART;VALUE=DATE:20250831
DTEND;VALUE=DATE:20250929
DTSTAMP:20260425T052057
CREATED:20250815T172845Z
LAST-MODIFIED:20250815T172845Z
UID:209666-1756598400-1759103999@socalpulse.com
SUMMARY:One Man\, Two Guvnors
DESCRIPTION:A fast-paced\, laugh-out-loud farce set in 1960s Brighton\, England. Francis Henshall is a down-on-his-luck man who finds himself working for two bosses at the same time. Packed with physical comedy\, quick wit\, and a live skiffle band\, this modern take based on Goldoni’s masterpiece Servant of Two Masters is a wildly fun night at the theatre.
URL:https://socalpulse.com/event/one-man-two-guvnors/
LOCATION:A Noise Within\, 3352 E. Foothill Blvd.\, Pasadena\, CA\, 91107\, United States
CATEGORIES:Los Angeles
ATTACH;FMTTYPE=image/jpeg:https://socalpulse.com/wp-content/uploads/2025/08/oneman.jpg
END:VEVENT
BEGIN:VEVENT
DTSTART;VALUE=DATE:20250910
DTEND;VALUE=DATE:20251006
DTSTAMP:20260425T052057
CREATED:20250815T173733Z
LAST-MODIFIED:20250815T173733Z
UID:209674-1757462400-1759708799@socalpulse.com
SUMMARY:Eureka Day
DESCRIPTION:When a mumps outbreak hits a progressive private school in Berkeley\, the well-meaning PTA descends into full-blown chaos trying to create a perfectly inclusive vaccination policy. Spoiler: it does not go well.
URL:https://socalpulse.com/event/eureka-day/
LOCATION:Pasadena Symphony and Pops\, 131 S St. John Avenue\, Pasadena\, CA\, 91105\, United States
CATEGORIES:Los Angeles
ATTACH;FMTTYPE=image/jpeg:https://socalpulse.com/wp-content/uploads/2025/08/Eurek.jpg
END:VEVENT
BEGIN:VEVENT
DTSTART;VALUE=DATE:20250912
DTEND;VALUE=DATE:20250915
DTSTAMP:20260425T052057
CREATED:20250815T174541Z
LAST-MODIFIED:20250815T174541Z
UID:209683-1757635200-1757894399@socalpulse.com
SUMMARY:Camille A. Brown & Dancers
DESCRIPTION:Five-time Tony Award-nominated director and choreographer Camille A. Brown & Dancers performs to original live music\, I AM\, in a performance that deepens her exploration of Black joy \n.
URL:https://socalpulse.com/event/camille-a-brown-dancers/
LOCATION:Ahmanson Theatre\, 135 N Grand Ave\, Los Angeles\, CA\, 90012\, United States
CATEGORIES:Los Angeles
ATTACH;FMTTYPE=image/jpeg:https://socalpulse.com/wp-content/uploads/2025/08/camille.jpg
END:VEVENT
BEGIN:VEVENT
DTSTART;TZID=America/Los_Angeles:20250914T080000
DTEND;TZID=America/Los_Angeles:20250914T170000
DTSTAMP:20260425T052057
CREATED:20250915T021016Z
LAST-MODIFIED:20250915T021016Z
UID:210268-1757836800-1757869200@socalpulse.com
SUMMARY:JIJI: Classical geos Electric
DESCRIPTION:JIJI is equally at home with both acoustic and electric guitar\, and her concert programs range from traditional and contemporary classical to free improvisation–gaining her a reputation as a highly sought-after concerto soloist
URL:https://socalpulse.com/event/jiji-classical-geos-electric/
LOCATION:broadstage\, 1310 11TH STREET\, Santa Monica\, CA\, 90401\, United States
CATEGORIES:Los Angeles
ATTACH;FMTTYPE=image/jpeg:https://socalpulse.com/wp-content/uploads/2025/09/10.jpg
END:VEVENT
BEGIN:VEVENT
DTSTART;TZID=America/Los_Angeles:20250914T160000
DTEND;TZID=America/Los_Angeles:20250914T180000
DTSTAMP:20260425T052057
CREATED:20250815T175932Z
LAST-MODIFIED:20250815T175932Z
UID:209699-1757865600-1757872800@socalpulse.com
SUMMARY:Martín + Altstaedt + Schumann
DESCRIPTION:The 2025/26 season begins with a concert of classics led by Jaime Martin. The program will also include the L.A. debut of acclaimed cellist Nicolas Altstaedt.
URL:https://socalpulse.com/event/martin-altstaedt-schumann/
LOCATION:The Wallis\, 9390 N. Santa Monica Blvd\, Beverly Hills\, CA\, 92010\, United States
CATEGORIES:Los Angeles
ATTACH;FMTTYPE=image/jpeg:https://socalpulse.com/wp-content/uploads/2025/08/ello.jpg
END:VEVENT
BEGIN:VEVENT
DTSTART;VALUE=DATE:20250919
DTEND;VALUE=DATE:20251013
DTSTAMP:20260425T052057
CREATED:20250815T180216Z
LAST-MODIFIED:20250815T180216Z
UID:209702-1758240000-1760313599@socalpulse.com
SUMMARY:Come From Away
DESCRIPTION:Come From Away is based on the true story of the time when the isolated community of Gander\, Newfoundland\, played host to the world.  What started as an average day in a small town turned into an international sleepover\, when 38 planes\, carrying thousands of people from around the globe\, were diverted to Gander’s airstrip on September 11\, 2001. Undaunted by culture clashes and language barriers\, the people of Gander cheered the stranded travelers with music\, an open bar and the recognition that we’re all part of a global family.
URL:https://socalpulse.com/event/come-from-away/
LOCATION:La Mirada Theatre\, 14900 La Mirada Blvd\, La Mirada\, 90638\, United States
CATEGORIES:Los Angeles
ATTACH;FMTTYPE=image/jpeg:https://socalpulse.com/wp-content/uploads/2025/08/Come.jpg
END:VEVENT
BEGIN:VEVENT
DTSTART;VALUE=DATE:20250920
DTEND;VALUE=DATE:20251005
DTSTAMP:20260425T052057
CREATED:20250815T181427Z
LAST-MODIFIED:20250828T222939Z
UID:209711-1758326400-1759622399@socalpulse.com
SUMMARY:Westside Story
DESCRIPTION:Young love crosses enemy lines in America’s greatest love story. Experience Bernstein’s masterpiece on a scale you’ve never seen before\, with a colossal cast of artists and dancers.
URL:https://socalpulse.com/event/westside-story/
LOCATION:Dorothy Chandler Pavilion\, 135 N Grand Avenue\, Los Angeles\, CA\, 90012\, United States
CATEGORIES:Los Angeles
ATTACH;FMTTYPE=image/jpeg:https://socalpulse.com/wp-content/uploads/2025/08/dd.jpg
END:VEVENT
BEGIN:VEVENT
DTSTART;TZID=America/Los_Angeles:20250920T200000
DTEND;TZID=America/Los_Angeles:20250920T220000
DTSTAMP:20260425T052057
CREATED:20250815T180448Z
LAST-MODIFIED:20250815T180448Z
UID:209705-1758398400-1758405600@socalpulse.com
SUMMARY:The Reverend Shawn Amos Dance Party
DESCRIPTION:Curator of the blackbox series The Reverend Shawn Amos opens the 2025/26 Season for a joyful night of classic 1960s dance and rhythm & blues\, plus favorites from his own catalogue.
URL:https://socalpulse.com/event/the-reverend-shawn-amos-dance-party/
LOCATION:broadstage\, 1310 11TH STREET\, Santa Monica\, CA\, 90401\, United States
CATEGORIES:Los Angeles
ATTACH;FMTTYPE=image/jpeg:https://socalpulse.com/wp-content/uploads/2025/08/Shawnamos.jpg
END:VEVENT
BEGIN:VEVENT
DTSTART;VALUE=DATE:20250926
DTEND;VALUE=DATE:20250927
DTSTAMP:20260425T052057
CREATED:20250926T171530Z
LAST-MODIFIED:20250926T171536Z
UID:210581-1758844800-1758931199@socalpulse.com
SUMMARY:Hildegard
DESCRIPTION:The year is 1147\, and abbess Hildegard von Bingen has begun transcribing her visions of God\, at the risk of excommunication. She enlists Richardis von Stade to illustrate these visions\, and the two women quickly develop a partnership that awakens them creatively\, spiritually\, and—troublingly—romantically. Their sacred work faces upheaval when Hildegard’s superior forbids her and her fellow nuns from making music\, threatening her standing within the Church.\n\nThis highly anticipated world premiere marks LA Opera‘s 17th innovative collaboration with the pioneering Beth Morrison Projects\, hailed as “a driving force behind America’s thriving opera scene” (Financial Times). Based on the writings of visionary\, composer\, and polymath\, Hildegard examines the tension between spiritual calling and human constraint. With a libretto by Sarah Kirkland Snider—who is praised by The Washington Post as one of the “Top 35 Female Composers in Classical Music”—and immersive visual projection design by Deborah Johnson\, captures the struggle of two gifted women determined to make their voices heard in a world that sought their silence.
URL:https://socalpulse.com/event/hildegard/
LOCATION:The Wallis\, 9390 N. Santa Monica Blvd\, Beverly Hills\, CA\, 92010\, United States
CATEGORIES:Los Angeles
ATTACH;FMTTYPE=image/jpeg:https://socalpulse.com/wp-content/uploads/2025/09/angel.jpg
END:VEVENT
BEGIN:VEVENT
DTSTART;TZID=America/Los_Angeles:20250927T193000
DTEND;TZID=America/Los_Angeles:20250927T213000
DTSTAMP:20260425T052057
CREATED:20250815T182329Z
LAST-MODIFIED:20250815T182329Z
UID:209720-1759001400-1759008600@socalpulse.com
SUMMARY:Stella Cole
DESCRIPTION:Stella Cole went from self-producing short a capella clips of classic standards online\, to signing with one of the world’s biggest music labels. She now brings her vocal quality\, storytelling ability\, and extraordinary talent to BroadStage.
URL:https://socalpulse.com/event/stella-cole/
LOCATION:broadstage\, 1310 11TH STREET\, Santa Monica\, CA\, 90401\, United States
CATEGORIES:Los Angeles
ATTACH;FMTTYPE=image/jpeg:https://socalpulse.com/wp-content/uploads/2025/08/stellacole.jpg
END:VEVENT
END:VCALENDAR