BEGIN:VCALENDAR
VERSION:2.0
PRODID:-//SoCalPulse - ECPv6.15.20//NONSGML v1.0//EN
CALSCALE:GREGORIAN
METHOD:PUBLISH
X-WR-CALNAME:SoCalPulse
X-ORIGINAL-URL:https://socalpulse.com
X-WR-CALDESC:Events for SoCalPulse
REFRESH-INTERVAL;VALUE=DURATION:PT1H
X-Robots-Tag:noindex
X-PUBLISHED-TTL:PT1H
BEGIN:VTIMEZONE
TZID:America/Los_Angeles
BEGIN:DAYLIGHT
TZOFFSETFROM:-0800
TZOFFSETTO:-0700
TZNAME:PDT
DTSTART:20250309T100000
END:DAYLIGHT
BEGIN:STANDARD
TZOFFSETFROM:-0700
TZOFFSETTO:-0800
TZNAME:PST
DTSTART:20251102T090000
END:STANDARD
BEGIN:DAYLIGHT
TZOFFSETFROM:-0800
TZOFFSETTO:-0700
TZNAME:PDT
DTSTART:20260308T100000
END:DAYLIGHT
BEGIN:STANDARD
TZOFFSETFROM:-0700
TZOFFSETTO:-0800
TZNAME:PST
DTSTART:20261101T090000
END:STANDARD
BEGIN:DAYLIGHT
TZOFFSETFROM:-0800
TZOFFSETTO:-0700
TZNAME:PDT
DTSTART:20270314T100000
END:DAYLIGHT
BEGIN:STANDARD
TZOFFSETFROM:-0700
TZOFFSETTO:-0800
TZNAME:PST
DTSTART:20271107T090000
END:STANDARD
END:VTIMEZONE
BEGIN:VEVENT
DTSTART;VALUE=DATE:20260417
DTEND;VALUE=DATE:20260511
DTSTAMP:20260422T040620
CREATED:20260417T170851Z
LAST-MODIFIED:20260417T170851Z
UID:214686-1776384000-1778457599@socalpulse.com
SUMMARY:Falstaff
DESCRIPTION:A bumbling knight hatches a plot to marry rich…too bad his targets see right through it. This classic comedy provides constant laughs as the merry wives of Windsor team up to teach Sir John Falstaff a lesson in Verdi’s side-splitting final opera. James Conlon conducts a brilliant ensemble cast that includes Craig Colclough as Falstaff\, Nicole Heaston\, Ernesto Petti\, and Hyona Kim.
URL:https://socalpulse.com/event/falstaff-2/
LOCATION:Dorothy Chandler Pavilion\, 135 N Grand Avenue\, Los Angeles\, CA\, 90012\, United States
CATEGORIES:Los Angeles
ATTACH;FMTTYPE=image/jpeg:https://socalpulse.com/wp-content/uploads/2026/04/2-1.jpg
END:VEVENT
BEGIN:VEVENT
DTSTART;VALUE=DATE:20260417
DTEND;VALUE=DATE:20260511
DTSTAMP:20260422T040620
CREATED:20260417T171103Z
LAST-MODIFIED:20260417T171103Z
UID:214689-1776384000-1778457599@socalpulse.com
SUMMARY:Alien Girls
DESCRIPTION:Alien Girls is a heart-filled comedy about the tensions between creating art and creating life. It is a tale of best friends—one pregnant and the other failing to be happy for her. True feelings are revealed\, and the fallout may be irreparable.
URL:https://socalpulse.com/event/alien-girls-2/
LOCATION:The Old Globe\, 1363 Old Globe Way\, San Diego\, 92101\, United States
CATEGORIES:San Diego
ATTACH;FMTTYPE=image/jpeg:https://socalpulse.com/wp-content/uploads/2026/04/Aiens-Girl.jpg
END:VEVENT
BEGIN:VEVENT
DTSTART;VALUE=DATE:20260418
DTEND;VALUE=DATE:20260511
DTSTAMP:20260422T040620
CREATED:20260413T225533Z
LAST-MODIFIED:20260413T225533Z
UID:214519-1776470400-1778457599@socalpulse.com
SUMMARY:Falstaff
DESCRIPTION:A bumbling knight hatches a plot to marry rich…too bad his targets see right through it. This classic comedy provides constant laughs as the merry wives of Windsor team up to teach Sir John Falstaff a lesson in Verdi’s side-splitting final opera. James Conlon conducts a brilliant ensemble cast that includes Craig Colclough as Falstaff\, Nicole Heaston\, Ernesto Petti\, and Hyona Kim.
URL:https://socalpulse.com/event/falstaff/
LOCATION:Dorothy Chandler Pavilion\, 135 N Grand Avenue\, Los Angeles\, CA\, 90012\, United States
CATEGORIES:Los Angeles
ATTACH;FMTTYPE=image/jpeg:https://socalpulse.com/wp-content/uploads/2026/04/Falstaff.jpg
END:VEVENT
BEGIN:VEVENT
DTSTART;VALUE=DATE:20260418
DTEND;VALUE=DATE:20260511
DTSTAMP:20260422T040620
CREATED:20260413T230034Z
LAST-MODIFIED:20260413T230034Z
UID:214522-1776470400-1778457599@socalpulse.com
SUMMARY:Alien Girls
DESCRIPTION:Alien Girls is a heart-filled comedy about the tensions between creating art and creating life. It is a tale of best friends—one pregnant and the other failing to be happy for her. True feelings are revealed\, and the fallout may be irreparable.
URL:https://socalpulse.com/event/alien-girls/
LOCATION:The Old Globe\, 1363 Old Globe Way\, San Diego\, 92101\, United States
CATEGORIES:San Diego
ATTACH;FMTTYPE=image/jpeg:https://socalpulse.com/wp-content/uploads/2026/04/Aiens-Girl.jpg
END:VEVENT
BEGIN:VEVENT
DTSTART;VALUE=DATE:20260503
DTEND;VALUE=DATE:20260601
DTSTAMP:20260422T040620
CREATED:20260417T172411Z
LAST-MODIFIED:20260417T172411Z
UID:214705-1777766400-1780271999@socalpulse.com
SUMMARY:Exit the King
DESCRIPTION:It’s King Bérenger’s last day on Earth. Eugène Ionesco delivers a savagely funny and touching look at mortality. As the king clings to power (and life)\, his crumbling kingdom is held together by an eccentric crew. A witty\, poignant exploration of letting go\, full of heart\, humanity and unexpected wit.
URL:https://socalpulse.com/event/exit-the-king/
LOCATION:A Noise Within\, 3352 E. Foothill Blvd.\, Pasadena\, CA\, 91107\, United States
CATEGORIES:Los Angeles
ATTACH;FMTTYPE=image/jpeg:https://socalpulse.com/wp-content/uploads/2026/04/Theking.jpg
END:VEVENT
BEGIN:VEVENT
DTSTART;VALUE=DATE:20260508
DTEND;VALUE=DATE:20260511
DTSTAMP:20260422T040620
CREATED:20260417T174014Z
LAST-MODIFIED:20260417T174014Z
UID:214722-1778198400-1778457599@socalpulse.com
SUMMARY:Rachmaninoff & Szymanowski
DESCRIPTION:Swiss conductor Lorenzo Viotti makes his LA Phil debut with violinist Lisa Batiashvili for an impassioned program of late-Romantic gems by Szymanowski and Rachmaninoff.
URL:https://socalpulse.com/event/rachmaninoff-szymanowski/
LOCATION:Walt Disney Concert Hall\, 111 S Grand Ave\, Los Angeles\, CA\, 90012\, United States
CATEGORIES:Los Angeles
ATTACH;FMTTYPE=image/jpeg:https://socalpulse.com/wp-content/uploads/2026/04/violin.jpg
END:VEVENT
BEGIN:VEVENT
DTSTART;VALUE=DATE:20260509
DTEND;VALUE=DATE:20260511
DTSTAMP:20260422T040620
CREATED:20260420T220731Z
LAST-MODIFIED:20260420T220731Z
UID:214728-1778284800-1778457599@socalpulse.com
SUMMARY:From the Depths to the Heights
DESCRIPTION:Renowned Mexican composer Gabriela Ortiz writes music of visceral energy and melodic sweetness\, and the San Diego Symphony Orchestra is taking part in her new cello concerto Dzonot\, specially written for cellist Alisa Weilerstein. The program\, led by conductor Rafael Payare concluded with Prokofiev’s Symphony No. 5 written during World War II as a tribute to “the greatness of the human spirit.”
URL:https://socalpulse.com/event/from-the-depths-to-the-heights/
LOCATION:Jacobs Music Center\, 1245 Seventh Avenue\, San Diego\, California\, 92101
CATEGORIES:San Diego
ATTACH;FMTTYPE=image/jpeg:https://socalpulse.com/wp-content/uploads/2026/04/payare-1.jpg
END:VEVENT
BEGIN:VEVENT
DTSTART;TZID=America/Los_Angeles:20260510T150000
DTEND;TZID=America/Los_Angeles:20260510T170000
DTSTAMP:20260422T040620
CREATED:20260420T222436Z
LAST-MODIFIED:20260420T222436Z
UID:214731-1778425200-1778432400@socalpulse.com
SUMMARY:Larisa Martínez\, soprano
DESCRIPTION:Soprano Larisa Martínez in an evening of poignant song cycle by Narciso Figueroa\, honoring Martínez’s Puerto Rican roots. The program additionally includes works by Alberto Ginastera and Heitor Villa-Lobos\, taking audiences on a sonic exploration of Latin America’s diverse cultural landscape.
URL:https://socalpulse.com/event/larisa-martinez-soprano/
LOCATION:Segerstrom Center for the Arts\, 600 Town Center Drive\, Costa Mesa\, CA\, 92626\, United States
CATEGORIES:Orange County
ATTACH;FMTTYPE=image/jpeg:https://socalpulse.com/wp-content/uploads/2026/04/larissa.jpg
END:VEVENT
END:VCALENDAR