BEGIN:VCALENDAR
VERSION:2.0
PRODID:-//SoCalPulse - ECPv6.15.20//NONSGML v1.0//EN
CALSCALE:GREGORIAN
METHOD:PUBLISH
X-WR-CALNAME:SoCalPulse
X-ORIGINAL-URL:https://socalpulse.com
X-WR-CALDESC:Events for SoCalPulse
REFRESH-INTERVAL;VALUE=DURATION:PT1H
X-Robots-Tag:noindex
X-PUBLISHED-TTL:PT1H
BEGIN:VTIMEZONE
TZID:America/Los_Angeles
BEGIN:DAYLIGHT
TZOFFSETFROM:-0800
TZOFFSETTO:-0700
TZNAME:PDT
DTSTART:20250309T100000
END:DAYLIGHT
BEGIN:STANDARD
TZOFFSETFROM:-0700
TZOFFSETTO:-0800
TZNAME:PST
DTSTART:20251102T090000
END:STANDARD
BEGIN:DAYLIGHT
TZOFFSETFROM:-0800
TZOFFSETTO:-0700
TZNAME:PDT
DTSTART:20260308T100000
END:DAYLIGHT
BEGIN:STANDARD
TZOFFSETFROM:-0700
TZOFFSETTO:-0800
TZNAME:PST
DTSTART:20261101T090000
END:STANDARD
BEGIN:DAYLIGHT
TZOFFSETFROM:-0800
TZOFFSETTO:-0700
TZNAME:PDT
DTSTART:20270314T100000
END:DAYLIGHT
BEGIN:STANDARD
TZOFFSETFROM:-0700
TZOFFSETTO:-0800
TZNAME:PST
DTSTART:20271107T090000
END:STANDARD
END:VTIMEZONE
BEGIN:VEVENT
DTSTART;VALUE=DATE:20260404
DTEND;VALUE=DATE:20260427
DTSTAMP:20260421T015006
CREATED:20260327T175324Z
LAST-MODIFIED:20260327T175324Z
UID:214200-1775260800-1777247999@socalpulse.com
SUMMARY:The Wallis presents English
DESCRIPTION:
URL:https://socalpulse.com/event/the-wallis-presents-english/
LOCATION:The Wallis\, 9390 N. Santa Monica Blvd\, Beverly Hills\, CA\, 92010\, United States
CATEGORIES:Los Angeles
ATTACH;FMTTYPE=image/png:https://socalpulse.com/wp-content/uploads/2026/03/Enlgish.png
END:VEVENT
BEGIN:VEVENT
DTSTART;VALUE=DATE:20260404
DTEND;VALUE=DATE:20260505
DTSTAMP:20260421T015006
CREATED:20260327T175101Z
LAST-MODIFIED:20260327T175101Z
UID:214197-1775260800-1777939199@socalpulse.com
SUMMARY:August Wilson’s Fences
DESCRIPTION:Set in 1957\, this Pulitzer Prize and. Tony Award-winning play follows Troy Maxson\, a former Negro League baseball star\, now a sanitation worker. Grappling with the burden of his broken dreams\, Troy struggles to assert control over his family and his future.
URL:https://socalpulse.com/event/august-wilsons-fences/
LOCATION:The Old Globe\, 1363 Old Globe Way\, San Diego\, 92101\, United States
CATEGORIES:San Diego
ATTACH;FMTTYPE=image/png:https://socalpulse.com/wp-content/uploads/2026/03/August-Wilsons-Fences.png
END:VEVENT
BEGIN:VEVENT
DTSTART;VALUE=DATE:20260410
DTEND;VALUE=DATE:20260504
DTSTAMP:20260421T015006
CREATED:20260327T180507Z
LAST-MODIFIED:20260327T180507Z
UID:214215-1775779200-1777852799@socalpulse.com
SUMMARY:Mean Girls
DESCRIPTION:Adapted from Fey’s hit 2004 film of the same title\, Mean Girls was nominated for a staggering 12 Tony Awards.  Cady Heron may have grown up on an African savanna\, but nothing prepared her for the wild and vicious ways of her strange new home: suburban Illinois.
URL:https://socalpulse.com/event/mean-girls/
LOCATION:La Mirada Theatre\, 14900 La Mirada Blvd\, La Mirada\, 90638\, United States
CATEGORIES:Los Angeles
ATTACH;FMTTYPE=image/jpeg:https://socalpulse.com/wp-content/uploads/2026/03/meangirls.jpg
END:VEVENT
BEGIN:VEVENT
DTSTART;VALUE=DATE:20260412
DTEND;VALUE=DATE:20260504
DTSTAMP:20260421T015006
CREATED:20260407T172905Z
LAST-MODIFIED:20260407T172905Z
UID:214440-1775952000-1777852799@socalpulse.com
SUMMARY:Eat Me
DESCRIPTION:Chris loves fine cuisine and spends hours on the internet with like-minded foodies. Stevie doesn’t eat fish with souls\, Beatrice and Jen just baked a flax loaf\, and Cindy might have salad later. Everyone is longing for something that makes them feel full—and when the meal is over\, maybe they’ll be transformed.
URL:https://socalpulse.com/event/eat-me/
LOCATION:Segerstrom Center for the Arts\, 600 Town Center Drive\, Costa Mesa\, CA\, 92626\, United States
CATEGORIES:Orange County
ATTACH;FMTTYPE=image/jpeg:https://socalpulse.com/wp-content/uploads/2026/04/EATME.jpg
END:VEVENT
BEGIN:VEVENT
DTSTART;VALUE=DATE:20260416
DTEND;VALUE=DATE:20260422
DTSTAMP:20260421T015006
CREATED:20260413T192512Z
LAST-MODIFIED:20260413T192512Z
UID:214506-1776297600-1776815999@socalpulse.com
SUMMARY:Puccini’s Turandot
DESCRIPTION:Step into the mythical world of Turandot\, where love and destiny collide. Puccini’s lush melodies and grand orchestration bring this epic tale of sacrifice\, love\, and defiance to life.  Conductor Carl St. Clair leads one of opera’s most powerful stories.
URL:https://socalpulse.com/event/puccinis-turandot/
LOCATION:Segerstrom Center for the Arts\, 600 Town Center Drive\, Costa Mesa\, CA\, 92626\, United States
CATEGORIES:Orange County
ATTACH;FMTTYPE=image/jpeg:https://socalpulse.com/wp-content/uploads/2026/04/Turandot.jpg
END:VEVENT
BEGIN:VEVENT
DTSTART;VALUE=DATE:20260417
DTEND;VALUE=DATE:20260504
DTSTAMP:20260421T015006
CREATED:20260417T170019Z
LAST-MODIFIED:20260417T170019Z
UID:214677-1776384000-1777852799@socalpulse.com
SUMMARY:Mean Girls
DESCRIPTION:Adapted from Fey’s hit 2004 film of the same title\, Mean Girls was nominated for a staggering 12 Tony Awards.  Cady Heron may have grown up on an African savanna\, but nothing prepared her for the wild and vicious ways of her strange new home: suburban Illinois.
URL:https://socalpulse.com/event/mean-girls-2/
LOCATION:La Mirada Theatre\, 14900 La Mirada Blvd\, La Mirada\, 90638\, United States
CATEGORIES:Los Angeles
ATTACH;FMTTYPE=image/jpeg:https://socalpulse.com/wp-content/uploads/2026/04/Mena-Girls.jpg
END:VEVENT
BEGIN:VEVENT
DTSTART;VALUE=DATE:20260417
DTEND;VALUE=DATE:20260504
DTSTAMP:20260421T015006
CREATED:20260417T170353Z
LAST-MODIFIED:20260417T170353Z
UID:214680-1776384000-1777852799@socalpulse.com
SUMMARY:August Wilson’s Fences
DESCRIPTION:Set in 1957\, this Pulitzer Prize and. Tony Award-winning play follows Troy Maxson\, a former Negro League baseball star\, now a sanitation worker. Grappling with the burden of his broken dreams\, Troy struggles to assert control over his family and his future.
URL:https://socalpulse.com/event/august-wilsons-fences-2/
LOCATION:The Old Globe\, 1363 Old Globe Way\, San Diego\, 92101\, United States
CATEGORIES:San Diego
ATTACH;FMTTYPE=image/jpeg:https://socalpulse.com/wp-content/uploads/2026/04/1-2.jpg
END:VEVENT
BEGIN:VEVENT
DTSTART;VALUE=DATE:20260417
DTEND;VALUE=DATE:20260504
DTSTAMP:20260421T015006
CREATED:20260417T170623Z
LAST-MODIFIED:20260417T170623Z
UID:214683-1776384000-1777852799@socalpulse.com
SUMMARY:Eat Me
DESCRIPTION:Chris loves fine cuisine and spends hours on the internet with like-minded foodies. Stevie doesn’t eat fish with souls\, Beatrice and Jen just baked a flax loaf\, and Cindy might have salad later. Everyone is longing for something that makes them feel full—and when the meal is over\, maybe they’ll be transformed.
URL:https://socalpulse.com/event/eat-me-2/
LOCATION:Segerstrom Center for the Arts\, 600 Town Center Drive\, Costa Mesa\, CA\, 92626\, United States
CATEGORIES:Orange County
ATTACH;FMTTYPE=image/jpeg:https://socalpulse.com/wp-content/uploads/2026/04/Eatme-1.jpg
END:VEVENT
BEGIN:VEVENT
DTSTART;VALUE=DATE:20260417
DTEND;VALUE=DATE:20260511
DTSTAMP:20260421T015006
CREATED:20260417T170851Z
LAST-MODIFIED:20260417T170851Z
UID:214686-1776384000-1778457599@socalpulse.com
SUMMARY:Falstaff
DESCRIPTION:A bumbling knight hatches a plot to marry rich…too bad his targets see right through it. This classic comedy provides constant laughs as the merry wives of Windsor team up to teach Sir John Falstaff a lesson in Verdi’s side-splitting final opera. James Conlon conducts a brilliant ensemble cast that includes Craig Colclough as Falstaff\, Nicole Heaston\, Ernesto Petti\, and Hyona Kim.
URL:https://socalpulse.com/event/falstaff-2/
LOCATION:Dorothy Chandler Pavilion\, 135 N Grand Avenue\, Los Angeles\, CA\, 90012\, United States
CATEGORIES:Los Angeles
ATTACH;FMTTYPE=image/jpeg:https://socalpulse.com/wp-content/uploads/2026/04/2-1.jpg
END:VEVENT
BEGIN:VEVENT
DTSTART;VALUE=DATE:20260417
DTEND;VALUE=DATE:20260511
DTSTAMP:20260421T015006
CREATED:20260417T171103Z
LAST-MODIFIED:20260417T171103Z
UID:214689-1776384000-1778457599@socalpulse.com
SUMMARY:Alien Girls
DESCRIPTION:Alien Girls is a heart-filled comedy about the tensions between creating art and creating life. It is a tale of best friends—one pregnant and the other failing to be happy for her. True feelings are revealed\, and the fallout may be irreparable.
URL:https://socalpulse.com/event/alien-girls-2/
LOCATION:The Old Globe\, 1363 Old Globe Way\, San Diego\, 92101\, United States
CATEGORIES:San Diego
ATTACH;FMTTYPE=image/jpeg:https://socalpulse.com/wp-content/uploads/2026/04/Aiens-Girl.jpg
END:VEVENT
BEGIN:VEVENT
DTSTART;VALUE=DATE:20260418
DTEND;VALUE=DATE:20260511
DTSTAMP:20260421T015006
CREATED:20260413T225533Z
LAST-MODIFIED:20260413T225533Z
UID:214519-1776470400-1778457599@socalpulse.com
SUMMARY:Falstaff
DESCRIPTION:A bumbling knight hatches a plot to marry rich…too bad his targets see right through it. This classic comedy provides constant laughs as the merry wives of Windsor team up to teach Sir John Falstaff a lesson in Verdi’s side-splitting final opera. James Conlon conducts a brilliant ensemble cast that includes Craig Colclough as Falstaff\, Nicole Heaston\, Ernesto Petti\, and Hyona Kim.
URL:https://socalpulse.com/event/falstaff/
LOCATION:Dorothy Chandler Pavilion\, 135 N Grand Avenue\, Los Angeles\, CA\, 90012\, United States
CATEGORIES:Los Angeles
ATTACH;FMTTYPE=image/jpeg:https://socalpulse.com/wp-content/uploads/2026/04/Falstaff.jpg
END:VEVENT
BEGIN:VEVENT
DTSTART;VALUE=DATE:20260418
DTEND;VALUE=DATE:20260511
DTSTAMP:20260421T015006
CREATED:20260413T230034Z
LAST-MODIFIED:20260413T230034Z
UID:214522-1776470400-1778457599@socalpulse.com
SUMMARY:Alien Girls
DESCRIPTION:Alien Girls is a heart-filled comedy about the tensions between creating art and creating life. It is a tale of best friends—one pregnant and the other failing to be happy for her. True feelings are revealed\, and the fallout may be irreparable.
URL:https://socalpulse.com/event/alien-girls/
LOCATION:The Old Globe\, 1363 Old Globe Way\, San Diego\, 92101\, United States
CATEGORIES:San Diego
ATTACH;FMTTYPE=image/jpeg:https://socalpulse.com/wp-content/uploads/2026/04/Aiens-Girl.jpg
END:VEVENT
BEGIN:VEVENT
DTSTART;VALUE=DATE:20260421
DTEND;VALUE=DATE:20260422
DTSTAMP:20260421T015006
CREATED:20260415T155632Z
LAST-MODIFIED:20260415T155652Z
UID:214570-1776729600-1776815999@socalpulse.com
SUMMARY:Beethoven & Schumann
DESCRIPTION:Ensembles guide us from the hip soundscapes of New York City to the enchanting\, heartfelt atmosphere of the Romantic era. Arrive early and enjoy a complimentary glass of wine before enjoying an evening of chamber music with members of the Los Angeles Philharmonic.
URL:https://socalpulse.com/event/beethoven-schumann/
LOCATION:Walt Disney Concert Hall\, 111 S Grand Ave\, Los Angeles\, CA\, 90012\, United States
CATEGORIES:Los Angeles
ATTACH;FMTTYPE=image/jpeg:https://socalpulse.com/wp-content/uploads/2026/04/LA-Phil.jpg
END:VEVENT
END:VCALENDAR