BEGIN:VCALENDAR
VERSION:2.0
PRODID:-//SoCalPulse - ECPv6.15.20//NONSGML v1.0//EN
CALSCALE:GREGORIAN
METHOD:PUBLISH
X-WR-CALNAME:SoCalPulse
X-ORIGINAL-URL:https://socalpulse.com
X-WR-CALDESC:Events for SoCalPulse
REFRESH-INTERVAL;VALUE=DURATION:PT1H
X-Robots-Tag:noindex
X-PUBLISHED-TTL:PT1H
BEGIN:VTIMEZONE
TZID:America/Los_Angeles
BEGIN:DAYLIGHT
TZOFFSETFROM:-0800
TZOFFSETTO:-0700
TZNAME:PDT
DTSTART:20250309T100000
END:DAYLIGHT
BEGIN:STANDARD
TZOFFSETFROM:-0700
TZOFFSETTO:-0800
TZNAME:PST
DTSTART:20251102T090000
END:STANDARD
BEGIN:DAYLIGHT
TZOFFSETFROM:-0800
TZOFFSETTO:-0700
TZNAME:PDT
DTSTART:20260308T100000
END:DAYLIGHT
BEGIN:STANDARD
TZOFFSETFROM:-0700
TZOFFSETTO:-0800
TZNAME:PST
DTSTART:20261101T090000
END:STANDARD
BEGIN:DAYLIGHT
TZOFFSETFROM:-0800
TZOFFSETTO:-0700
TZNAME:PDT
DTSTART:20270314T100000
END:DAYLIGHT
BEGIN:STANDARD
TZOFFSETFROM:-0700
TZOFFSETTO:-0800
TZNAME:PST
DTSTART:20271107T090000
END:STANDARD
END:VTIMEZONE
BEGIN:VEVENT
DTSTART;VALUE=DATE:20260327
DTEND;VALUE=DATE:20260420
DTSTAMP:20260421T083021
CREATED:20260327T173931Z
LAST-MODIFIED:20260327T173931Z
UID:214182-1774569600-1776643199@socalpulse.com
SUMMARY:Kim’s Convenience
DESCRIPTION:This award-winning comedy drama\, which inspired the Netflix hit\, is a hilarious\, feel-good story about a Korean family-run corner store. Mr. Kim works hard to support his family with his convenience store but as he evaluates his future\, he faces both a changing neighborhood and the gap between his values and those of his Canadian-born children.
URL:https://socalpulse.com/event/kims-convenience/
LOCATION:Ahmanson Theatre\, 135 N Grand Ave\, Los Angeles\, CA\, 90012\, United States
CATEGORIES:Los Angeles
ATTACH;FMTTYPE=image/png:https://socalpulse.com/wp-content/uploads/2026/03/kims-1.png
END:VEVENT
END:VCALENDAR