BEGIN:VCALENDAR
VERSION:2.0
PRODID:-//SoCalPulse - ECPv6.15.20//NONSGML v1.0//EN
CALSCALE:GREGORIAN
METHOD:PUBLISH
X-ORIGINAL-URL:https://socalpulse.com
X-WR-CALDESC:Events for SoCalPulse
REFRESH-INTERVAL;VALUE=DURATION:PT1H
X-Robots-Tag:noindex
X-PUBLISHED-TTL:PT1H
BEGIN:VTIMEZONE
TZID:America/Los_Angeles
BEGIN:DAYLIGHT
TZOFFSETFROM:-0800
TZOFFSETTO:-0700
TZNAME:PDT
DTSTART:20250309T100000
END:DAYLIGHT
BEGIN:STANDARD
TZOFFSETFROM:-0700
TZOFFSETTO:-0800
TZNAME:PST
DTSTART:20251102T090000
END:STANDARD
BEGIN:DAYLIGHT
TZOFFSETFROM:-0800
TZOFFSETTO:-0700
TZNAME:PDT
DTSTART:20260308T100000
END:DAYLIGHT
BEGIN:STANDARD
TZOFFSETFROM:-0700
TZOFFSETTO:-0800
TZNAME:PST
DTSTART:20261101T090000
END:STANDARD
BEGIN:DAYLIGHT
TZOFFSETFROM:-0800
TZOFFSETTO:-0700
TZNAME:PDT
DTSTART:20270314T100000
END:DAYLIGHT
BEGIN:STANDARD
TZOFFSETFROM:-0700
TZOFFSETTO:-0800
TZNAME:PST
DTSTART:20271107T090000
END:STANDARD
END:VTIMEZONE
BEGIN:VEVENT
DTSTART;VALUE=DATE:20260203
DTEND;VALUE=DATE:20260209
DTSTAMP:20260423T005309
CREATED:20260203T215816Z
LAST-MODIFIED:20260203T215816Z
UID:213110-1770076800-1770595199@socalpulse.com
SUMMARY:The Notebook
DESCRIPTION:Based on the best-selling novel that inspired the iconic film\, The Notebook tells the story of Allie and Noah\, both from different worlds\, who share a lifetime of love despite the forces that threaten to pull them apart. The Notebook\, directed by Michael Greif\, features music and lyrics by multi-platinum singer-songwriter Ingrid Michaelson.
URL:https://socalpulse.com/event/the-notebook/
LOCATION:Segerstrom Center for the Arts\, 600 Town Center Drive\, Costa Mesa\, CA\, 92626\, United States
CATEGORIES:Orange County
ATTACH;FMTTYPE=image/jpeg:https://socalpulse.com/wp-content/uploads/2026/02/The-Notebook.jpg
END:VEVENT
BEGIN:VEVENT
DTSTART;VALUE=DATE:20260203
DTEND;VALUE=DATE:20260223
DTSTAMP:20260423T005309
CREATED:20260203T220126Z
LAST-MODIFIED:20260203T220126Z
UID:213113-1770076800-1771804799@socalpulse.com
SUMMARY:Sweeney Todd: The Demon Barber of Fleet Street\, A Musical Thriller
DESCRIPTION:This Tony Award-winning Sondheim musical is a tale of love\, murder\, and revenge that follows an unjustly exiled barber as he returns to London to seek vengeance against the lecherous judge who framed him and ravaged his young wife.
URL:https://socalpulse.com/event/sweeney-todd-the-demon-barber-of-fleet-street-a-musical-thriller/
LOCATION:La Mirada Theatre\, 14900 La Mirada Blvd\, La Mirada\, 90638\, United States
CATEGORIES:Los Angeles
ATTACH;FMTTYPE=image/jpeg:https://socalpulse.com/wp-content/uploads/2026/02/Sweeny.jpg
END:VEVENT
BEGIN:VEVENT
DTSTART;VALUE=DATE:20260203
DTEND;VALUE=DATE:20260322
DTSTAMP:20260423T005309
CREATED:20260203T222854Z
LAST-MODIFIED:20260203T222854Z
UID:213134-1770076800-1774137599@socalpulse.com
SUMMARY:Edward Albee’s Who’s Afraid of Virginia Woolf?
DESCRIPTION:Hilarious and harrowing\, this portrait of a marriage ceaselessly astonishes audiences with its razor-sharp dialogue and thrilling performances. \nGeorge and Martha invite a young couple to their home for a nightcap. As the clock ticks into the wee hours\, Nick and Honey find themselves submerged in a cocktail of clever mind games\, deep-seated resentments and broken promises.
URL:https://socalpulse.com/event/edward-albees-whos-afraid-of-virginia-woolf/
LOCATION:Segerstrom Center for the Arts\, 600 Town Center Drive\, Costa Mesa\, CA\, 92626\, United States
CATEGORIES:Orange County
ATTACH;FMTTYPE=image/jpeg:https://socalpulse.com/wp-content/uploads/2026/02/virginaia.jpg
END:VEVENT
BEGIN:VEVENT
DTSTART;VALUE=DATE:20260205
DTEND;VALUE=DATE:20260206
DTSTAMP:20260423T005309
CREATED:20260203T221839Z
LAST-MODIFIED:20260203T221839Z
UID:213119-1770249600-1770335999@socalpulse.com
SUMMARY:Chasing Monarchs
DESCRIPTION:Fifty years after the startling discovery that monarch butterflies spend winters in the forests of Mexico\, photographer and National Geographic Explorer Jaime Rojo reveals this winged wonder of the insect world in new ways with never-before-seen visuals.
URL:https://socalpulse.com/event/chasing-monarchs/
LOCATION:broadstage\, 1310 11TH STREET\, Santa Monica\, CA\, 90401\, United States
CATEGORIES:Los Angeles
ATTACH;FMTTYPE=image/jpeg:https://socalpulse.com/wp-content/uploads/2026/02/Monarch.jpg
END:VEVENT
BEGIN:VEVENT
DTSTART;VALUE=DATE:20260205
DTEND;VALUE=DATE:20260206
DTSTAMP:20260423T005309
CREATED:20260203T222056Z
LAST-MODIFIED:20260203T222056Z
UID:213123-1770249600-1770335999@socalpulse.com
SUMMARY:Cheyenne Jackson\, Signs of Life
DESCRIPTION:Emmy and GRAMMY- nominated luminary Cheyenne Jackson brings his infectious charm and powerhouse vocals to the stage with Signs of Life\, a musical meditation on art\, love\, fatherhood\, and the cosmic twists that have shaped his remarkable path.
URL:https://socalpulse.com/event/cheyenne-jackson-signs-of-life/
LOCATION:The Wallis\, 9390 N. Santa Monica Blvd\, Beverly Hills\, CA\, 92010\, United States
CATEGORIES:Los Angeles
ATTACH;FMTTYPE=image/jpeg:https://socalpulse.com/wp-content/uploads/2026/02/the-wallis.jpg
END:VEVENT
BEGIN:VEVENT
DTSTART;VALUE=DATE:20260205
DTEND;VALUE=DATE:20260208
DTSTAMP:20260423T005309
CREATED:20260203T222304Z
LAST-MODIFIED:20260203T222304Z
UID:213126-1770249600-1770508799@socalpulse.com
SUMMARY:St. Clair Conducts Beethoven & Don Quixote
DESCRIPTION:An evening of musical storytelling and virtuosity led by Maestro Carl St. Clair. Acclaimed violinist Paul Huang takes center stage in Beethoven’s exquisite Violin Concerto\, a masterpiece renowned for its lyrical beauty and technical brilliance.
URL:https://socalpulse.com/event/st-clair-conducts-beethoven-don-quixote/
LOCATION:Segerstrom Center for the Arts\, 600 Town Center Drive\, Costa Mesa\, CA\, 92626\, United States
CATEGORIES:Orange County
ATTACH;FMTTYPE=image/jpeg:https://socalpulse.com/wp-content/uploads/2026/02/10.jpg
END:VEVENT
END:VCALENDAR