BEGIN:VCALENDAR
VERSION:2.0
PRODID:-//SoCalPulse - ECPv6.15.20//NONSGML v1.0//EN
CALSCALE:GREGORIAN
METHOD:PUBLISH
X-WR-CALNAME:SoCalPulse
X-ORIGINAL-URL:https://socalpulse.com
X-WR-CALDESC:Events for SoCalPulse
REFRESH-INTERVAL;VALUE=DURATION:PT1H
X-Robots-Tag:noindex
X-PUBLISHED-TTL:PT1H
BEGIN:VTIMEZONE
TZID:America/Los_Angeles
BEGIN:DAYLIGHT
TZOFFSETFROM:-0800
TZOFFSETTO:-0700
TZNAME:PDT
DTSTART:20240310T100000
END:DAYLIGHT
BEGIN:STANDARD
TZOFFSETFROM:-0700
TZOFFSETTO:-0800
TZNAME:PST
DTSTART:20241103T090000
END:STANDARD
BEGIN:DAYLIGHT
TZOFFSETFROM:-0800
TZOFFSETTO:-0700
TZNAME:PDT
DTSTART:20250309T100000
END:DAYLIGHT
BEGIN:STANDARD
TZOFFSETFROM:-0700
TZOFFSETTO:-0800
TZNAME:PST
DTSTART:20251102T090000
END:STANDARD
BEGIN:DAYLIGHT
TZOFFSETFROM:-0800
TZOFFSETTO:-0700
TZNAME:PDT
DTSTART:20260308T100000
END:DAYLIGHT
BEGIN:STANDARD
TZOFFSETFROM:-0700
TZOFFSETTO:-0800
TZNAME:PST
DTSTART:20261101T090000
END:STANDARD
END:VTIMEZONE
BEGIN:VEVENT
DTSTART;VALUE=DATE:20250831
DTEND;VALUE=DATE:20250929
DTSTAMP:20260423T132016
CREATED:20250815T172845Z
LAST-MODIFIED:20250815T172845Z
UID:209666-1756598400-1759103999@socalpulse.com
SUMMARY:One Man\, Two Guvnors
DESCRIPTION:A fast-paced\, laugh-out-loud farce set in 1960s Brighton\, England. Francis Henshall is a down-on-his-luck man who finds himself working for two bosses at the same time. Packed with physical comedy\, quick wit\, and a live skiffle band\, this modern take based on Goldoni’s masterpiece Servant of Two Masters is a wildly fun night at the theatre.
URL:https://socalpulse.com/event/one-man-two-guvnors/
LOCATION:A Noise Within\, 3352 E. Foothill Blvd.\, Pasadena\, CA\, 91107\, United States
CATEGORIES:Los Angeles
ATTACH;FMTTYPE=image/jpeg:https://socalpulse.com/wp-content/uploads/2025/08/oneman.jpg
END:VEVENT
BEGIN:VEVENT
DTSTART;VALUE=DATE:20250910
DTEND;VALUE=DATE:20251006
DTSTAMP:20260423T132016
CREATED:20250815T173733Z
LAST-MODIFIED:20250815T173733Z
UID:209674-1757462400-1759708799@socalpulse.com
SUMMARY:Eureka Day
DESCRIPTION:When a mumps outbreak hits a progressive private school in Berkeley\, the well-meaning PTA descends into full-blown chaos trying to create a perfectly inclusive vaccination policy. Spoiler: it does not go well.
URL:https://socalpulse.com/event/eureka-day/
LOCATION:Pasadena Symphony and Pops\, 131 S St. John Avenue\, Pasadena\, CA\, 91105\, United States
CATEGORIES:Los Angeles
ATTACH;FMTTYPE=image/jpeg:https://socalpulse.com/wp-content/uploads/2025/08/Eurek.jpg
END:VEVENT
BEGIN:VEVENT
DTSTART;VALUE=DATE:20250913
DTEND;VALUE=DATE:20251012
DTSTAMP:20260423T132016
CREATED:20250815T175443Z
LAST-MODIFIED:20250815T175443Z
UID:209693-1757721600-1760227199@socalpulse.com
SUMMARY:Million Dollar Quartet
DESCRIPTION:This Tony Award-nominated musical will have you rocking down memory lane with more than 20 chart-topping hits by Elvis Presley\, Johnny Cash\, Jerry Lee Lewis and Carl Perkins.
URL:https://socalpulse.com/event/million-dollar-quartet/
LOCATION:South Coast Repertory\, 655 Town Center Drive\, PO Box 2197\, Costa Mesa\, CA 92628-2197\, Costa Mesa\, CA\, United States
CATEGORIES:Orange County
ATTACH;FMTTYPE=image/jpeg:https://socalpulse.com/wp-content/uploads/2025/08/Million.jpg
END:VEVENT
BEGIN:VEVENT
DTSTART;VALUE=DATE:20250913
DTEND;VALUE=DATE:20251020
DTSTAMP:20260423T132016
CREATED:20250815T174828Z
LAST-MODIFIED:20250815T174828Z
UID:209686-1757721600-1760918399@socalpulse.com
SUMMARY:Huzzah!
DESCRIPTION:Huzzah! Is a world-premiere musical comedy about  two sisters\, one a princess and one who works in insurance who must stop fighting to save their father’s Renaissance Faire from financial ruin.
URL:https://socalpulse.com/event/huzzah/
LOCATION:The Old Globe\, 1363 Old Globe Way\, San Diego\, 92101\, United States
CATEGORIES:San Diego
ATTACH;FMTTYPE=image/jpeg:https://socalpulse.com/wp-content/uploads/2025/08/huzzah.jpg
END:VEVENT
BEGIN:VEVENT
DTSTART;VALUE=DATE:20250919
DTEND;VALUE=DATE:20251013
DTSTAMP:20260423T132016
CREATED:20250815T180216Z
LAST-MODIFIED:20250815T180216Z
UID:209702-1758240000-1760313599@socalpulse.com
SUMMARY:Come From Away
DESCRIPTION:Come From Away is based on the true story of the time when the isolated community of Gander\, Newfoundland\, played host to the world.  What started as an average day in a small town turned into an international sleepover\, when 38 planes\, carrying thousands of people from around the globe\, were diverted to Gander’s airstrip on September 11\, 2001. Undaunted by culture clashes and language barriers\, the people of Gander cheered the stranded travelers with music\, an open bar and the recognition that we’re all part of a global family.
URL:https://socalpulse.com/event/come-from-away/
LOCATION:La Mirada Theatre\, 14900 La Mirada Blvd\, La Mirada\, 90638\, United States
CATEGORIES:Los Angeles
ATTACH;FMTTYPE=image/jpeg:https://socalpulse.com/wp-content/uploads/2025/08/Come.jpg
END:VEVENT
BEGIN:VEVENT
DTSTART;VALUE=DATE:20250920
DTEND;VALUE=DATE:20251005
DTSTAMP:20260423T132016
CREATED:20250815T181427Z
LAST-MODIFIED:20250828T222939Z
UID:209711-1758326400-1759622399@socalpulse.com
SUMMARY:Westside Story
DESCRIPTION:Young love crosses enemy lines in America’s greatest love story. Experience Bernstein’s masterpiece on a scale you’ve never seen before\, with a colossal cast of artists and dancers.
URL:https://socalpulse.com/event/westside-story/
LOCATION:Dorothy Chandler Pavilion\, 135 N Grand Avenue\, Los Angeles\, CA\, 90012\, United States
CATEGORIES:Los Angeles
ATTACH;FMTTYPE=image/jpeg:https://socalpulse.com/wp-content/uploads/2025/08/dd.jpg
END:VEVENT
END:VCALENDAR