BEGIN:VCALENDAR
VERSION:2.0
PRODID:-//SoCalPulse - ECPv6.15.20//NONSGML v1.0//EN
CALSCALE:GREGORIAN
METHOD:PUBLISH
X-WR-CALNAME:SoCalPulse
X-ORIGINAL-URL:https://socalpulse.com
X-WR-CALDESC:Events for SoCalPulse
REFRESH-INTERVAL;VALUE=DURATION:PT1H
X-Robots-Tag:noindex
X-PUBLISHED-TTL:PT1H
BEGIN:VTIMEZONE
TZID:America/Los_Angeles
BEGIN:DAYLIGHT
TZOFFSETFROM:-0800
TZOFFSETTO:-0700
TZNAME:PDT
DTSTART:20240310T100000
END:DAYLIGHT
BEGIN:STANDARD
TZOFFSETFROM:-0700
TZOFFSETTO:-0800
TZNAME:PST
DTSTART:20241103T090000
END:STANDARD
BEGIN:DAYLIGHT
TZOFFSETFROM:-0800
TZOFFSETTO:-0700
TZNAME:PDT
DTSTART:20250309T100000
END:DAYLIGHT
BEGIN:STANDARD
TZOFFSETFROM:-0700
TZOFFSETTO:-0800
TZNAME:PST
DTSTART:20251102T090000
END:STANDARD
BEGIN:DAYLIGHT
TZOFFSETFROM:-0800
TZOFFSETTO:-0700
TZNAME:PDT
DTSTART:20260308T100000
END:DAYLIGHT
BEGIN:STANDARD
TZOFFSETFROM:-0700
TZOFFSETTO:-0800
TZNAME:PST
DTSTART:20261101T090000
END:STANDARD
END:VTIMEZONE
BEGIN:VEVENT
DTSTART;VALUE=DATE:20250819
DTEND;VALUE=DATE:20250922
DTSTAMP:20260423T132010
CREATED:20250815T170952Z
LAST-MODIFIED:20250815T170952Z
UID:209641-1755561600-1758499199@socalpulse.com
SUMMARY:The Heart
DESCRIPTION:Follow one precious heart on its life-saving journey from donor to recipient\, and meet the people whose lives are impacted along the way. This breathtaking new musical is an enlightening\, edge-of-your-seat ride on a powerful wave of emotion.
URL:https://socalpulse.com/event/the-heart/
LOCATION:La Jolla Playhouse\, 2910 La Jolla Village Drive\, La Jolla\, CA\, 92037\, United States
CATEGORIES:San Diego
ATTACH;FMTTYPE=image/jpeg:https://socalpulse.com/wp-content/uploads/2025/08/The-heart.jpg
END:VEVENT
BEGIN:VEVENT
DTSTART;VALUE=DATE:20250831
DTEND;VALUE=DATE:20250929
DTSTAMP:20260423T132010
CREATED:20250815T172845Z
LAST-MODIFIED:20250815T172845Z
UID:209666-1756598400-1759103999@socalpulse.com
SUMMARY:One Man\, Two Guvnors
DESCRIPTION:A fast-paced\, laugh-out-loud farce set in 1960s Brighton\, England. Francis Henshall is a down-on-his-luck man who finds himself working for two bosses at the same time. Packed with physical comedy\, quick wit\, and a live skiffle band\, this modern take based on Goldoni’s masterpiece Servant of Two Masters is a wildly fun night at the theatre.
URL:https://socalpulse.com/event/one-man-two-guvnors/
LOCATION:A Noise Within\, 3352 E. Foothill Blvd.\, Pasadena\, CA\, 91107\, United States
CATEGORIES:Los Angeles
ATTACH;FMTTYPE=image/jpeg:https://socalpulse.com/wp-content/uploads/2025/08/oneman.jpg
END:VEVENT
BEGIN:VEVENT
DTSTART;VALUE=DATE:20250909
DTEND;VALUE=DATE:20250922
DTSTAMP:20260423T132010
CREATED:20250815T173151Z
LAST-MODIFIED:20250815T173209Z
UID:209669-1757376000-1758499199@socalpulse.com
SUMMARY:& Juliet
DESCRIPTION:A hilarious new musical flips the script on the greatest love story ever told. & Juliet asks: what would happen next if Juliet didn’t end it all over Romeo? Get whisked away on a fabulous journey as she ditches her famous ending for a fresh beginning and a second chance at life and love—her way.
URL:https://socalpulse.com/event/juliet-2/
LOCATION:Segerstrom Center for the Arts\, 600 Town Center Drive\, Costa Mesa\, CA\, 92626\, United States
CATEGORIES:Orange County
ATTACH;FMTTYPE=image/jpeg:https://socalpulse.com/wp-content/uploads/2025/08/Untitled-4.jpg
END:VEVENT
BEGIN:VEVENT
DTSTART;VALUE=DATE:20250910
DTEND;VALUE=DATE:20250911
DTSTAMP:20260423T132010
CREATED:20250815T173957Z
LAST-MODIFIED:20250815T173957Z
UID:209677-1757462400-1757548799@socalpulse.com
SUMMARY:An Evening with Chicago
DESCRIPTION:Hailed as one of the “most important bands in music since the dawn of the rock and roll era\,” Chicago continue to be true ambassadors for their beloved hometown\, carrying the city’s name with pride and dignity around the world
URL:https://socalpulse.com/event/an-evening-with-chicago/
LOCATION:The Rady Shell at Jacob Parks\, 222 Marina Park Way\, San Diego\, CA\, 92101\, United States
CATEGORIES:San Diego
ATTACH;FMTTYPE=image/jpeg:https://socalpulse.com/wp-content/uploads/2025/08/Chicago.jpg
END:VEVENT
BEGIN:VEVENT
DTSTART;VALUE=DATE:20250910
DTEND;VALUE=DATE:20251006
DTSTAMP:20260423T132010
CREATED:20250815T173733Z
LAST-MODIFIED:20250815T173733Z
UID:209674-1757462400-1759708799@socalpulse.com
SUMMARY:Eureka Day
DESCRIPTION:When a mumps outbreak hits a progressive private school in Berkeley\, the well-meaning PTA descends into full-blown chaos trying to create a perfectly inclusive vaccination policy. Spoiler: it does not go well.
URL:https://socalpulse.com/event/eureka-day/
LOCATION:Pasadena Symphony and Pops\, 131 S St. John Avenue\, Pasadena\, CA\, 91105\, United States
CATEGORIES:Los Angeles
ATTACH;FMTTYPE=image/jpeg:https://socalpulse.com/wp-content/uploads/2025/08/Eurek.jpg
END:VEVENT
END:VCALENDAR