BEGIN:VCALENDAR
VERSION:2.0
PRODID:-//SoCalPulse - ECPv6.15.20//NONSGML v1.0//EN
CALSCALE:GREGORIAN
METHOD:PUBLISH
X-WR-CALNAME:SoCalPulse
X-ORIGINAL-URL:https://socalpulse.com
X-WR-CALDESC:Events for SoCalPulse
REFRESH-INTERVAL;VALUE=DURATION:PT1H
X-Robots-Tag:noindex
X-PUBLISHED-TTL:PT1H
BEGIN:VTIMEZONE
TZID:America/Los_Angeles
BEGIN:DAYLIGHT
TZOFFSETFROM:-0800
TZOFFSETTO:-0700
TZNAME:PDT
DTSTART:20240310T100000
END:DAYLIGHT
BEGIN:STANDARD
TZOFFSETFROM:-0700
TZOFFSETTO:-0800
TZNAME:PST
DTSTART:20241103T090000
END:STANDARD
BEGIN:DAYLIGHT
TZOFFSETFROM:-0800
TZOFFSETTO:-0700
TZNAME:PDT
DTSTART:20250309T100000
END:DAYLIGHT
BEGIN:STANDARD
TZOFFSETFROM:-0700
TZOFFSETTO:-0800
TZNAME:PST
DTSTART:20251102T090000
END:STANDARD
BEGIN:DAYLIGHT
TZOFFSETFROM:-0800
TZOFFSETTO:-0700
TZNAME:PDT
DTSTART:20260308T100000
END:DAYLIGHT
BEGIN:STANDARD
TZOFFSETFROM:-0700
TZOFFSETTO:-0800
TZNAME:PST
DTSTART:20261101T090000
END:STANDARD
END:VTIMEZONE
BEGIN:VEVENT
DTSTART;VALUE=DATE:20250402
DTEND;VALUE=DATE:20250505
DTSTAMP:20260423T194417
CREATED:20250328T174540Z
LAST-MODIFIED:20250328T174540Z
UID:206931-1743552000-1746403199@socalpulse.com
SUMMARY:Regency Girls
DESCRIPTION:A world premiere musical comedy about Elinor Benton who is pregnant\, unmarried\, and living in 19th-century England. What’s a young woman to do? Facing certain ruin\, she gathers up her best friends and sets off on the ultimate road trip to find the one woman who might offer a chance to change her fate.
URL:https://socalpulse.com/event/regency-girls/
LOCATION:The Old Globe\, 1363 Old Globe Way\, San Diego\, 92101\, United States
CATEGORIES:Los Angeles
ATTACH;FMTTYPE=image/jpeg:https://socalpulse.com/wp-content/uploads/2025/03/Regency.jpg
END:VEVENT
BEGIN:VEVENT
DTSTART;VALUE=DATE:20250405
DTEND;VALUE=DATE:20250504
DTSTAMP:20260423T194417
CREATED:20250328T175935Z
LAST-MODIFIED:20250328T175943Z
UID:206951-1743811200-1746316799@socalpulse.com
SUMMARY:You Are Cordially Invited to the End of the World!
DESCRIPTION:Take your seat for an irreverently funny celebration through the cosmos! Since Greg’s terminal diagnosis\, he’s felt a deep connection to the Earth—and to save himself\, he’ll need to save the planet. Viv desperately wants to savor every last minute with her husband. Meanwhile M\, our emcee\, searches desperately to find meaning in the chaos of their final year with Dad. A heartfelt and joyful theatrical event\, as magical as the world itself.
URL:https://socalpulse.com/event/you-are-cordially-invited-to-the-end-of-the-world/
LOCATION:Segerstrom Center for the Arts\, 600 Town Center Drive\, Costa Mesa\, CA\, 92626\, United States
CATEGORIES:Orange County
ATTACH;FMTTYPE=image/jpeg:https://socalpulse.com/wp-content/uploads/2025/03/Invited-to-th-world.jpg
END:VEVENT
BEGIN:VEVENT
DTSTART;VALUE=DATE:20250416
DTEND;VALUE=DATE:20250520
DTSTAMP:20260423T194417
CREATED:20250408T173638Z
LAST-MODIFIED:20250408T173638Z
UID:207163-1744761600-1747699199@socalpulse.com
SUMMARY:Peril in the Alps
DESCRIPTION:Peril in the Alps is a world premiere Hercule Poirot comic mystery based in part on “Poirot Investigates” by Agatha Christie. The twin sister of Captain Hasting’s wife\, Dulcie\, has been kidnapped – and Hercule Poirot rightly expects not only extortion to follow\, but murder! In this sequel to his wildly popular  Murder on the Links\, Steven Dietz takes us on a thrilling and dangerous trip to the snow-capped Alps\, where the cunning Belgian detective may finally meet his match.
URL:https://socalpulse.com/event/peril-in-the-alps/
LOCATION:North Coast Rep\, 987 Lomas Santa Fe Dr Suite D\, Solana Beach\, CA\, 92075\, United States
CATEGORIES:San Diego
ATTACH;FMTTYPE=image/png:https://socalpulse.com/wp-content/uploads/2025/04/Peril.png
END:VEVENT
BEGIN:VEVENT
DTSTART;VALUE=DATE:20250423
DTEND;VALUE=DATE:20250505
DTSTAMP:20260423T194417
CREATED:20250418T172031Z
LAST-MODIFIED:20250418T172031Z
UID:207430-1745366400-1746403199@socalpulse.com
SUMMARY:Hamilton
DESCRIPTION:Hamilton is the epic saga that follows the rise of Founding Father Alexander Hamilton as he fights for honor\, love\, and a legacy that would shape the course of a nation. Based on Ron Chernow’s acclaimed biography and set to a score that blends hip-hop\, jazz\, R&B\, and Broadway\, Hamilton has had a profound impact on culture\, politics\, and education.
URL:https://socalpulse.com/event/hamilton/
LOCATION:Segerstrom Center for the Arts\, 600 Town Center Drive\, Costa Mesa\, CA\, 92626\, United States
CATEGORIES:Orange County
ATTACH;FMTTYPE=image/jpeg:https://socalpulse.com/wp-content/uploads/2025/04/Hamilton.jpg
END:VEVENT
END:VCALENDAR