BEGIN:VCALENDAR
VERSION:2.0
PRODID:-//SoCalPulse - ECPv6.15.20//NONSGML v1.0//EN
CALSCALE:GREGORIAN
METHOD:PUBLISH
X-WR-CALNAME:SoCalPulse
X-ORIGINAL-URL:https://socalpulse.com
X-WR-CALDESC:Events for SoCalPulse
REFRESH-INTERVAL;VALUE=DURATION:PT1H
X-Robots-Tag:noindex
X-PUBLISHED-TTL:PT1H
BEGIN:VTIMEZONE
TZID:America/Los_Angeles
BEGIN:DAYLIGHT
TZOFFSETFROM:-0800
TZOFFSETTO:-0700
TZNAME:PDT
DTSTART:20240310T100000
END:DAYLIGHT
BEGIN:STANDARD
TZOFFSETFROM:-0700
TZOFFSETTO:-0800
TZNAME:PST
DTSTART:20241103T090000
END:STANDARD
BEGIN:DAYLIGHT
TZOFFSETFROM:-0800
TZOFFSETTO:-0700
TZNAME:PDT
DTSTART:20250309T100000
END:DAYLIGHT
BEGIN:STANDARD
TZOFFSETFROM:-0700
TZOFFSETTO:-0800
TZNAME:PST
DTSTART:20251102T090000
END:STANDARD
BEGIN:DAYLIGHT
TZOFFSETFROM:-0800
TZOFFSETTO:-0700
TZNAME:PDT
DTSTART:20260308T100000
END:DAYLIGHT
BEGIN:STANDARD
TZOFFSETFROM:-0700
TZOFFSETTO:-0800
TZNAME:PST
DTSTART:20261101T090000
END:STANDARD
END:VTIMEZONE
BEGIN:VEVENT
DTSTART;VALUE=DATE:20250129
DTEND;VALUE=DATE:20250310
DTSTAMP:20260423T211745
CREATED:20250121T182057Z
LAST-MODIFIED:20250121T182057Z
UID:205360-1738108800-1741564799@socalpulse.com
SUMMARY:Fake It Until You Make It
DESCRIPTION:A bold world premiere comedy from Los Angeles-based playwright\, Larissa FastHorse\, who focuses her keen sense of satire to examine Native American perspectives on contemporary life.
URL:https://socalpulse.com/event/fake-it-until-you-make-it/
LOCATION:Mark Taper Forum\, 135 N. Grand Avenue\, Los Angeles\, 90012\, United States
CATEGORIES:Los Angeles
ATTACH;FMTTYPE=image/png:https://socalpulse.com/wp-content/uploads/2025/01/Fake-it-Until-you-Make-it.png
END:VEVENT
BEGIN:VEVENT
DTSTART;VALUE=DATE:20250208
DTEND;VALUE=DATE:20250303
DTSTAMP:20260423T211745
CREATED:20250126T055547Z
LAST-MODIFIED:20250126T055547Z
UID:205462-1738972800-1740959999@socalpulse.com
SUMMARY:Empty Ride
DESCRIPTION:A major new American play that first launched in the 2024 Powers New Voices Festival. Kisa\, a painter in Paris\, returns to her small Japanese hometown after the 2011 tsunami to help her ailing father by driving his taxi cab. But as she navigates the winding streets and transports her eccentric passengers\, she is haunted by the supernatural remnants of what the floodwaters left behind.
URL:https://socalpulse.com/event/empty-ride/
LOCATION:The Old Globe\, 1363 Old Globe Way\, San Diego\, 92101\, United States
CATEGORIES:San Diego
ATTACH;FMTTYPE=image/png:https://socalpulse.com/wp-content/uploads/2025/01/The-Old-Globe.png
END:VEVENT
BEGIN:VEVENT
DTSTART;VALUE=DATE:20250208
DTEND;VALUE=DATE:20250310
DTSTAMP:20260423T211745
CREATED:20250126T060135Z
LAST-MODIFIED:20250126T060135Z
UID:205465-1738972800-1741564799@socalpulse.com
SUMMARY:Stephen Sondheim's Old Friends
DESCRIPTION:CTG presents the North American premiere of Old Friends starring Bernadette Peters and Lea Salonga—a theatrical event that is a celebration of the life and work of Stephen Sondheim\, musically staged and directed by Matthew Bourne.
URL:https://socalpulse.com/event/stephen-sondheims-old-friends/
LOCATION:Ahmanson Theatre\, 135 N Grand Ave\, Los Angeles\, CA\, 90012\, United States
CATEGORIES:Los Angeles
ATTACH;FMTTYPE=image/png:https://socalpulse.com/wp-content/uploads/2025/01/CTG-Old-Friends.png
END:VEVENT
BEGIN:VEVENT
DTSTART;VALUE=DATE:20250209
DTEND;VALUE=DATE:20250310
DTSTAMP:20260423T211745
CREATED:20250126T060421Z
LAST-MODIFIED:20250126T060421Z
UID:205468-1739059200-1741564799@socalpulse.com
SUMMARY:William Shakespeare's Macbeth
DESCRIPTION:In the Bard’s grand and gripping tale of murder\, treason\, ambition and greed\, Macbeth and his wife will stop at nothing in their pursuit of wealth and power.
URL:https://socalpulse.com/event/william-shakespeares-macbeth/
LOCATION:A Noise Within\, 3352 E. Foothill Blvd.\, Pasadena\, CA\, 91107\, United States
CATEGORIES:Los Angeles
ATTACH;FMTTYPE=image/png:https://socalpulse.com/wp-content/uploads/2025/01/Macbeth.png
END:VEVENT
BEGIN:VEVENT
DTSTART;VALUE=DATE:20250218
DTEND;VALUE=DATE:20250324
DTSTAMP:20260423T211745
CREATED:20250126T214229Z
LAST-MODIFIED:20250126T214229Z
UID:205514-1739836800-1742774399@socalpulse.com
SUMMARY:3 Summers of Lincoln
DESCRIPTION:It is the summer of 1862 and President Lincoln must find a way to end the Civil War. This new musical tells the inspirational story in our nation’s history. Mandell Weiss Theatre
URL:https://socalpulse.com/event/3-summers-of-lincoln/
LOCATION:La Jolla Playhouse\, 2910 La Jolla Village Drive\, La Jolla\, CA\, 92037\, United States
CATEGORIES:San Diego
ATTACH;FMTTYPE=image/png:https://socalpulse.com/wp-content/uploads/2025/01/3-Summers-of-Lincoln.png
END:VEVENT
BEGIN:VEVENT
DTSTART;VALUE=DATE:20250219
DTEND;VALUE=DATE:20250303
DTSTAMP:20260423T211745
CREATED:20250126T215651Z
LAST-MODIFIED:20250126T215651Z
UID:205521-1739923200-1740959999@socalpulse.com
SUMMARY:Rachmaninoff and the Tsar
DESCRIPTION:Hershey Felder’s newest musical play will feature him in the role of composer and pianist Sergei Rachmaninoff alongside British-Italian actor Jonathan Silvestri in the role of Tsar Nicholas II.
URL:https://socalpulse.com/event/rachmaninoff-and-the-tsar/
LOCATION:Segerstrom Center for the Arts\, 600 Town Center Drive\, Costa Mesa\, CA\, 92626\, United States
CATEGORIES:Orange County
ATTACH;FMTTYPE=image/png:https://socalpulse.com/wp-content/uploads/2025/01/Rachmaninoff-and-The-Tsar.png
END:VEVENT
BEGIN:VEVENT
DTSTART;VALUE=DATE:20250226
DTEND;VALUE=DATE:20250324
DTSTAMP:20260423T211745
CREATED:20250126T223304Z
LAST-MODIFIED:20250126T223304Z
UID:205539-1740528000-1742774399@socalpulse.com
SUMMARY:What the Constitution Means to Me
DESCRIPTION:This emotionally charged theatrical event explores the U.S. Constitution’s significance in contemporary America and the impact is has on individuals and society as a whole. This Tony-nominated and Pulitzer Prize finalist offers a powerful\, humor-filled\, and though-provoking performance.
URL:https://socalpulse.com/event/what-the-constitution-means-to-me/
LOCATION:North Coast Rep\, 987 Lomas Santa Fe Dr Suite D\, Solana Beach\, CA\, 92075\, United States
CATEGORIES:San Diego
ATTACH;FMTTYPE=image/png:https://socalpulse.com/wp-content/uploads/2025/01/What-the-Constitution-Means-to-Me.png
END:VEVENT
BEGIN:VEVENT
DTSTART;VALUE=DATE:20250227
DTEND;VALUE=DATE:20250302
DTSTAMP:20260423T211745
CREATED:20250127T173602Z
LAST-MODIFIED:20250127T173602Z
UID:205545-1740614400-1740873599@socalpulse.com
SUMMARY:Song of the Night
DESCRIPTION:For the first time\, Gustavo Dudamel will lead the LA Phil in Mahler’s Seventh\, “a symphony of everything: from chaos to glory\, sarcasm to tenderness\, from a funeral march to a seductive tango.”
URL:https://socalpulse.com/event/song-of-the-night/
LOCATION:Walt Disney Concert Hall\, 111 S Grand Ave\, Los Angeles\, CA\, 90012\, United States
CATEGORIES:Los Angeles
ATTACH;FMTTYPE=image/png:https://socalpulse.com/wp-content/uploads/2025/01/Dudamel.png
END:VEVENT
BEGIN:VEVENT
DTSTART;TZID=America/Los_Angeles:20250227T080000
DTEND;TZID=America/Los_Angeles:20250301T170000
DTSTAMP:20260423T211745
CREATED:20250127T165808Z
LAST-MODIFIED:20250127T165808Z
UID:205542-1740643200-1740848400@socalpulse.com
SUMMARY:Carmina Burana & Bach
DESCRIPTION:The Grammy Award-winning Pacific Chorale takes centerstage for Carmina Burana\, the most frequently performed choral work of the 21st century.
URL:https://socalpulse.com/event/carmina-burana-bach/
LOCATION:Segerstrom Center for the Arts\, 600 Town Center Drive\, Costa Mesa\, CA\, 92626\, United States
CATEGORIES:Orange County
ATTACH;FMTTYPE=image/png:https://socalpulse.com/wp-content/uploads/2025/01/Carmina.png
END:VEVENT
END:VCALENDAR