BEGIN:VCALENDAR
VERSION:2.0
PRODID:-//SoCalPulse - ECPv6.15.20//NONSGML v1.0//EN
CALSCALE:GREGORIAN
METHOD:PUBLISH
X-WR-CALNAME:SoCalPulse
X-ORIGINAL-URL:https://socalpulse.com
X-WR-CALDESC:Events for SoCalPulse
REFRESH-INTERVAL;VALUE=DURATION:PT1H
X-Robots-Tag:noindex
X-PUBLISHED-TTL:PT1H
BEGIN:VTIMEZONE
TZID:America/Los_Angeles
BEGIN:DAYLIGHT
TZOFFSETFROM:-0800
TZOFFSETTO:-0700
TZNAME:PDT
DTSTART:19690427T100000
END:DAYLIGHT
BEGIN:STANDARD
TZOFFSETFROM:-0700
TZOFFSETTO:-0800
TZNAME:PST
DTSTART:19691026T090000
END:STANDARD
BEGIN:DAYLIGHT
TZOFFSETFROM:-0800
TZOFFSETTO:-0700
TZNAME:PDT
DTSTART:19700426T100000
END:DAYLIGHT
BEGIN:STANDARD
TZOFFSETFROM:-0700
TZOFFSETTO:-0800
TZNAME:PST
DTSTART:19701025T090000
END:STANDARD
BEGIN:DAYLIGHT
TZOFFSETFROM:-0800
TZOFFSETTO:-0700
TZNAME:PDT
DTSTART:19710425T100000
END:DAYLIGHT
BEGIN:STANDARD
TZOFFSETFROM:-0700
TZOFFSETTO:-0800
TZNAME:PST
DTSTART:19711031T090000
END:STANDARD
BEGIN:DAYLIGHT
TZOFFSETFROM:-0800
TZOFFSETTO:-0700
TZNAME:PDT
DTSTART:19720430T100000
END:DAYLIGHT
BEGIN:STANDARD
TZOFFSETFROM:-0700
TZOFFSETTO:-0800
TZNAME:PST
DTSTART:19721029T090000
END:STANDARD
BEGIN:DAYLIGHT
TZOFFSETFROM:-0800
TZOFFSETTO:-0700
TZNAME:PDT
DTSTART:19730429T100000
END:DAYLIGHT
BEGIN:STANDARD
TZOFFSETFROM:-0700
TZOFFSETTO:-0800
TZNAME:PST
DTSTART:19731028T090000
END:STANDARD
BEGIN:DAYLIGHT
TZOFFSETFROM:-0800
TZOFFSETTO:-0700
TZNAME:PDT
DTSTART:19740106T100000
END:DAYLIGHT
BEGIN:STANDARD
TZOFFSETFROM:-0700
TZOFFSETTO:-0800
TZNAME:PST
DTSTART:19741027T090000
END:STANDARD
BEGIN:DAYLIGHT
TZOFFSETFROM:-0800
TZOFFSETTO:-0700
TZNAME:PDT
DTSTART:19750223T100000
END:DAYLIGHT
BEGIN:STANDARD
TZOFFSETFROM:-0700
TZOFFSETTO:-0800
TZNAME:PST
DTSTART:19751026T090000
END:STANDARD
BEGIN:DAYLIGHT
TZOFFSETFROM:-0800
TZOFFSETTO:-0700
TZNAME:PDT
DTSTART:19760425T100000
END:DAYLIGHT
BEGIN:STANDARD
TZOFFSETFROM:-0700
TZOFFSETTO:-0800
TZNAME:PST
DTSTART:19761031T090000
END:STANDARD
BEGIN:DAYLIGHT
TZOFFSETFROM:-0800
TZOFFSETTO:-0700
TZNAME:PDT
DTSTART:19770424T100000
END:DAYLIGHT
BEGIN:STANDARD
TZOFFSETFROM:-0700
TZOFFSETTO:-0800
TZNAME:PST
DTSTART:19771030T090000
END:STANDARD
BEGIN:DAYLIGHT
TZOFFSETFROM:-0800
TZOFFSETTO:-0700
TZNAME:PDT
DTSTART:19780430T100000
END:DAYLIGHT
BEGIN:STANDARD
TZOFFSETFROM:-0700
TZOFFSETTO:-0800
TZNAME:PST
DTSTART:19781029T090000
END:STANDARD
BEGIN:DAYLIGHT
TZOFFSETFROM:-0800
TZOFFSETTO:-0700
TZNAME:PDT
DTSTART:19790429T100000
END:DAYLIGHT
BEGIN:STANDARD
TZOFFSETFROM:-0700
TZOFFSETTO:-0800
TZNAME:PST
DTSTART:19791028T090000
END:STANDARD
BEGIN:DAYLIGHT
TZOFFSETFROM:-0800
TZOFFSETTO:-0700
TZNAME:PDT
DTSTART:19800427T100000
END:DAYLIGHT
BEGIN:STANDARD
TZOFFSETFROM:-0700
TZOFFSETTO:-0800
TZNAME:PST
DTSTART:19801026T090000
END:STANDARD
BEGIN:DAYLIGHT
TZOFFSETFROM:-0800
TZOFFSETTO:-0700
TZNAME:PDT
DTSTART:19810426T100000
END:DAYLIGHT
BEGIN:STANDARD
TZOFFSETFROM:-0700
TZOFFSETTO:-0800
TZNAME:PST
DTSTART:19811025T090000
END:STANDARD
BEGIN:DAYLIGHT
TZOFFSETFROM:-0800
TZOFFSETTO:-0700
TZNAME:PDT
DTSTART:19820425T100000
END:DAYLIGHT
BEGIN:STANDARD
TZOFFSETFROM:-0700
TZOFFSETTO:-0800
TZNAME:PST
DTSTART:19821031T090000
END:STANDARD
BEGIN:DAYLIGHT
TZOFFSETFROM:-0800
TZOFFSETTO:-0700
TZNAME:PDT
DTSTART:19830424T100000
END:DAYLIGHT
BEGIN:STANDARD
TZOFFSETFROM:-0700
TZOFFSETTO:-0800
TZNAME:PST
DTSTART:19831030T090000
END:STANDARD
BEGIN:DAYLIGHT
TZOFFSETFROM:-0800
TZOFFSETTO:-0700
TZNAME:PDT
DTSTART:19840429T100000
END:DAYLIGHT
BEGIN:STANDARD
TZOFFSETFROM:-0700
TZOFFSETTO:-0800
TZNAME:PST
DTSTART:19841028T090000
END:STANDARD
BEGIN:DAYLIGHT
TZOFFSETFROM:-0800
TZOFFSETTO:-0700
TZNAME:PDT
DTSTART:19850428T100000
END:DAYLIGHT
BEGIN:STANDARD
TZOFFSETFROM:-0700
TZOFFSETTO:-0800
TZNAME:PST
DTSTART:19851027T090000
END:STANDARD
BEGIN:DAYLIGHT
TZOFFSETFROM:-0800
TZOFFSETTO:-0700
TZNAME:PDT
DTSTART:19860427T100000
END:DAYLIGHT
BEGIN:STANDARD
TZOFFSETFROM:-0700
TZOFFSETTO:-0800
TZNAME:PST
DTSTART:19861026T090000
END:STANDARD
BEGIN:DAYLIGHT
TZOFFSETFROM:-0800
TZOFFSETTO:-0700
TZNAME:PDT
DTSTART:19870405T100000
END:DAYLIGHT
BEGIN:STANDARD
TZOFFSETFROM:-0700
TZOFFSETTO:-0800
TZNAME:PST
DTSTART:19871025T090000
END:STANDARD
BEGIN:DAYLIGHT
TZOFFSETFROM:-0800
TZOFFSETTO:-0700
TZNAME:PDT
DTSTART:19880403T100000
END:DAYLIGHT
BEGIN:STANDARD
TZOFFSETFROM:-0700
TZOFFSETTO:-0800
TZNAME:PST
DTSTART:19881030T090000
END:STANDARD
BEGIN:DAYLIGHT
TZOFFSETFROM:-0800
TZOFFSETTO:-0700
TZNAME:PDT
DTSTART:19890402T100000
END:DAYLIGHT
BEGIN:STANDARD
TZOFFSETFROM:-0700
TZOFFSETTO:-0800
TZNAME:PST
DTSTART:19891029T090000
END:STANDARD
BEGIN:DAYLIGHT
TZOFFSETFROM:-0800
TZOFFSETTO:-0700
TZNAME:PDT
DTSTART:19900401T100000
END:DAYLIGHT
BEGIN:STANDARD
TZOFFSETFROM:-0700
TZOFFSETTO:-0800
TZNAME:PST
DTSTART:19901028T090000
END:STANDARD
BEGIN:DAYLIGHT
TZOFFSETFROM:-0800
TZOFFSETTO:-0700
TZNAME:PDT
DTSTART:19910407T100000
END:DAYLIGHT
BEGIN:STANDARD
TZOFFSETFROM:-0700
TZOFFSETTO:-0800
TZNAME:PST
DTSTART:19911027T090000
END:STANDARD
BEGIN:DAYLIGHT
TZOFFSETFROM:-0800
TZOFFSETTO:-0700
TZNAME:PDT
DTSTART:19920405T100000
END:DAYLIGHT
BEGIN:STANDARD
TZOFFSETFROM:-0700
TZOFFSETTO:-0800
TZNAME:PST
DTSTART:19921025T090000
END:STANDARD
BEGIN:DAYLIGHT
TZOFFSETFROM:-0800
TZOFFSETTO:-0700
TZNAME:PDT
DTSTART:19930404T100000
END:DAYLIGHT
BEGIN:STANDARD
TZOFFSETFROM:-0700
TZOFFSETTO:-0800
TZNAME:PST
DTSTART:19931031T090000
END:STANDARD
BEGIN:DAYLIGHT
TZOFFSETFROM:-0800
TZOFFSETTO:-0700
TZNAME:PDT
DTSTART:19940403T100000
END:DAYLIGHT
BEGIN:STANDARD
TZOFFSETFROM:-0700
TZOFFSETTO:-0800
TZNAME:PST
DTSTART:19941030T090000
END:STANDARD
BEGIN:DAYLIGHT
TZOFFSETFROM:-0800
TZOFFSETTO:-0700
TZNAME:PDT
DTSTART:19950402T100000
END:DAYLIGHT
BEGIN:STANDARD
TZOFFSETFROM:-0700
TZOFFSETTO:-0800
TZNAME:PST
DTSTART:19951029T090000
END:STANDARD
BEGIN:DAYLIGHT
TZOFFSETFROM:-0800
TZOFFSETTO:-0700
TZNAME:PDT
DTSTART:19960407T100000
END:DAYLIGHT
BEGIN:STANDARD
TZOFFSETFROM:-0700
TZOFFSETTO:-0800
TZNAME:PST
DTSTART:19961027T090000
END:STANDARD
BEGIN:DAYLIGHT
TZOFFSETFROM:-0800
TZOFFSETTO:-0700
TZNAME:PDT
DTSTART:19970406T100000
END:DAYLIGHT
BEGIN:STANDARD
TZOFFSETFROM:-0700
TZOFFSETTO:-0800
TZNAME:PST
DTSTART:19971026T090000
END:STANDARD
BEGIN:DAYLIGHT
TZOFFSETFROM:-0800
TZOFFSETTO:-0700
TZNAME:PDT
DTSTART:19980405T100000
END:DAYLIGHT
BEGIN:STANDARD
TZOFFSETFROM:-0700
TZOFFSETTO:-0800
TZNAME:PST
DTSTART:19981025T090000
END:STANDARD
BEGIN:DAYLIGHT
TZOFFSETFROM:-0800
TZOFFSETTO:-0700
TZNAME:PDT
DTSTART:19990404T100000
END:DAYLIGHT
BEGIN:STANDARD
TZOFFSETFROM:-0700
TZOFFSETTO:-0800
TZNAME:PST
DTSTART:19991031T090000
END:STANDARD
BEGIN:DAYLIGHT
TZOFFSETFROM:-0800
TZOFFSETTO:-0700
TZNAME:PDT
DTSTART:20000402T100000
END:DAYLIGHT
BEGIN:STANDARD
TZOFFSETFROM:-0700
TZOFFSETTO:-0800
TZNAME:PST
DTSTART:20001029T090000
END:STANDARD
BEGIN:DAYLIGHT
TZOFFSETFROM:-0800
TZOFFSETTO:-0700
TZNAME:PDT
DTSTART:20010401T100000
END:DAYLIGHT
BEGIN:STANDARD
TZOFFSETFROM:-0700
TZOFFSETTO:-0800
TZNAME:PST
DTSTART:20011028T090000
END:STANDARD
BEGIN:DAYLIGHT
TZOFFSETFROM:-0800
TZOFFSETTO:-0700
TZNAME:PDT
DTSTART:20020407T100000
END:DAYLIGHT
BEGIN:STANDARD
TZOFFSETFROM:-0700
TZOFFSETTO:-0800
TZNAME:PST
DTSTART:20021027T090000
END:STANDARD
BEGIN:DAYLIGHT
TZOFFSETFROM:-0800
TZOFFSETTO:-0700
TZNAME:PDT
DTSTART:20030406T100000
END:DAYLIGHT
BEGIN:STANDARD
TZOFFSETFROM:-0700
TZOFFSETTO:-0800
TZNAME:PST
DTSTART:20031026T090000
END:STANDARD
BEGIN:DAYLIGHT
TZOFFSETFROM:-0800
TZOFFSETTO:-0700
TZNAME:PDT
DTSTART:20040404T100000
END:DAYLIGHT
BEGIN:STANDARD
TZOFFSETFROM:-0700
TZOFFSETTO:-0800
TZNAME:PST
DTSTART:20041031T090000
END:STANDARD
BEGIN:DAYLIGHT
TZOFFSETFROM:-0800
TZOFFSETTO:-0700
TZNAME:PDT
DTSTART:20050403T100000
END:DAYLIGHT
BEGIN:STANDARD
TZOFFSETFROM:-0700
TZOFFSETTO:-0800
TZNAME:PST
DTSTART:20051030T090000
END:STANDARD
BEGIN:DAYLIGHT
TZOFFSETFROM:-0800
TZOFFSETTO:-0700
TZNAME:PDT
DTSTART:20060402T100000
END:DAYLIGHT
BEGIN:STANDARD
TZOFFSETFROM:-0700
TZOFFSETTO:-0800
TZNAME:PST
DTSTART:20061029T090000
END:STANDARD
BEGIN:DAYLIGHT
TZOFFSETFROM:-0800
TZOFFSETTO:-0700
TZNAME:PDT
DTSTART:20070311T100000
END:DAYLIGHT
BEGIN:STANDARD
TZOFFSETFROM:-0700
TZOFFSETTO:-0800
TZNAME:PST
DTSTART:20071104T090000
END:STANDARD
BEGIN:DAYLIGHT
TZOFFSETFROM:-0800
TZOFFSETTO:-0700
TZNAME:PDT
DTSTART:20080309T100000
END:DAYLIGHT
BEGIN:STANDARD
TZOFFSETFROM:-0700
TZOFFSETTO:-0800
TZNAME:PST
DTSTART:20081102T090000
END:STANDARD
BEGIN:DAYLIGHT
TZOFFSETFROM:-0800
TZOFFSETTO:-0700
TZNAME:PDT
DTSTART:20090308T100000
END:DAYLIGHT
BEGIN:STANDARD
TZOFFSETFROM:-0700
TZOFFSETTO:-0800
TZNAME:PST
DTSTART:20091101T090000
END:STANDARD
BEGIN:DAYLIGHT
TZOFFSETFROM:-0800
TZOFFSETTO:-0700
TZNAME:PDT
DTSTART:20100314T100000
END:DAYLIGHT
BEGIN:STANDARD
TZOFFSETFROM:-0700
TZOFFSETTO:-0800
TZNAME:PST
DTSTART:20101107T090000
END:STANDARD
BEGIN:DAYLIGHT
TZOFFSETFROM:-0800
TZOFFSETTO:-0700
TZNAME:PDT
DTSTART:20110313T100000
END:DAYLIGHT
BEGIN:STANDARD
TZOFFSETFROM:-0700
TZOFFSETTO:-0800
TZNAME:PST
DTSTART:20111106T090000
END:STANDARD
BEGIN:DAYLIGHT
TZOFFSETFROM:-0800
TZOFFSETTO:-0700
TZNAME:PDT
DTSTART:20120311T100000
END:DAYLIGHT
BEGIN:STANDARD
TZOFFSETFROM:-0700
TZOFFSETTO:-0800
TZNAME:PST
DTSTART:20121104T090000
END:STANDARD
BEGIN:DAYLIGHT
TZOFFSETFROM:-0800
TZOFFSETTO:-0700
TZNAME:PDT
DTSTART:20130310T100000
END:DAYLIGHT
BEGIN:STANDARD
TZOFFSETFROM:-0700
TZOFFSETTO:-0800
TZNAME:PST
DTSTART:20131103T090000
END:STANDARD
BEGIN:DAYLIGHT
TZOFFSETFROM:-0800
TZOFFSETTO:-0700
TZNAME:PDT
DTSTART:20140309T100000
END:DAYLIGHT
BEGIN:STANDARD
TZOFFSETFROM:-0700
TZOFFSETTO:-0800
TZNAME:PST
DTSTART:20141102T090000
END:STANDARD
BEGIN:DAYLIGHT
TZOFFSETFROM:-0800
TZOFFSETTO:-0700
TZNAME:PDT
DTSTART:20150308T100000
END:DAYLIGHT
BEGIN:STANDARD
TZOFFSETFROM:-0700
TZOFFSETTO:-0800
TZNAME:PST
DTSTART:20151101T090000
END:STANDARD
BEGIN:DAYLIGHT
TZOFFSETFROM:-0800
TZOFFSETTO:-0700
TZNAME:PDT
DTSTART:20160313T100000
END:DAYLIGHT
BEGIN:STANDARD
TZOFFSETFROM:-0700
TZOFFSETTO:-0800
TZNAME:PST
DTSTART:20161106T090000
END:STANDARD
BEGIN:DAYLIGHT
TZOFFSETFROM:-0800
TZOFFSETTO:-0700
TZNAME:PDT
DTSTART:20170312T100000
END:DAYLIGHT
BEGIN:STANDARD
TZOFFSETFROM:-0700
TZOFFSETTO:-0800
TZNAME:PST
DTSTART:20171105T090000
END:STANDARD
BEGIN:DAYLIGHT
TZOFFSETFROM:-0800
TZOFFSETTO:-0700
TZNAME:PDT
DTSTART:20180311T100000
END:DAYLIGHT
BEGIN:STANDARD
TZOFFSETFROM:-0700
TZOFFSETTO:-0800
TZNAME:PST
DTSTART:20181104T090000
END:STANDARD
BEGIN:DAYLIGHT
TZOFFSETFROM:-0800
TZOFFSETTO:-0700
TZNAME:PDT
DTSTART:20190310T100000
END:DAYLIGHT
BEGIN:STANDARD
TZOFFSETFROM:-0700
TZOFFSETTO:-0800
TZNAME:PST
DTSTART:20191103T090000
END:STANDARD
BEGIN:DAYLIGHT
TZOFFSETFROM:-0800
TZOFFSETTO:-0700
TZNAME:PDT
DTSTART:20200308T100000
END:DAYLIGHT
BEGIN:STANDARD
TZOFFSETFROM:-0700
TZOFFSETTO:-0800
TZNAME:PST
DTSTART:20201101T090000
END:STANDARD
BEGIN:DAYLIGHT
TZOFFSETFROM:-0800
TZOFFSETTO:-0700
TZNAME:PDT
DTSTART:20210314T100000
END:DAYLIGHT
BEGIN:STANDARD
TZOFFSETFROM:-0700
TZOFFSETTO:-0800
TZNAME:PST
DTSTART:20211107T090000
END:STANDARD
BEGIN:DAYLIGHT
TZOFFSETFROM:-0800
TZOFFSETTO:-0700
TZNAME:PDT
DTSTART:20220313T100000
END:DAYLIGHT
BEGIN:STANDARD
TZOFFSETFROM:-0700
TZOFFSETTO:-0800
TZNAME:PST
DTSTART:20221106T090000
END:STANDARD
BEGIN:DAYLIGHT
TZOFFSETFROM:-0800
TZOFFSETTO:-0700
TZNAME:PDT
DTSTART:20230312T100000
END:DAYLIGHT
BEGIN:STANDARD
TZOFFSETFROM:-0700
TZOFFSETTO:-0800
TZNAME:PST
DTSTART:20231105T090000
END:STANDARD
BEGIN:DAYLIGHT
TZOFFSETFROM:-0800
TZOFFSETTO:-0700
TZNAME:PDT
DTSTART:20240310T100000
END:DAYLIGHT
BEGIN:STANDARD
TZOFFSETFROM:-0700
TZOFFSETTO:-0800
TZNAME:PST
DTSTART:20241103T090000
END:STANDARD
BEGIN:DAYLIGHT
TZOFFSETFROM:-0800
TZOFFSETTO:-0700
TZNAME:PDT
DTSTART:20250309T100000
END:DAYLIGHT
BEGIN:STANDARD
TZOFFSETFROM:-0700
TZOFFSETTO:-0800
TZNAME:PST
DTSTART:20251102T090000
END:STANDARD
BEGIN:DAYLIGHT
TZOFFSETFROM:-0800
TZOFFSETTO:-0700
TZNAME:PDT
DTSTART:20260308T100000
END:DAYLIGHT
BEGIN:STANDARD
TZOFFSETFROM:-0700
TZOFFSETTO:-0800
TZNAME:PST
DTSTART:20261101T090000
END:STANDARD
END:VTIMEZONE
BEGIN:VTIMEZONE
TZID:America/Los_Angeles
BEGIN:DAYLIGHT
TZOFFSETFROM:-0800
TZOFFSETTO:-0700
TZNAME:PDT
DTSTART:20230312T100000
END:DAYLIGHT
BEGIN:STANDARD
TZOFFSETFROM:-0700
TZOFFSETTO:-0800
TZNAME:PST
DTSTART:20231105T090000
END:STANDARD
BEGIN:DAYLIGHT
TZOFFSETFROM:-0800
TZOFFSETTO:-0700
TZNAME:PDT
DTSTART:20240310T100000
END:DAYLIGHT
BEGIN:STANDARD
TZOFFSETFROM:-0700
TZOFFSETTO:-0800
TZNAME:PST
DTSTART:20241103T090000
END:STANDARD
BEGIN:DAYLIGHT
TZOFFSETFROM:-0800
TZOFFSETTO:-0700
TZNAME:PDT
DTSTART:20250309T100000
END:DAYLIGHT
BEGIN:STANDARD
TZOFFSETFROM:-0700
TZOFFSETTO:-0800
TZNAME:PST
DTSTART:20251102T090000
END:STANDARD
END:VTIMEZONE
BEGIN:VEVENT
DTSTART;TZID=America/Los_Angeles:20260423T170047
DTEND;TZID=America/Los_Angeles:20250214T213000
DTSTAMP:20260423T170047
CREATED:20250126T063439Z
LAST-MODIFIED:20250126T063439Z
UID:205487-0-1739568600@socalpulse.com
SUMMARY:What the World Needs Now
DESCRIPTION:Rob Fisher\, music director and piano\, is joined by vocalists Ross Lekites and Bianca Marroquin to proclaim what “there’s just too little of…love\, sweet love.”
URL:https://socalpulse.com/event/what-the-world-needs-now/
LOCATION:Jacobs Music Center\, 1245 Seventh Avenue\, San Diego\, California\, 92101
CATEGORIES:San Diego
ATTACH;FMTTYPE=image/png:https://socalpulse.com/wp-content/uploads/2025/01/Valentines-Day-with-SD-Sympphony.png
END:VEVENT
BEGIN:VEVENT
DTSTART;VALUE=DATE:20240209
DTEND;VALUE=DATE:20241209
DTSTAMP:20260423T170047
CREATED:20240130T174112Z
LAST-MODIFIED:20240130T174112Z
UID:197016-1707436800-1733702399@socalpulse.com
SUMMARY:CicLAvia Announces 2024 Schedule
DESCRIPTION:Experience the heart of Los Angeles like never before with CicLAvia’s 2024 line-up of car-free events\, transforming streets into vibrant spaces for walking\, biking\, and play. Their expanded schedule features traditional open-street events spanning 4-7 miles\, alongside two innovative CicLAminis – intimate 1-2 mile routes designed for a leisurely exploration of neighborhood gems. Dive into a world of activities including self-guided walking tours\, scavenger hunts\, street games\, and a rich tapestry of local business and cultural experiences. CicLAvia invites all ages to join in the fun\, fostering community connections and a healthier\, happier Los Angeles. \nWHERE & WHEN: CicLAvia 2024 Schedule (subject to change) \n– February 9: Los Angeles Ale Works hosts CicLAvia Season Launch Party and Fundraiser with re-release of seek-la-VEE-ah\, a signature West Coast India Pale Ale\, @Ivy Station Complex\, Culver City\, during Night Market\, 5pm – 10pm (more details announced soon) \n\n– February 25: CicLAvia—Melrose\, Connecting Fairfax\, Larchmont\, Melrose Hill and East Hollywood\, 9am – 3pm \n  \n– April 21: CicLAvia—Venice Blvd\, Connecting Palms\, Mar Vista and Venice\, presented by Metro\, 9am – 4pm \n  \n– May 19: CicLAmini—Wilmington\, New route\, 10am – 3pm \n  \n– June 23: CicLAvia—South LA\, Connecting communities along Western Ave\, presented by Metro\, 9am – 4pm \n  \n– August 18: CicLAvia—Meet the Hollywoods\, Connecting West Hollywood\, Hollywood and East Hollywood\, presented by Metro\, 9am – 4pm \n  \n– September 15: CicLAmini—Lincoln Heights\, New route\, Time TBD \n  \n– October 13: CicLAvia—Heart of LA\, Connecting Boyle Heights\, Chinatown\, Downtown and Echo Park\, presented by Metro\, 9am – 4pm (annual anchor route & fan favorite) \n \n– December 8: CicLAvia—The Valley\, Connecting NoHo\, Studio City and Sherman Oaks\, 9am – 3pm
URL:https://socalpulse.com/event/ciclavia-announces-2024-schedule/
LOCATION:CA
CATEGORIES:Los Angeles
ATTACH;FMTTYPE=image/jpeg:https://socalpulse.com/wp-content/uploads/2024/01/cic-1.jpg
END:VEVENT
BEGIN:VEVENT
DTSTART;VALUE=DATE:20240901
DTEND;VALUE=DATE:20240930
DTSTAMP:20260423T170047
CREATED:20240903T070934Z
LAST-MODIFIED:20240903T070934Z
UID:202602-1725148800-1727654399@socalpulse.com
SUMMARY:The Skin of Our Teeth
DESCRIPTION:This Pulitzer Prize-winning play by Thornton Wilder is set in 20th century New Jersey and the Ice Age. It is an ambitious\, funny\, wildly unruly story of humankind told through the lives of the Antrobus family using humor\, history and mythology to highlight humanity’s drive to carry on.
URL:https://socalpulse.com/event/the-skin-of-our-teeth/
LOCATION:A Noise Within\, 3352 E. Foothill Blvd.\, Pasadena\, CA\, 91107\, United States
CATEGORIES:Los Angeles
ATTACH;FMTTYPE=image/jpeg:https://socalpulse.com/wp-content/uploads/2024/09/skinofourteeth.jpg
END:VEVENT
BEGIN:VEVENT
DTSTART;VALUE=DATE:20240904
DTEND;VALUE=DATE:20240930
DTSTAMP:20260423T170047
CREATED:20240903T072652Z
LAST-MODIFIED:20240903T072652Z
UID:202605-1725408000-1727654399@socalpulse.com
SUMMARY:Cyrano de Bergerac
DESCRIPTION:One of the greatest plays ever written is radically reborn in this critically acclaimed adaptation of a timeless and heartrending love story.
URL:https://socalpulse.com/event/cyrano-de-bergerac/
LOCATION:Pasadena Playhouse\, 39 S. El Molino Avenue\, Pasadena\, CA\, 91101\, United States
CATEGORIES:Los Angeles
ATTACH;FMTTYPE=image/jpeg:https://socalpulse.com/wp-content/uploads/2024/09/Cyrando.jpg
END:VEVENT
BEGIN:VEVENT
DTSTART;VALUE=DATE:20240907
DTEND;VALUE=DATE:20241014
DTSTAMP:20260423T170047
CREATED:20240903T080230Z
LAST-MODIFIED:20240903T200616Z
UID:202614-1725667200-1728863999@socalpulse.com
SUMMARY:Agatha Christie's Murder on the Orient Express
DESCRIPTION:Tony Award-nominated playwright Ken Ludwig reimagines Agatha Christie’s Orient on the Express. Enter world-famous detective Hercule Poirot\, who must navigate a train full of suspects and solve the murder before the killer strikes again.
URL:https://socalpulse.com/event/agatha-christies-murder-on-the-orient-express/
LOCATION:The Old Globe\, 1363 Old Globe Way\, San Diego\, 92101\, United States
CATEGORIES:San Diego
ATTACH;FMTTYPE=image/jpeg:https://socalpulse.com/wp-content/uploads/2024/09/Agatha.jpg
END:VEVENT
BEGIN:VEVENT
DTSTART;VALUE=DATE:20240911
DTEND;VALUE=DATE:20240923
DTSTAMP:20260423T170047
CREATED:20240903T080648Z
LAST-MODIFIED:20240903T080648Z
UID:202617-1726012800-1727049599@socalpulse.com
SUMMARY:Duel Reality
DESCRIPTION:Duel Reality from The 7 Fingers\, also known as Les 7 doigts de la main\, makes their Center Theatre Group debut\, featuring their signature electrifying—and endearing—mix of circus\, theatre\, illusion\, music\, and dance.
URL:https://socalpulse.com/event/duel-reality-2/
LOCATION:Ahmanson Theatre\, 135 N Grand Ave\, Los Angeles\, CA\, 90012\, United States
CATEGORIES:Los Angeles
ATTACH;FMTTYPE=image/jpeg:https://socalpulse.com/wp-content/uploads/2024/09/duel-reality.jpg
END:VEVENT
BEGIN:VEVENT
DTSTART;VALUE=DATE:20240911
DTEND;VALUE=DATE:20241021
DTSTAMP:20260423T170047
CREATED:20240903T124125Z
LAST-MODIFIED:20240903T124125Z
UID:202623-1726012800-1729468799@socalpulse.com
SUMMARY:Richard O’Brien’s The Rocky Horror Show
DESCRIPTION:A satirical tribute to the science fiction and B-list horror movies of the 20th century\, the show centers around two naïve lovers\, Brad and Janet. Stripped of inhibitions – and their clothes – Brad and Janet embark on a wild\, unforgettable journey of pleasure and self-discovery.
URL:https://socalpulse.com/event/richard-obriens-the-rocky-horror-show/
LOCATION:Cygnet Theatre\, 4040 Twiggs St.\, San Diego\, 92110\, United States
CATEGORIES:San Diego
ATTACH;FMTTYPE=image/jpeg:https://socalpulse.com/wp-content/uploads/2024/09/cygnet.jpg
END:VEVENT
BEGIN:VEVENT
DTSTART;VALUE=DATE:20240913
DTEND;VALUE=DATE:20240930
DTSTAMP:20260423T170047
CREATED:20240903T124557Z
LAST-MODIFIED:20240903T124557Z
UID:202626-1726185600-1727654399@socalpulse.com
SUMMARY:Jersey Boys
DESCRIPTION:Jersey Boys is the international musical phenomenon that takes you behind the scenes – and behind the music – of Frankie Valli and The Four Seasons.
URL:https://socalpulse.com/event/jersey-boys-2/
LOCATION:California Center for the Arts\, Escondido\, 340 N Escondido Blvd\, Escondido\, CA\, 92025\, United States
ATTACH;FMTTYPE=image/jpeg:https://socalpulse.com/wp-content/uploads/2024/09/jersey-boys.jpg
END:VEVENT
BEGIN:VEVENT
DTSTART;TZID=America/Los_Angeles:20240914T080000
DTEND;TZID=America/Los_Angeles:20241110T170000
DTSTAMP:20260423T170047
CREATED:20240903T125052Z
LAST-MODIFIED:20240903T125052Z
UID:202632-1726300800-1731258000@socalpulse.com
SUMMARY:The Importance of Being Earnest
DESCRIPTION:Lamb’s Players Theatre produces Oscar Wilde’s brilliant comic masterpiece about two men who assume the identity of a fictional man named Ernest and the journey\, the love and the challenges they find themselves in along the way.
URL:https://socalpulse.com/event/the-importance-of-being-earnest/
LOCATION:Lamb’s Players Theatre\, 1142 Orange Avenue\, Coronado\, 92118\, United States
CATEGORIES:San Diego
ATTACH;FMTTYPE=image/jpeg:https://socalpulse.com/wp-content/uploads/2024/09/lambs.jpg
END:VEVENT
BEGIN:VEVENT
DTSTART;VALUE=DATE:20240920
DTEND;VALUE=DATE:20241014
DTSTAMP:20260423T170047
CREATED:20240903T195848Z
LAST-MODIFIED:20240903T195848Z
UID:202658-1726790400-1728863999@socalpulse.com
SUMMARY:Waitress
DESCRIPTION:Brought to life on Broadway by a groundbreaking all-female creative team\, Waitress features original music and lyrics by six-time Grammy nominee Sara Bareilles and book by acclaimed screenwriter Jessie Nelson. It is inspired by the beloved film about finding happiness in unexpected places.
URL:https://socalpulse.com/event/waitress/
LOCATION:La Mirada Theatre\, 14900 La Mirada Blvd\, La Mirada\, 90638\, United States
CATEGORIES:Los Angeles
ATTACH;FMTTYPE=image/jpeg:https://socalpulse.com/wp-content/uploads/2024/09/Waitress.jpg
END:VEVENT
BEGIN:VEVENT
DTSTART;VALUE=DATE:20240920
DTEND;VALUE=DATE:20241021
DTSTAMP:20260423T170047
CREATED:20240903T144440Z
LAST-MODIFIED:20240903T144440Z
UID:202655-1726790400-1729468799@socalpulse.com
SUMMARY:Dracula\, A Comedy of Terrors
DESCRIPTION:Famed vampire hunter Jean Van Helsing and her motley crew chase Count Dracula around the English countryside in a madcap race to save his innocent victims
URL:https://socalpulse.com/event/dracula-a-comedy-of-terrors/
LOCATION:The Old Globe\, 1363 Old Globe Way\, San Diego\, 92101\, United States
CATEGORIES:San Diego
ATTACH;FMTTYPE=image/jpeg:https://socalpulse.com/wp-content/uploads/2024/09/dracula.jpg
END:VEVENT
BEGIN:VEVENT
DTSTART;VALUE=DATE:20240921
DTEND;VALUE=DATE:20241014
DTSTAMP:20260423T170047
CREATED:20240903T130004Z
LAST-MODIFIED:20240903T130004Z
UID:202644-1726876800-1728863999@socalpulse.com
SUMMARY:Madame Butterfly
DESCRIPTION:James Conlon opens the 2024/25 season conducting Puccini’s unforgettable classic starring Korean soprano Karah Son as the tragic heroine trying to find her way in a world dominated by men.
URL:https://socalpulse.com/event/madame-butterfly/
LOCATION:Dorothy Chandler Pavilion\, 135 N Grand Avenue\, Los Angeles\, CA\, 90012\, United States
CATEGORIES:Los Angeles
ATTACH;FMTTYPE=image/jpeg:https://socalpulse.com/wp-content/uploads/2024/09/madame.jpg
END:VEVENT
END:VCALENDAR